BEGIN:VCALENDAR
VERSION:2.0
CALSCALE:GREGORIAN
PRODID:adamgibbons/ics
METHOD:PUBLISH
X-PUBLISHED-TTL:PT1H
BEGIN:VEVENT
UID:6113@lapunta.org
SUMMARY:25 Aprile a Santo Spirito - Firenze
DTSTAMP:20260420T125358Z
DTSTART:20260425T130000Z
DTEND:20260425T215500Z
DESCRIPTION:25 APRILE IN PIAZZA SANTO SPIRITO.\nORA E SEMPRE RESISTENZA\n\n
	PROGRAMMA DELLA GIORNATA:\n\nH 15:00 Banchetti e interventi dal palco.\n\n
	H 17:00 Corteo antifascista.\n\nA seguire cena popolare e concerto con:\nL
	a Pazz\nHola\nMoonKler\nExodia\nMoonlight e Magma\nDJ Mars\nDisturbo Resid
	uo\n\nIl 25 aprile è la festa della Liberazione: quel giorno nel 1945 l’It
	alia si\nliberava dal nazifascismo. Ma la liberazione è un processo lungo 
	e complicato\nche non è mai stato portato a termine. Così ottanta anni dop
	o il fascismo cresce\ne si rafforza. Parzialmente\, è già qui. Partiti di 
	estrema destra\, che si\nrichiamano al fascismo\, vincono le elezioni in t
	utto l’Occidente.\nIn Italia è al potere Fratelli d’Italia: il suo legame 
	con il fascismo e con i\nsuoi eredi è innegabile.\nNon è solo una question
	e di legami o di immaginario\, ma anche di politiche e\nscelte concrete: i
	l processo di accentramento dei poteri e l’aumento\nspropositato della rep
	ressione fanno parte di un processo di fascistizzazione\ndello Stato.\nNe 
	fa parte anche la creazione di nemici interni\, necessari per giustificare
	\nmanovre liberticide nel nome della “sicurezza” o come scaricabarile di o
	gni\nproblematica sociale: il responsabile di tutti i problemi non è chi p
	rende le\ndecisioni ma sempre e comunque l’immigrato o altre categorie.\nN
	el mentre Casapound propone la deportazione degli immigrati irregolari o\n
	“non-integrati” e incentivi economici per far partire i regolari.\nNon è u
	n caso che tutto questo accada mentre gli Stati Uniti e i suoi alleati ci\
	nportano alla guerra: basta pensare al genocidio perpetrato da Israele in\
	nPalestina\, all’intervento militare USA in Venezuela\, alla guerra condot
	ta da USA\ne Israele contro Iran e Libano\, o al ventilato intervento mili
	tare statunitense\ncontro Cuba.\nFascismo e guerra vanno sempre a braccett
	o: in uno Stato in guerra non c’è\nopposizione sociale\, non c’è la democr
	azia\, è necessario avere un nemico interno\nsu cui ributtare tutte le res
	ponsabilità.\nOggi sta a noi fermare tutto questo\, come fecero i nostri n
	onni nel ‘45. Contro\nfascismo e guerra la resistenza e la lotta antifasci
	sta sono le uniche risposte\nche possiamo dare.
URL:https://lapunta.org/event/25-aprile-a-santo-spirito-firenze
LOCATION:piazza santo spirito - piazza santo spirito\, Firenze
STATUS:CONFIRMED
CATEGORIES:
X-ALT-DESC;FMTTYPE=text/html:<p>25 APRILE IN PIAZZA SANTO SPIRITO.<br>ORA E
	 SEMPRE RESISTENZA</p><p>PROGRAMMA DELLA GIORNATA:</p><p>H 15:00 Banchetti
	 e interventi dal palco.</p><p>H 17:00 Corteo antifascista.</p><p>A seguir
	e cena popolare e concerto con:<br>La Pazz<br>Hola<br>MoonKler<br>Exodia<b
	r>Moonlight e Magma<br>DJ Mars<br>Disturbo Residuo</p><p>Il 25 aprile è la
	 festa della Liberazione: quel giorno nel 1945 l’Italia si liberava dal na
	zifascismo. Ma la liberazione è un processo lungo e complicato che non è m
	ai stato portato a termine. Così ottanta anni dopo il fascismo cresce e si
	 rafforza. Parzialmente, è già qui. Partiti di estrema destra, che si rich
	iamano al fascismo, vincono le elezioni in tutto l’Occidente.<br>In Italia
	 è al potere Fratelli d’Italia: il suo legame con il fascismo e con i suoi
	 eredi è innegabile.<br>Non è solo una questione di legami o di immaginari
	o, ma anche di politiche e scelte concrete: il processo di accentramento d
	ei poteri e l’aumento spropositato della repressione fanno parte di un pro
	cesso di fascistizzazione dello Stato.<br>Ne fa parte anche la creazione d
	i nemici interni, necessari per giustificare manovre liberticide nel nome 
	della “sicurezza” o come scaricabarile di ogni problematica sociale: il re
	sponsabile di tutti i problemi non è chi prende le decisioni ma sempre e c
	omunque l’immigrato o altre categorie.<br>Nel mentre Casapound propone la 
	deportazione degli immigrati irregolari o “non-integrati” e incentivi econ
	omici per far partire i regolari.<br>Non è un caso che tutto questo accada
	 mentre gli Stati Uniti e i suoi alleati ci portano alla guerra: basta pen
	sare al genocidio perpetrato da Israele in Palestina, all’intervento milit
	are USA in Venezuela, alla guerra condotta da USA e Israele contro Iran e 
	Libano, o al ventilato intervento militare statunitense contro Cuba.<br>Fa
	scismo e guerra vanno sempre a braccetto: in uno Stato in guerra non c’è o
	pposizione sociale, non c’è la democrazia, è necessario avere un nemico in
	terno su cui ributtare tutte le responsabilità.<br>Oggi sta a noi fermare 
	tutto questo, come fecero i nostri nonni nel ‘45. Contro fascismo e guerra
	 la resistenza e la lotta antifascista sono le uniche risposte che possiam
	o dare.</p>
BEGIN:VALARM
ACTION:DISPLAY
DESCRIPTION:25 Aprile a Santo Spirito - Firenze
TRIGGER:-PT1H
END:VALARM
END:VEVENT
END:VCALENDAR
