BEGIN:VCALENDAR
VERSION:2.0
CALSCALE:GREGORIAN
PRODID:adamgibbons/ics
METHOD:PUBLISH
X-PUBLISHED-TTL:PT1H
BEGIN:VEVENT
UID:6124@lapunta.org
SUMMARY:25 aprile Tanucci piazza aperta
DTSTAMP:20260422T140010Z
DTSTART:20260425T070000Z
DTEND:20260425T130000Z
URL:https://lapunta.org/event/25-aprile-tanucci-piazza-aperta
LOCATION:Piazza Tanucci - Piazza Tanucci
STATUS:CONFIRMED
CATEGORIES:
BEGIN:VALARM
ACTION:DISPLAY
DESCRIPTION:25 aprile Tanucci piazza aperta
TRIGGER:-PT1H
END:VALARM
END:VEVENT
END:VCALENDAR
