BEGIN:VCALENDAR
VERSION:2.0
CALSCALE:GREGORIAN
PRODID:adamgibbons/ics
METHOD:PUBLISH
X-PUBLISHED-TTL:PT1H
BEGIN:VEVENT
UID:6110@lapunta.org
SUMMARY:25 Aprile • Valibona
DTSTAMP:20260419T182807Z
DTSTART:20260425T060000Z
DTEND:20260425T120000Z
DESCRIPTION:Come ogni anno\, il 25 Aprile ci troveremo insieme per andare a
	 Valibona.\n\n🔴 Programma:\n\n📍 8:00 Ritrovo al Cantiere Sociale Camilo Ci
	enfuegos (Via Chiella 4\, Campi B.)\n\n📍 9:00 partenza dal tiro al piattel
	lo alle Croci di Calenzano della camminata\nresistente verso Valibona\n\n👉🏻
	 Dalle 11:00 interventi e musica\n\n• Con contributo internazionalista sul
	la resistenza a Cuba\n\n• Musica a cura di Melissa con canzoni folk d'Amor
	e e di Lotta e Musica Bandita\n\na seguire\n\n👉🏻 Deposizione della corona a
	l cippo\n\n👉🏻 pranzo con panini&vino\n\n...e dopo tutti in Santo Spirito co
	n Firenze Antifascista!
URL:https://lapunta.org/event/25-aprile-valibona
LOCATION:Cantiere Sociale Camilo Cienfuegos - Via Chiella\, 4\, 50013 Campi
	 Bisenzio FI
STATUS:CONFIRMED
CATEGORIES:camminata,25 aprile
X-ALT-DESC;FMTTYPE=text/html:<p>Come ogni anno, il 25 Aprile ci troveremo i
	nsieme per andare a Valibona.</p><p>🔴 Programma: </p><p>📍 8:00 Ritrovo al 
	Cantiere Sociale Camilo Cienfuegos (Via Chiella 4, Campi B.) </p><p>📍 9:00
	 partenza dal tiro al piattello alle Croci di Calenzano della camminata re
	sistente verso Valibona</p><p>👉🏻 Dalle 11:00 interventi e musica</p><p>• Co
	n contributo internazionalista sulla resistenza a Cuba</p><p>• Musica a cu
	ra di Melissa con canzoni folk d'Amore e di Lotta e Musica Bandita </p><p>
	a seguire </p><p>👉🏻 Deposizione della corona al cippo</p><p>👉🏻 pranzo con pa
	nini&amp;vino</p><p>...e dopo tutti in Santo Spirito con Firenze Antifasci
	sta!</p>
BEGIN:VALARM
ACTION:DISPLAY
DESCRIPTION:25 Aprile • Valibona
TRIGGER:-PT1H
END:VALARM
END:VEVENT
END:VCALENDAR
