BEGIN:VCALENDAR
VERSION:2.0
CALSCALE:GREGORIAN
PRODID:adamgibbons/ics
METHOD:PUBLISH
X-PUBLISHED-TTL:PT1H
BEGIN:VEVENT
UID:6128@lapunta.org
SUMMARY:cEnA BeNeFiT CaTaNeSe oPeRaZiOnE iPoGeO/NOPONTE
DTSTAMP:20260424T073538Z
DTSTART:20260504T170000Z
DTEND:20260504T220000Z
DESCRIPTION:Tutto il ricavato della cena andrà in benefit per le operazioni
	 “No Ponte” e\n“Ipogeo”.\n\nMenù catanese vegetariano con alternativa vega
	na. Pasta senza glutine su\nrichiesta.\n\nTra settembre e novembre 2025 du
	e operazioni infami hanno colpito compagnx e\nterritori del sud Italia. A 
	settembre tre compagnx sono statx arrestatx in\nmerito ai fatti avvenuti d
	urante un corteo di Marzo a Messina\, in occasione del\nCarnevale No Ponte
	. Andre\, Gui e Bak sono statx rinchiusx in carcere e poi agli\narresti do
	miciliari come misura cautelare. A maggio 2025 un corteo determinato e\nra
	bbioso sfilava per le vie di Catania\, in risposta al Decreto Sicurezza ch
	e\nsancisce sotto forma di legge lo stato di guerra interna in cui ci trov
	iamo.\nAnche stavolta la risposta repressiva non si è fatta attendere: una
	 valanga di\ndenunce\, perquisizioni in diverse case tra Catania\, Palermo
	\, Messina\, Siracusa e\nBari. Due compagnx\, Luigi e Bak sono in carcere 
	con vari capi d’accusa\, tra cui\nspiccano devastazione e saccheggio e rap
	ina.\n\nNessuna forma di resistenza è illegittima\, mobilitiamoci per aiut
	are tutte le\npersone colpite da misure repressive.\n\nPer avere info e ag
	giornamenti:\n\nEpigea.noblogs.org [http://Epigea.noblogs.org]\n\nBrughier
	e.noblogs.org [http://Brughiere.noblogs.org]
URL:https://lapunta.org/event/cena-benefit-catanese-operazione-ipogeonopont
	e
LOCATION:NextEmerson - Via di Bellagio 15\, zona Castello - Firenze
STATUS:CONFIRMED
CATEGORIES:
X-ALT-DESC;FMTTYPE=text/html:<p>Tutto il ricavato della cena andrà in benef
	it per le operazioni “No Ponte” e “Ipogeo”.</p><p>Menù catanese vegetarian
	o con alternativa vegana. Pasta senza glutine su richiesta.</p><p>Tra sett
	embre e novembre 2025 due operazioni infami hanno colpito compagnx e terri
	tori del sud Italia. A settembre tre compagnx sono statx arrestatx in meri
	to ai fatti avvenuti durante un corteo di Marzo a Messina, in occasione de
	l Carnevale No Ponte. Andre, Gui e Bak sono statx rinchiusx in carcere e p
	oi agli arresti domiciliari come misura cautelare. A maggio 2025 un corteo
	 determinato e rabbioso sfilava per le vie di Catania, in risposta al Decr
	eto Sicurezza che sancisce sotto forma di legge lo stato di guerra interna
	 in cui ci troviamo. Anche stavolta la risposta repressiva non si è fatta 
	attendere: una valanga di denunce, perquisizioni in diverse case tra Catan
	ia, Palermo, Messina, Siracusa e Bari. Due compagnx, Luigi e Bak sono in c
	arcere con vari capi d’accusa, tra cui spiccano devastazione e saccheggio 
	e rapina. </p><p>Nessuna forma di resistenza è illegittima, mobilitiamoci 
	per aiutare tutte le persone colpite da misure repressive.</p><p>Per avere
	 info e aggiornamenti:</p><p><a target="_blank" href="http://Epigea.noblog
	s.org">Epigea.noblogs.org</a></p><p><a target="_blank" href="http://Brughi
	ere.noblogs.org">Brughiere.noblogs.org</a></p>
BEGIN:VALARM
ACTION:DISPLAY
DESCRIPTION:cEnA BeNeFiT CaTaNeSe oPeRaZiOnE iPoGeO/NOPONTE
TRIGGER:-PT1H
END:VALARM
END:VEVENT
END:VCALENDAR
