BEGIN:VCALENDAR
VERSION:2.0
CALSCALE:GREGORIAN
PRODID:adamgibbons/ics
METHOD:PUBLISH
X-PUBLISHED-TTL:PT1H
BEGIN:VEVENT
UID:6126@lapunta.org
SUMMARY:Cena di quartiere No ronde
DTSTAMP:20260422T191937Z
DTSTART:20260423T170000Z
DTEND:20260423T213000Z
DESCRIPTION:Domani Futuro Nazionale organizza una camminata di volantinaggi
	o sul tema della\nsicurezza (una vera e propria ronda) attraversando il qu
	artiere: da piazza\nDalmazia al parchetto di via Morandi\, passando vicino
	 al circolo e rientrando\nverso la tramvia\, probabilmente davanti al Camp
	ino.\n\nNoi scegliamo di rispondere in un altro modo: contro ronde e metal
	 detector\,\ncostruiamo comunità. Crediamo in un quartiere vivo\, fatto di
	 relazioni\,\nsocialità e persone che lo abitano davvero.\n\nPer questo ci
	 troviamo al Campino per una cena condivisa\, nello spirito dei\npranzi so
	ciali:\n\n🍝 ognuno porta qualcosa\n\n🕖 dalle 19:00 in poi Un modo semplice
	 ma concreto per esserci\, incontrarsi e\ncostruire un quartiere più vivo 
	e solidale.
URL:https://lapunta.org/event/cena-di-quartiere-no-ronde
LOCATION:circolo "il campino" Firenze Rifredi - Via Caccini -Rifredi Firenz
	e -
STATUS:CONFIRMED
CATEGORIES:
X-ALT-DESC;FMTTYPE=text/html:<p>Domani Futuro Nazionale organizza una cammi
	nata di volantinaggio sul tema della sicurezza (una vera e propria ronda) 
	attraversando il quartiere: da piazza Dalmazia al parchetto di via Morandi
	, passando vicino al circolo e rientrando verso la tramvia, probabilmente 
	davanti al Campino.</p><p>Noi scegliamo di rispondere in un altro modo: co
	ntro ronde e metal detector, costruiamo comunità. Crediamo in un quartiere
	 vivo, fatto di relazioni, socialità e persone che lo abitano davvero.</p>
	<p>Per questo ci troviamo al Campino per una cena condivisa, nello spirito
	 dei pranzi sociali:</p><p>🍝 ognuno porta qualcosa</p><p>🕖 dalle 19:00 in 
	poi    Un modo semplice ma concreto per esserci, incontrarsi e costruire u
	n quartiere più vivo e solidale.</p>
BEGIN:VALARM
ACTION:DISPLAY
DESCRIPTION:Cena di quartiere No ronde
TRIGGER:-PT1H
END:VALARM
END:VEVENT
END:VCALENDAR
