BEGIN:VCALENDAR
VERSION:2.0
CALSCALE:GREGORIAN
PRODID:adamgibbons/ics
METHOD:PUBLISH
X-PUBLISHED-TTL:PT1H
BEGIN:VEVENT
UID:6133@lapunta.org
SUMMARY:LAB FREESTYLE - OPEN MIC HIP HOP SEPARATO
DTSTAMP:20260424T192917Z
DTSTART:20260503T150000Z
DTEND:20260503T220000Z
DESCRIPTION:LAB FREESTYLE + OPEN MIC HIP HOP SETAPARATO\n\nNo microfono a m
	aschi cis\n\n3 maggio in via del leone occupata\n\nH 17 laboratoria di fre
	estyle\n\nA seguire apericena\n\nOpen mic hip hop separato: porta le tue t
	racce da rappare su pennetta usb!\n\nInfine djset hiphop❤️‍🔥🏳️‍⚧️🔪\n\nBy Favolosk
	3
URL:https://lapunta.org/event/lab-freestyle-open-mic-hip-hop-separato
LOCATION:Occupazione via del Leone - Via del Leone 60/62
STATUS:CONFIRMED
CATEGORIES:musica,autogestione,hip hop,Djset,transfemminismo,trans,Favolosk
	3,freestyle,Nomaschicis,Separato,Tfq
X-ALT-DESC;FMTTYPE=text/html:<p>LAB FREESTYLE + OPEN MIC HIP HOP SETAPARATO
	 </p><p>No microfono a maschi cis </p><p>3 maggio in via del leone occupat
	a </p><p>H 17 laboratoria di freestyle </p><p>A seguire apericena</p><p>Op
	en mic hip hop separato: porta le tue tracce da rappare su pennetta usb! <
	/p><p>Infine djset hiphop❤️‍🔥🏳️‍⚧️🔪</p><p>By Favolosk3</p>
BEGIN:VALARM
ACTION:DISPLAY
DESCRIPTION:LAB FREESTYLE - OPEN MIC HIP HOP SEPARATO
TRIGGER:-PT1H
END:VALARM
END:VEVENT
END:VCALENDAR
