BEGIN:VCALENDAR
VERSION:2.0
CALSCALE:GREGORIAN
PRODID:adamgibbons/ics
METHOD:PUBLISH
X-PUBLISHED-TTL:PT1H
BEGIN:VEVENT
UID:6125@lapunta.org
SUMMARY:Neanche un filo derba
DTSTAMP:20260422T191051Z
DTSTART:20260508T160000Z
DTEND:20260508T190000Z
URL:https://lapunta.org/event/neanche-un-filo-derba
LOCATION:centro sociale il pozzo - le piagge Firenze - piazza ilaria alpi e
	 m. hrovatin 2
STATUS:CONFIRMED
CATEGORIES:
BEGIN:VALARM
ACTION:DISPLAY
DESCRIPTION:Neanche un filo derba
TRIGGER:-PT1H
END:VALARM
END:VEVENT
END:VCALENDAR
