BEGIN:VCALENDAR
VERSION:2.0
CALSCALE:GREGORIAN
PRODID:adamgibbons/ics
METHOD:PUBLISH
X-PUBLISHED-TTL:PT1H
BEGIN:VEVENT
UID:6114@lapunta.org
SUMMARY:Presidio contro la guerra
DTSTAMP:20260420T151952Z
DTSTART:20260420T160000Z
DTEND:20260420T180000Z
DESCRIPTION:Presidio contro la guerra e il traffico di armi
URL:https://lapunta.org/event/presidio-contro-la-guerra
LOCATION:Piazza Grande\, Livorno - Piazza Grande\, Livorno
STATUS:CONFIRMED
CATEGORIES:Ex caserma occupata,Azione livorno antifascista
X-ALT-DESC;FMTTYPE=text/html:<p>Presidio contro la guerra e il traffico di 
	armi</p>
BEGIN:VALARM
ACTION:DISPLAY
DESCRIPTION:Presidio contro la guerra
TRIGGER:-PT1H
END:VALARM
END:VEVENT
END:VCALENDAR
