BEGIN:VCALENDAR
VERSION:2.0
CALSCALE:GREGORIAN
PRODID:adamgibbons/ics
METHOD:PUBLISH
X-PUBLISHED-TTL:PT1H
BEGIN:VEVENT
UID:6108@lapunta.org
SUMMARY:Primo Maggio 2026 al Circolo Culturale Anarchico “G. Fiaschi” (Carr
	ara)
DTSTAMP:20260419T182940Z
DTSTART:20260501T070000Z
DTEND:20260501T180000Z
DESCRIPTION:PRIMO MAGGIO 2026\nal Circolo Culturale Anarchico “G. Fiaschi”\
	nvia Ulivi 8/B\, Carrara\n\nIl Primo Maggio ha da tempo perso il carattere
	 di rottura dei tempi andati\, per\nvestirsi della ritualità delle manifes
	tazioni di testimonianza proprie di questi\ntempi moderni. Lo stesso disco
	rso potrebbe farsi per svariati altri nostri\ntradizionali momenti di lott
	a. Eppure l’odierna realtà sociale – tra incessanti\nstragi del lavoro e u
	n crescente clima bellicista in cui l’assuefazione\nall’orrore è a portata
	 di chiunque – necessita oggi come ieri dello scatenamento\ndi quelle catt
	ive passioni di cui parlava Bakunin. Perché solo la forza\npropulsiva e li
	beratrice di un’idea e di una pratica rivoluzionaria coerente può\ndare fi
	lo da torcere ai padroni della guerra e dello sfruttamento.\n\nLa libertà 
	è una qualità che si sperimenta mettendosi a rischio\, scriveva un\ncompag
	no anarchico che per tutta la vita ha unito il pensiero e l’azione.\nUn’os
	servazione vera come una ragione di vita\, una constatazione che vale più 
	di\nmille parole. Lo sa bene Alfredo Cospito\, recluso in 41 bis per aver 
	continuato\na esprimersi senza remore né compromessi\, e per cui a maggio 
	scadranno i primi\nquattro anni di applicazione di quel regime di tortura 
	bianca. Lo sapevano bene\nAlessandro Mercogliano e Sara Ardizzone\n[https:
	//circoloculturaleanarchicofiaschi.noblogs.org/2026/03/21/piu-forti-della-
	morte/]\,\ncompagni anarchici che tutti conoscevamo\, tragicamente morti i
	n azione nel mese\ndi marzo a Roma. Sandro e Sara non hanno mai fatto mist
	ero delle proprie\nconvinzioni anarchiche. A dispetto delle farneticazioni
	 dei pennivendoli\, non\navevano una “doppia vita”. E la loro tenacia si i
	ntrecciava a una dolcezza e a\nuna modestia smisurate.\n\nI signori della 
	nuova inquisizione\, i produttori di morte che traggono profitti\ndalla gu
	erra\, gli stragisti di oggi e di ieri – responsabili di tutte le stragi\n
	di Stato\, di matrice neofascista e in combutta con la NATO – non sono cer
	to\nnella condizione di poter dare lezioni morali agli anarchici. Le forze
	\nrepressive vorrebbero imporre il silenzio sulla vita e sulle scelte di q
	uesti\nnostri compagni anarchici. Ecco perché quest’anno in occasione del 
	Primo Maggio\nintendiamo ricordare Sandro e Sara\, compagni straordinari c
	he avremmo voluto con\nnoi in questa giornata\, e ricordandoli ne difender
	emo la coerenza e l’integrità\nrivoluzionaria avute fino alla fine.\n\nCi 
	vediamo venerdì 1º maggio alle ore 12:30 al Circolo Culturale Anarchico “G
	.\nFiaschi” per un pranzo a buffet. Durante tutta la giornata lo spazio sa
	rà aperto\ncon la distribuzione di libri e pubblicazioni anarchiche e libe
	rtarie.\n\nSito internet: https://circoloculturaleanarchicofiaschi.noblogs
	.org/\n[https://circoloculturaleanarchicofiaschi.noblogs.org/]\nE-mail: ci
	rcolofiaschi@canaglie.org\n\n[Qui il testo:\nhttps://circoloculturaleanarc
	hicofiaschi.noblogs.org/2026/04/16/primo-maggio-2026-al-circolo-culturale-
	anarchico-g-fiaschi/\n[https://circoloculturaleanarchicofiaschi.noblogs.or
	g/2026/04/16/primo-maggio-2026-al-circolo-culturale-anarchico-g-fiaschi/]]
URL:https://lapunta.org/event/primo-maggio-2026-al-circolo-culturale-anarch
	ico-g-fiaschi-carrara
LOCATION:Circolo culturale anarchico "Gogliardo Fiaschi" - Via Ulivi 8/B\, 
	Carrara
STATUS:CONFIRMED
CATEGORIES:Carrara,primo maggio,Circolo Culturale Anarchico “G. Fiaschi” (C
	arrara)
X-ALT-DESC;FMTTYPE=text/html:<p><strong>PRIMO MAGGIO 2026<br>al Circolo Cul
	turale Anarchico “G. Fiaschi”<br>via Ulivi 8/B, Carrara</strong></p><p>Il 
	Primo Maggio ha da tempo perso il carattere di rottura dei <em>tempi andat
	i</em>, per vestirsi della ritualità delle manifestazioni di testimonianza
	 proprie di questi <em>tempi moderni</em>. Lo stesso discorso potrebbe far
	si per svariati altri nostri <em>tradizionali</em> momenti di lotta. Eppur
	e l’odierna realtà sociale – tra incessanti stragi del lavoro e un crescen
	te clima bellicista in cui l’assuefazione all’orrore è a portata di chiunq
	ue – necessita oggi come ieri dello scatenamento di quelle <em>cattive pas
	sioni</em> di cui parlava Bakunin. Perché solo la forza propulsiva e liber
	atrice di un’idea e di una pratica rivoluzionaria coerente può dare filo d
	a torcere ai padroni della guerra e dello sfruttamento.</p><p><em>La liber
	tà è una qualità che si sperimenta mettendosi a rischio</em>, scriveva un 
	compagno anarchico che per tutta la vita ha unito il pensiero e l’azione. 
	Un’osservazione vera come una ragione di vita, una constatazione che vale 
	più di mille parole. Lo sa bene Alfredo Cospito, recluso in 41 bis per ave
	r continuato a esprimersi senza remore né compromessi, e per cui a maggio 
	scadranno i primi quattro anni di applicazione di quel regime di tortura b
	ianca. Lo sapevano bene <a target="_blank" href="https://circoloculturalea
	narchicofiaschi.noblogs.org/2026/03/21/piu-forti-della-morte/">Alessandro 
	Mercogliano e Sara Ardizzone</a>, compagni anarchici che tutti conoscevamo
	, tragicamente morti in azione nel mese di marzo a Roma. Sandro e Sara non
	 hanno mai fatto mistero delle proprie convinzioni anarchiche. A dispetto 
	delle farneticazioni dei pennivendoli, non avevano una “doppia vita”. E la
	 loro tenacia si intrecciava a una dolcezza e a una modestia smisurate.</p
	><p>I signori della nuova inquisizione, i produttori di morte che traggono
	 profitti dalla guerra, gli stragisti di oggi e di ieri – responsabili di 
	tutte le stragi di Stato, di matrice neofascista e in combutta con la NATO
	 – non sono certo nella condizione di poter dare <em>lezioni morali</em> a
	gli anarchici. Le forze repressive vorrebbero imporre il silenzio sulla vi
	ta e sulle scelte di questi nostri compagni anarchici. Ecco perché quest’a
	nno in occasione del Primo Maggio intendiamo ricordare Sandro e Sara, comp
	agni straordinari che avremmo voluto con noi in questa giornata, e ricorda
	ndoli ne difenderemo la coerenza e l’integrità rivoluzionaria avute fino a
	lla fine.</p><p><strong>Ci vediamo venerdì 1º maggio alle ore 12:30 al Cir
	colo Culturale Anarchico “G. Fiaschi” per un pranzo a buffet. Durante tutt
	a la giornata lo spazio sarà aperto con la distribuzione di libri e pubbli
	cazioni anarchiche e libertarie.</strong></p><p>Sito internet: <a target="
	_blank" href="https://circoloculturaleanarchicofiaschi.noblogs.org/"><em>h
	ttps://circoloculturaleanarchicofiaschi.noblogs.org/</em></a><em><br></em>
	E-mail: <em>circolofiaschi@canaglie.org</em></p><p>[<em>Qui il testo: </em
	><a target="_blank" href="https://circoloculturaleanarchicofiaschi.noblogs
	.org/2026/04/16/primo-maggio-2026-al-circolo-culturale-anarchico-g-fiaschi
	/"><em>https://circoloculturaleanarchicofiaschi.noblogs.org/2026/04/16/pri
	mo-maggio-2026-al-circolo-culturale-anarchico-g-fiaschi/</em></a>]</p>
BEGIN:VALARM
ACTION:DISPLAY
DESCRIPTION:Primo Maggio 2026 al Circolo Culturale Anarchico “G. Fiaschi” (
	Carrara)
TRIGGER:-PT1H
END:VALARM
END:VEVENT
END:VCALENDAR
