BEGIN:VCALENDAR
VERSION:2.0
CALSCALE:GREGORIAN
PRODID:adamgibbons/ics
METHOD:PUBLISH
X-PUBLISHED-TTL:PT1H
BEGIN:VEVENT
UID:6121@lapunta.org
SUMMARY:RACCONTI DAL CONFINE
DTSTAMP:20260421T134917Z
DTSTART:20260424T153000Z
DTEND:20260424T190000Z
DESCRIPTION:APERELLO\n\nPRESENTAZIONE e CHIACCHIERATA con il COLLETTIVO ROT
	TE BALCANICHE\, che è un\ncollettivo informale e auto organizzato che ha l
	'obbiettivo di supportare le\npersone in movimento sulle "rotte balcaniche
	"\, con una lotta attiva sul confine\ncontro il regine delle frontiere.\nD
	al 2024 sono stanziati sul confine bulgaro turco\, il primo ingresso in Eu
	ropa\nper chi affronta la rotta. Questa frontiera è diventata il laborator
	io della\nrepressione e della militarizzazione delle frontiere\, dove le p
	ersone migranti\nvengono sistematicamente soggette a push back illegali o 
	detenute senza ragioni\neffettive.\nLa loro presenza sul campo consiste so
	ccorso nelle foreste della frontiera\,\nnella ricerca di persone scomparse
	 e il supporto alle persone detenute nei\ncentri di reimigrazione.\nQuesto
	 incontro è sia per informare di quale sia la situazione in Bulgaria\, sia
	\nper chi è interessato a scendere sul confine nei prossimi mesi\, o anche
	 a\npartecipare al processo politico di lotta contro i confini.
URL:https://lapunta.org/event/racconti-dal-confine
LOCATION:La Polveriera Spazio Comune - Via S. Reparata 12r\, Firenze
STATUS:CONFIRMED
CATEGORIES:presentazione,autoformazione,LaPolverieraSpazioComune
X-ALT-DESC;FMTTYPE=text/html:<p>APERELLO</p><p>PRESENTAZIONE e CHIACCHIERAT
	A con il COLLETTIVO ROTTE BALCANICHE, che è un collettivo informale e auto
	 organizzato che ha l'obbiettivo di supportare le persone in movimento sul
	le "rotte balcaniche", con una lotta attiva sul confine contro il regine d
	elle frontiere.<br>Dal 2024 sono stanziati sul confine bulgaro turco, il p
	rimo ingresso in Europa per chi affronta la rotta. Questa frontiera è dive
	ntata il laboratorio della repressione e della militarizzazione delle fron
	tiere, dove le persone migranti vengono sistematicamente soggette a push b
	ack illegali o detenute senza ragioni effettive.<br>La loro presenza sul c
	ampo consiste soccorso nelle foreste della frontiera, nella ricerca di per
	sone scomparse e il supporto alle persone detenute nei centri di reimigraz
	ione. <br>Questo incontro è sia per informare di quale sia la situazione i
	n Bulgaria, sia per chi è interessato a scendere sul confine nei prossimi 
	mesi, o anche a partecipare al processo politico di lotta contro i confini
	.</p>
BEGIN:VALARM
ACTION:DISPLAY
DESCRIPTION:RACCONTI DAL CONFINE
TRIGGER:-PT1H
END:VALARM
END:VEVENT
END:VCALENDAR
