BEGIN:VCALENDAR
VERSION:2.0
CALSCALE:GREGORIAN
PRODID:adamgibbons/ics
METHOD:PUBLISH
X-PUBLISHED-TTL:PT1H
BEGIN:VEVENT
UID:6120@lapunta.org
SUMMARY:Sounds For Gaza vol. 3: NABAT + Urban Vietcong + La Piena
DTSTAMP:20260424T075140Z
DTSTART:20260502T193000Z
DTEND:20260502T220000Z
DESCRIPTION:SOUNDS FOR GAZA Vol. 3\n\nDa ormai quasi 3 anni\, il genocidio 
	del popolo palestinese non conosce tregua.\nNonostante promesse e menzogne
	 di autolegittimazione da parte del governo\nisraeliano e dei suoi complic
	i\, tra cui quello italiano\, la situazione è sempre\npiù grave: la popola
	zione è allo stremo\, le infrastrutture sono state distrutte\,\ne gli aiut
	i vengono ostacolati mentre continua lo sterminio.\n\nIl popolo di Gaza es
	iste e resiste\, e ha bisogno di tutto il supporto possibile.\nSappiamo di
	 essere solo una piccola goccia nel mare\, ma crediamo che la\nsolidarietà
	 sia un’arma e che non si debba mai smettere di tenere alta\nl’attenzione 
	su ciò che accade ogni giorno in Palestina.\n\nPer questo anche quest’anno
	 torna all’Ex Caserma\, in collaborazione con Toscana\nPunk Rock:\n\nSOUND
	S FOR GAZA Vol. 3\n\nDalle 22:00 – live sul palco:\n\nNABAT – la storia de
	ll’oi! Dal 1979 da Bologna\, una band che ha segnato\ngenerazioni di ribel
	li. Per la prima volta a Livorno!\n\nUrban Vietcong – tornano all’Ex Caser
	ma i local heroes dell’oi! core\n\nLa Piena – da Grosseto\, hardcore e met
	al pronti a scatenarsi dal primo accordo\n\nA seguire: DJ set 100% vinile\
	n\nSerata a sostegno di SOS Gaza\nIngresso a offerta libera\n\nApertura po
	rte: 21:30\nChiusura: 03:00
URL:https://lapunta.org/event/sounds-for-gaza-vol-3-nabat-urban-vietcong-la
	-piena
LOCATION:Ex-Caserma Occupata - via Adriana 16\, Livorno
STATUS:CONFIRMED
CATEGORIES:
X-ALT-DESC;FMTTYPE=text/html:<p>SOUNDS FOR GAZA Vol. 3</p><p>Da ormai quasi
	 3 anni, il genocidio del popolo palestinese non conosce tregua. Nonostant
	e promesse e menzogne di autolegittimazione da parte del governo israelian
	o e dei suoi complici, tra cui quello italiano, la situazione è sempre più
	 grave: la popolazione è allo stremo, le infrastrutture sono state distrut
	te, e gli aiuti vengono ostacolati mentre continua lo sterminio.</p><p>Il 
	popolo di Gaza esiste e resiste, e ha bisogno di tutto il supporto possibi
	le. Sappiamo di essere solo una piccola goccia nel mare, ma crediamo che l
	a solidarietà sia un’arma e che non si debba mai smettere di tenere alta l
	’attenzione su ciò che accade ogni giorno in Palestina.</p><p>Per questo a
	nche quest’anno torna all’Ex Caserma, in collaborazione con Toscana Punk R
	ock:</p><p>SOUNDS FOR GAZA Vol. 3</p><p>Dalle 22:00 – live sul palco:</p><
	p>NABAT – la storia dell’oi! Dal 1979 da Bologna, una band che ha segnato 
	generazioni di ribelli. Per la prima volta a Livorno!</p><p>Urban Vietcong
	 – tornano all’Ex Caserma i local heroes dell’oi! core</p><p>La Piena – da
	 Grosseto, hardcore e metal pronti a scatenarsi dal primo accordo</p><p>A 
	seguire: DJ set 100% vinile</p><p>Serata a sostegno di SOS Gaza<br> Ingres
	so a offerta libera</p><p>Apertura porte: 21:30<br>Chiusura: 03:00</p>
BEGIN:VALARM
ACTION:DISPLAY
DESCRIPTION:Sounds For Gaza vol. 3: NABAT + Urban Vietcong + La Piena
TRIGGER:-PT1H
END:VALARM
END:VEVENT
END:VCALENDAR
