BEGIN:VCALENDAR
VERSION:2.0
CALSCALE:GREGORIAN
PRODID:adamgibbons/ics
METHOD:PUBLISH
X-PUBLISHED-TTL:PT1H
BEGIN:VEVENT
UID:5907@lapunta.org
SUMMARY:Cinetracts - Proiezioni di documentari resistenti
DTSTAMP:20260423T170939Z
DTSTART:20260315T170000Z
DTEND:20260315T220000Z
DESCRIPTION:Cinetracts - Proiezioni di documentari resistenti Terza edizion
	e\n\nIngresso gratuito\n\nProgramma:\n\n\nSABATO 14\n\nh18.00 Selezione co
	rti >> Imillaskate\, A city fight back\, The climbing cholitas\nh 18.30 Ri
	no Della Negra\, calciatore partigiano - regia D. Ceccarini\, M.\nMolinari
	\nh 19.30 In the belly of AI - regia H. Poulain\nh 21.00 Cena benefit\nh 2
	2.00 The encampments - regia M. Pritsker\, K. Workman\n\n\nDOMENICA 15\n\n
	h 18.00 Un pueblo que canta no muere (La marsigliese degli ubriaconi) - re
	gia P.\nGil Rituerto\nh 19.30 43 cassette - regia G. Villa\nh 21.00 Cena b
	enefit\nh 22.00 All eyes on the Amazon - regia M. Marinelli\nh 23.00 Macch
	ina continua - regia R. Gagliardini\n\n> Tutti i documentari sono in itali
	ano o con sottotitoli in italiano\n\n> Trailer su csaexemerson.org [http:/
	/csaexemerson.org]\n\nCene benefit a sostegno di: Nazra Palestine Short Fi
	lm Festival\ninfo Nazra qui https://nazrafilmfestival.com/ [https://nazraf
	ilmfestival.com/]\n\n--------------------------------------------------\n\
	nPerchè Cinetracts\n\nNel maggio 1968 un gruppo di cineasti francesi forma
	 un collettivo per\neffettuare riprese di iniziative\, manifestazioni\, as
	semblee che caratterizzano\nle lotte che avvengono in Francia.\n\nI compon
	enti intendono rimanere rigorosamente anonimi proprio asottolineare\nl'imp
	ortanza del collettivo rispetto alle individualità\, scendono in strada e\
	ncominciano a produrre minimetraggi in bianco e nero di non più di due/tre
	 minuti\nma che testimoniano l'effervescenza delle iniziative di operai e 
	studenti.\n\nIl collettivo e gli stessi filmati hanno un nome: Cinetracts\
	n\nGirati in 16 mm nel maggio e giugno 1968 a cadenza periodica e negli an
	ni\nimmediatamente successivi in maniera molto irregolare\, vengono immedi
	atamente\nproiettati al di fuori del circuito commerciale in fabbriche e u
	niversità\noccupate\, nelle piazze e in alcuni edifici utilizzati por l'oc
	casione.\n\nNon c'è un catalogo esaustivo ma generalmente si ritiene che i
	l numero totale\nsia di 41 che successivamente vengono montati insieme per
	 farne un\nlungometraggio con lo stesso titolo\n\nIn anni ulteriormente su
	ccessivi\, in seguito ad un'intervista a Jean-Luc Godard\nsi viene a saper
	e che Cinetracts nacque da una proposta di Chris Marker e che vi\nhanno pa
	rtecipato\, lo stesso Godard\,Jean-Denis Bonan\, Gérard Fromanger\, Philip
	pe\nGarrel\, Jean-Pierre Gorin\, Jacques Loiseleux\, Chris Marker\, Jackie
	 Raynal e\nAlain Resnais.\n\nQuando abbiamo iniziato a preparare questa ra
	ssegna nel 2024 abbiamo trovato\nnotizie e materiali su Cinetracts. A noi 
	questa cosa del collettivo\ncinematografico e il nome stesso è piaciuta e 
	quando abbiamo pensato di come\nintitolare la rassegna abbiamo deciso di c
	hiamarla Cinetracts. Questa è la terza\nedizione e continuiamo a chiamarla
	 Cinetracts\n\n
URL:https://lapunta.org/event/cinetracts-proiezioni-di-documentari-resisten
	ti-4
LOCATION:Csa Next-Emerson - Via di Bellagio 15
STATUS:CONFIRMED
CATEGORIES:AI,cinema,documentari,proiezioni,resistenza
X-ALT-DESC;FMTTYPE=text/html:<p><strong>Cinetracts</strong> - Proiezioni di
	 documentari resistenti Terza edizione</p><p>Ingresso gratuito</p><p>Progr
	amma:</p><h2>Sabato 14</h2><p>h18.00 Selezione corti &gt;&gt; <strong>Imil
	laskate,</strong> <strong>A city fight back</strong>, T<strong>he climbing
	 cholitas</strong><br>h 18.30 <strong>Rino Della Negra, calciatore partigi
	ano</strong> - regia D. Ceccarini, M. Molinari <br>h 19.30 <strong>In the 
	belly of AI</strong> - regia H. Poulain<br>h 21.00 <strong>Cena benefit</s
	trong><br>h 22.00 <strong>The encampments</strong> - regia M. Pritsker, K.
	 Workman</p><h2>domenica 15</h2><p>h 18.00 <strong>Un pueblo que canta no 
	muere (La marsigliese degli ubriaconi)</strong> - regia P. Gil Rituerto<br
	>h 19.30 <strong>43 cassette</strong> - regia G. Villa<br>h 21.00 <strong>
	Cena benefit</strong><br>h 22.00 <strong>All eyes on the Amazon</strong> -
	 regia M. Marinelli<br>h 23.00 <strong>Macchina continua</strong> - regia 
	R. Gagliardini</p><p>&gt; Tutti i documentari sono in italiano o con sotto
	titoli in italiano</p><p>&gt; Trailer su <a target="_blank" href="http://c
	saexemerson.org">csaexemerson.org</a></p><p>Cene benefit a sostegno di: Na
	zra Palestine Short Film Festival<br>info Nazra qui <a target="_blank" hre
	f="https://nazrafilmfestival.com/">https://nazrafilmfestival.com/</a></p><
	p>--------------------------------------------------</p><p><strong>Perchè 
	Cinetracts</strong></p><p>Nel maggio 1968 un gruppo di cineasti francesi f
	orma un collettivo per effettuare riprese di iniziative, manifestazioni, a
	ssemblee che caratterizzano le lotte che avvengono in Francia.</p><p>I com
	ponenti intendono rimanere rigorosamente anonimi proprio asottolineare l'i
	mportanza del collettivo rispetto alle individualità, scendono in strada e
	 cominciano a produrre minimetraggi in bianco e nero di non più di due/tre
	 minuti ma che testimoniano l'effervescenza delle iniziative di operai e s
	tudenti.</p><p>Il collettivo e gli stessi filmati hanno un nome: <strong>C
	inetracts</strong></p><p>Girati in 16 mm nel maggio e giugno 1968 a cadenz
	a periodica e negli anni immediatamente successivi in maniera molto irrego
	lare, vengono immediatamente proiettati al di fuori del circuito commercia
	le in fabbriche e università occupate, nelle piazze e in alcuni edifici ut
	ilizzati por l'occasione.</p><p>Non c'è un catalogo esaustivo ma generalme
	nte si ritiene che il numero totale sia di 41 che successivamente vengono 
	montati insieme per farne un lungometraggio con lo stesso titolo</p><p>In 
	anni ulteriormente successivi, in seguito ad un'intervista a Jean-Luc Goda
	rd si viene a sapere che Cinetracts nacque da una proposta di Chris Marker
	 e che vi hanno partecipato, lo stesso Godard,Jean-Denis Bonan, Gérard Fro
	manger, Philippe Garrel, Jean-Pierre Gorin, Jacques Loiseleux, Chris Marke
	r, Jackie Raynal e Alain Resnais.</p><p>Quando abbiamo iniziato a preparar
	e questa rassegna nel 2024 abbiamo trovato notizie e materiali su Cinetrac
	ts. A noi questa cosa del collettivo cinematografico e il nome stesso è pi
	aciuta e quando abbiamo pensato di come intitolare la rassegna abbiamo dec
	iso di chiamarla Cinetracts. Questa è la terza edizione e continuiamo a ch
	iamarla Cinetracts</p><p></p>
END:VEVENT
BEGIN:VEVENT
UID:5906@lapunta.org
SUMMARY:Cinetracts - Proiezioni di documentari resistenti
DTSTAMP:20260423T170939Z
DTSTART:20260314T170000Z
DTEND:20260314T223000Z
DESCRIPTION:Cinetracts - Proiezioni di documentari resistenti Terza edizion
	e\n\nIngresso gratuito\n\nProgramma:\n\n\nSABATO 14\n\nh 18.00 Selezione c
	orti >> Imillaskate\, A city fight back\, The climbing cholitas\nh 18.30 R
	ino Della Negra\, calciatore partigiano - regia D. Ceccarini\, M.\nMolinar
	i\nh 19.30 In the belly of AI - regia H. Poulain\nh 21.00 Cena benefit\nh 
	22.00 The encampments - regia M. Pritsker\, K. Workman\n\n\nDOMENICA 15\n\
	nh 18.00 Un pueblo que canta no muere (La marsigliese degli ubriaconi) - r
	egia P.\nGil Rituerto\nh 19.30 43 cassette - regia G. Villa\nh 21.00 Cena 
	benefit\nh 22.00 All eyes on the Amazon - regia M. Marinelli\nh 23.00 Macc
	hina continua - regia R. Gagliardini\n\n> Tutti i documentari sono in ital
	iano o con sottotitoli in italiano\n\n> Trailer su csaexemerson.org [http:
	//csaexemerson.org]\n\nCene benefit a sostegno di: Nazra Palestine Short F
	ilm Festival\ninfo Nazra qui https://nazrafilmfestival.com/ [https://nazra
	filmfestival.com/]\n\n--------------------------------------------------\n
	\nPerchè Cinetracts\n\nNel maggio 1968 un gruppo di cineasti francesi form
	a un collettivo per\neffettuare riprese di iniziative\, manifestazioni\, a
	ssemblee che caratterizzano\nle lotte che avvengono in Francia.\n\nI compo
	nenti intendono rimanere rigorosamente anonimi proprio asottolineare\nl'im
	portanza del collettivo rispetto alle individualità\, scendono in strada e
	\ncominciano a produrre minimetraggi in bianco e nero di non più di due/tr
	e minuti\nma che testimoniano l'effervescenza delle iniziative di operai e
	 studenti.\n\nIl collettivo e gli stessi filmati hanno un nome: Cinetracts
	\n\nGirati in 16 mm nel maggio e giugno 1968 a cadenza periodica e negli a
	nni\nimmediatamente successivi in maniera molto irregolare\, vengono immed
	iatamente\nproiettati al di fuori del circuito commerciale in fabbriche e 
	università\noccupate\, nelle piazze e in alcuni edifici utilizzati por l'o
	ccasione.\n\nNon c'è un catalogo esaustivo ma generalmente si ritiene che 
	il numero totale\nsia di 41 che successivamente vengono montati insieme pe
	r farne un\nlungometraggio con lo stesso titolo\n\nIn anni ulteriormente s
	uccessivi\, in seguito ad un'intervista a Jean-Luc Godard\nsi viene a sape
	re che Cinetracts nacque da una proposta di Chris Marker e che vi\nhanno p
	artecipato\, lo stesso Godard\,Jean-Denis Bonan\, Gérard Fromanger\, Phili
	ppe\nGarrel\, Jean-Pierre Gorin\, Jacques Loiseleux\, Chris Marker\, Jacki
	e Raynal e\nAlain Resnais.\n\nQuando abbiamo iniziato a preparare questa r
	assegna nel 2024 abbiamo trovato\nnotizie e materiali su Cinetracts. A noi
	 questa cosa del collettivo\ncinematografico e il nome stesso è piaciuta e
	 quando abbiamo pensato di come\nintitolare la rassegna abbiamo deciso di 
	chiamarla Cinetracts. Questa è la terza\nedizione e continuiamo a chiamarl
	a Cinetracts\n\n\n\n
URL:https://lapunta.org/event/cinetracts-proiezioni-di-documentari-resisten
	ti-3
LOCATION:Csa Next-Emerson - Via di Bellagio 15
STATUS:CONFIRMED
CATEGORIES:AI,cinema,documentari,proiezioni,resistenza
X-ALT-DESC;FMTTYPE=text/html:<p><strong>Cinetracts</strong> - Proiezioni di
	 documentari resistenti Terza edizione</p><p>Ingresso gratuito</p><p>Progr
	amma:</p><h2>Sabato 14</h2><p>h 18.00 Selezione corti &gt;&gt; <strong>Imi
	llaskate,</strong> <strong>A city fight back</strong>, T<strong>he climbin
	g cholitas</strong><br>h 18.30 <strong>Rino Della Negra, calciatore partig
	iano</strong> - regia D. Ceccarini, M. Molinari <br>h 19.30 <strong>In the
	 belly of AI</strong> - regia H. Poulain<br>h 21.00 <strong>Cena benefit</
	strong><br>h 22.00 <strong>The encampments</strong> - regia M. Pritsker, K
	. Workman</p><h2>domenica 15</h2><p>h 18.00 <strong>Un pueblo que canta no
	 muere (La marsigliese degli ubriaconi)</strong> - regia P. Gil Rituerto<b
	r>h 19.30 <strong>43 cassette</strong> - regia G. Villa<br>h 21.00 <strong
	>Cena benefit</strong><br>h 22.00 <strong>All eyes on the Amazon</strong> 
	- regia M. Marinelli<br>h 23.00 <strong>Macchina continua</strong> - regia
	 R. Gagliardini</p><p>&gt; Tutti i documentari sono in italiano o con sott
	otitoli in italiano</p><p>&gt; Trailer su <a target="_blank" href="http://
	csaexemerson.org">csaexemerson.org</a></p><p>Cene benefit a sostegno di: N
	azra Palestine Short Film Festival<br>info Nazra qui <a target="_blank" hr
	ef="https://nazrafilmfestival.com/">https://nazrafilmfestival.com/</a></p>
	<p>--------------------------------------------------</p><p><strong>Perchè
	 Cinetracts</strong></p><p>Nel maggio 1968 un gruppo di cineasti francesi 
	forma un collettivo per effettuare riprese di iniziative, manifestazioni, 
	assemblee che caratterizzano le lotte che avvengono in Francia.</p><p>I co
	mponenti intendono rimanere rigorosamente anonimi proprio asottolineare l'
	importanza del collettivo rispetto alle individualità, scendono in strada 
	e cominciano a produrre minimetraggi in bianco e nero di non più di due/tr
	e minuti ma che testimoniano l'effervescenza delle iniziative di operai e 
	studenti.</p><p>Il collettivo e gli stessi filmati hanno un nome: <strong>
	Cinetracts</strong></p><p>Girati in 16 mm nel maggio e giugno 1968 a caden
	za periodica e negli anni immediatamente successivi in maniera molto irreg
	olare, vengono immediatamente proiettati al di fuori del circuito commerci
	ale in fabbriche e università occupate, nelle piazze e in alcuni edifici u
	tilizzati por l'occasione.</p><p>Non c'è un catalogo esaustivo ma generalm
	ente si ritiene che il numero totale sia di 41 che successivamente vengono
	 montati insieme per farne un lungometraggio con lo stesso titolo</p><p>In
	 anni ulteriormente successivi, in seguito ad un'intervista a Jean-Luc God
	ard si viene a sapere che Cinetracts nacque da una proposta di Chris Marke
	r e che vi hanno partecipato, lo stesso Godard,Jean-Denis Bonan, Gérard Fr
	omanger, Philippe Garrel, Jean-Pierre Gorin, Jacques Loiseleux, Chris Mark
	er, Jackie Raynal e Alain Resnais.</p><p>Quando abbiamo iniziato a prepara
	re questa rassegna nel 2024 abbiamo trovato notizie e materiali su Cinetra
	cts. A noi questa cosa del collettivo cinematografico e il nome stesso è p
	iaciuta e quando abbiamo pensato di come intitolare la rassegna abbiamo de
	ciso di chiamarla Cinetracts. Questa è la terza edizione e continuiamo a c
	hiamarla Cinetracts</p><p></p><p></p>
END:VEVENT
END:VCALENDAR
