BEGIN:VCALENDAR
VERSION:2.0
CALSCALE:GREGORIAN
PRODID:adamgibbons/ics
METHOD:PUBLISH
X-PUBLISHED-TTL:PT1H
BEGIN:VEVENT
UID:3354@lapunta.org
SUMMARY:GRAND HOTEL CORONDA - Presentazione del libro
DTSTAMP:20260421T081813Z
DTSTART:20240206T173000Z
DESCRIPTION:Presentazione del libro con Sergio Ferrari\, ex prigioniero pol
	itico di Coronda e\ncoautore del libro
URL:https://lapunta.org/event/grand-hotel-coronda-presentazione-del-libro
LOCATION:Spazio Antagonista Newroz - via Garibaldi 72\, Pisa
STATUS:CONFIRMED
CATEGORIES:Argentina,Pisa,prigionieri politici
X-ALT-DESC;FMTTYPE=text/html:<p>Presentazione del libro con Sergio Ferrari,
	 ex prigioniero politico di Coronda e coautore del libro</p>
END:VEVENT
END:VCALENDAR
