BEGIN:VCALENDAR
VERSION:2.0
CALSCALE:GREGORIAN
PRODID:adamgibbons/ics
METHOD:PUBLISH
X-PUBLISHED-TTL:PT1H
BEGIN:VEVENT
UID:5170@lapunta.org
SUMMARY:LA KAMPEGGIA DI RESISTENZA
DTSTAMP:20260424T080745Z
DTSTART:20250813T120000Z
DTEND:20250815T210000Z
DESCRIPTION:✊ LA KAMPEGGIA DI RESISTENZA\n\n🏔️ 13-15 AGOSTO 2025\n\nFonte Ce
	rbareccia\, Pratomagno\n\n\n\n🌿 3 giorni resistenti\, autogestiti\, insubo
	rdinati per difendere la montagna! 3\ngiorni per imparare insieme\, intrec
	ciare esperienze radicali in un'unica lotta\nal capitalismo che avanza\n\n
	\n\n🚫 DICIAMO NO all'asfaltatura della strada di crinale\n\n🌱 Impariamo da
	lla montagna come vivere nei suoi ritmi\n\n\n\n⏰ PROGRAMMA:\n\n• MERCOLEDÌ
	 13: Arrivo\, giornata dedicata all'allestimento delle aree comuni.\n\n• G
	IOVEDÌ 14: Assemblea sulla militarizzazione e sfruttamento del territorio 
	e\ndibattito sui nuovi OGM con Genuino Clandestino. Dopo cena jam session\
	n\n• VENERDÌ 15: Camminata No Asfalto in strada e ritorno dal crinale. Cib
	o gestito\nda Agripunk con assemblea di supporto al rifugio\, a seguire di
	battito sul\nPratomagno e restituzione delle 3 giornate\n\n\n\n🍃 Tutto aut
	ogestito: colazione\, pranzo e cena condivisi\n\n🎸 Porta: cibo\, strumenti
	 musicali\, talenti\, artigianato\, prodotti popolari per\ncondividere\n\n
	\n\nℹ️ Hai bisogno di info? Scrivici!\n\nCi vediamo su!
URL:https://lapunta.org/event/la-kampeggia-di-resistenza
LOCATION:Pratomagno - Fonte Cerbareccia
STATUS:CONFIRMED
CATEGORIES:Campeggio,autogestione,montagna
X-ALT-DESC;FMTTYPE=text/html:<p>✊ LA KAMPEGGIA DI RESISTENZA </p><p>🏔️ 13-15
	 AGOSTO 2025</p><p>Fonte Cerbareccia, Pratomagno</p><p></p><p>🌿 3 giorni r
	esistenti, autogestiti, insubordinati per difendere la montagna! 3 giorni 
	per imparare insieme, intrecciare esperienze radicali in un'unica lotta al
	 capitalismo che avanza</p><p></p><p>🚫 DICIAMO NO all'asfaltatura della st
	rada di crinale</p><p>🌱 Impariamo dalla montagna come vivere nei suoi ritm
	i</p><p></p><p>⏰ PROGRAMMA:</p><p>• MERCOLEDÌ 13: Arrivo, giornata dedicat
	a all'allestimento delle aree comuni. </p><p>• GIOVEDÌ 14:  Assemblea sull
	a militarizzazione e sfruttamento del territorio e dibattito sui nuovi OGM
	 con Genuino Clandestino. Dopo cena jam session</p><p>• VENERDÌ 15: Cammin
	ata No Asfalto in strada e ritorno dal crinale. Cibo gestito da Agripunk c
	on assemblea di supporto al rifugio, a seguire dibattito sul Pratomagno e 
	restituzione delle 3 giornate</p><p></p><p>🍃 Tutto autogestito: colazione,
	 pranzo e cena condivisi</p><p>🎸 Porta: cibo, strumenti musicali, talenti,
	 artigianato, prodotti popolari per condividere</p><p></p><p>ℹ️ Hai bisogno
	 di info? Scrivici! </p><p>Ci vediamo su!</p>
END:VEVENT
END:VCALENDAR
