BEGIN:VCALENDAR
VERSION:2.0
CALSCALE:GREGORIAN
PRODID:adamgibbons/ics
METHOD:PUBLISH
X-PUBLISHED-TTL:PT1H
BEGIN:VEVENT
UID:4694@lapunta.org
SUMMARY:🇵🇸 Gaza Calling: docufilm Dritti Contro il cielo il Lebowski a Shati
	la
DTSTAMP:20260420T103928Z
DTSTART:20250329T150000Z
DTEND:20250330T010000Z
DESCRIPTION:🇵🇸 Sabato 29 marzo / Csa  Intifada / Gaza Calling feat Palestre 
	Popolari\n\nSerata  benefit all'insegna dello sport popolare con la presen
	tazione Docu-film\nsull'esperienza vissuta nel maggio 2023 dal Centro Stor
	ico Lebowski e da Un\nPonte Per\, con il Palestinian Youth Club nel campo 
	profughi di Shatila\, a\nBeriut.\n\nProgramma:\n\nOre 16.00 Allenamento co
	ndiviso delle Palestre popolari nel giardino del Csa\nIntifada\, con music
	a.\n\nOre 21.15 Talk e Proiezione del documentario Dritti Contro il Cielo\
	, uno\nstorytelling dell’esperienza fatta a Shatila attraverso le immagini
	 del regista\nNiccolò Falsetti.\n\nA seguire Talk con:\n\nNiccolò Falsetti
	 regista del docufilm\n\nRappresentant3 del Centro Storico Lebowski\n\nRen
	zo Ulivieri Presidente Associazione Italiana Allenatori Calcio.\n\nBianca 
	Farsetti Un Ponte Per.\n\nOre 23.00 Concerto\n\ncon Over Head + Causa Band
	\n\nGià dal pomeriggio:  Bar Aperto/ StreetFood a cura della cucina  OtroM
	undo con\nspecialità palestinesi\n\n                   \nhttps://www.insta
	gram.com/p/DHQpMXqto1N/?igsh=MXJicm5nejl5dGJibw==\n[https://www.instagram.
	com/p/DHQpMXqto1N/?igsh=MXJicm5nejl5dGJibw==]
URL:https://lapunta.org/event/gaza-calling-docufilm-dritti-contro-il-cielo-
	il-lebowski-a-shatila
LOCATION:CSA Intifada - Via XXV Aprile\, Ponte a Elsa
STATUS:CONFIRMED
CATEGORIES:Csa Intifada,Empoli,Eventi,Gaza Calling,Lebowski,🇵🇸 PALESTINA
X-ALT-DESC;FMTTYPE=text/html:<p>🇵🇸 Sabato 29 marzo / Csa&nbsp; Intifada / Ga
	za Calling feat Palestre Popolari</p><p>Serata&nbsp; benefit all'insegna d
	ello sport popolare con la presentazione Docu-film sull'esperienza vissuta
	 nel maggio 2023 dal Centro Storico Lebowski e da Un Ponte Per, con il Pal
	estinian Youth Club nel campo profughi di Shatila, a Beriut.</p><p>Program
	ma:</p><p>Ore 16.00 Allenamento condiviso delle Palestre popolari nel giar
	dino del Csa Intifada, con musica.</p><p>Ore 21.15 Talk e Proiezione del d
	ocumentario Dritti Contro il Cielo, uno storytelling dell’esperienza fatta
	 a Shatila attraverso le immagini del regista Niccolò Falsetti.</p><p>A se
	guire Talk con:</p><p>Niccolò Falsetti regista del docufilm</p><p>Rapprese
	ntant3 del Centro Storico Lebowski</p><p>Renzo Ulivieri Presidente Associa
	zione Italiana Allenatori Calcio.</p><p>Bianca Farsetti Un Ponte Per.</p><
	p>Ore 23.00 Concerto </p><p>con Over Head + Causa Band </p><p>Già dal pome
	riggio:&nbsp; Bar Aperto/ StreetFood a cura della cucina&nbsp; OtroMundo c
	on specialità palestinesi</p><p>&nbsp;&nbsp;&nbsp;&nbsp;&nbsp;&nbsp;&nbsp;
	&nbsp;&nbsp;&nbsp;&nbsp;&nbsp;&nbsp;&nbsp;&nbsp;&nbsp;&nbsp;&nbsp;&nbsp; <
	a target="_blank" href="https://www.instagram.com/p/DHQpMXqto1N/?igsh=MXJi
	cm5nejl5dGJibw==">https://www.instagram.com/p/DHQpMXqto1N/?igsh=MXJicm5nej
	l5dGJibw==</a></p>
END:VEVENT
BEGIN:VEVENT
UID:4706@lapunta.org
SUMMARY:Cinetracts - Proiezioni di documentari resistenti
DTSTAMP:20260420T103928Z
DTSTART:20250323T170000Z
DTEND:20250323T225500Z
DESCRIPTION:Cinetracts - Proiezioni di documentari resistenti\n\nIngresso g
	ratuito\n\nDalle 18.00 alle 23.00 due giorni di proiezioni con presenza di
	 alcuni autori e\ncene benefit\n\n\n\nProgramma:\n\n\nSABATO 22\n\n\n\nh 1
	8.00 Arturo González Villaseñor - Llévate mis amores\n\ntrailer https://vi
	meo.com/58814535 [https://vimeo.com/58814535]\n\nh 19.30 Pascal Bernhardt 
	- Romagna tropicale\n\ntrailer https://www.youtube.com/watch?v=aL5UDlxDBRA
	\n[https://www.youtube.com/watch?v=aL5UDlxDBRA]\n\nh 21.00 Cena benefit\n\
	nh 22.00 Mati Diop - Dahomey\n\ntrailer https://www.mymovies.it/film/2024/
	dahomey/trailer/\n[https://www.mymovies.it/film/2024/dahomey/trailer/]\n\n
	h 23.00 Selezione musicale afrobeat afrofunk\n\n--------------------------
	--------------------------------------------------------------------------
	----\n\n\nDOMENICA 23\n\n\n\nh 18.00 Francesco De Augustinis - Until the e
	nd of the world\n\ntrailer https://www.mymovies.it/film/2024/until-the-end
	-of-the-world/trailer/\n[https://www.mymovies.it/film/2024/until-the-end-o
	f-the-world/trailer/]\n\nh 19.30 Niccolò Falsetti - Dritti contro il cielo
	\n\ninfo\nhttps://www.cinemaitaliano.info/news/81297/dritti-contro-il-ciel
	o-col-pallone-tra-i.html\n[https://www.cinemaitaliano.info/news/81297/drit
	ti-contro-il-cielo-col-pallone-tra-i.html]\n\ncon presenza dei protagonist
	i del gemellaggio C.S. Lebowski e la squadra di\ncalcio del campo profughi
	 di Chatila\n\nh 21.00 Cena benefit\n\nh 22.00 Nazra - Palestine short fil
	m festival\n\ninfo https://nazrafilmfestival.com/ [https://nazrafilmfestiv
	al.com/]\n\nSelezione di corti documentari proiettati nelle ultime edizion
	i\n\nMahasen Nasser El-Din - The silent protest: 1929 Jerusalem - 20'\n\nT
	im Webster\, Ernesto Cabellos - Until the last drop - 20'\n\nForget - Gaza
	\, one football\, one legs - 20'\n\n\n\n----------------------------------
	-------------------------------------------------------------------------\
	n\nPerchè Cinetracts\n\nNel maggio 1968 un gruppo di cineasti francesi for
	ma un collettivo per\n\neﬀettuare riprese di iniziative\, manifestazioni\,
	 assemblee che cartterizzano\n\nle lotte che avvengono in Francia.\n\nI co
	mponenti intendono rimanere rigorosamente anonimi proprio a\n\nsottolinear
	e l'importanza del collettivo rispetto alle individualità\,\n\nscendono in
	 strada e cominciano a produrre minimetraggi in bianco e\n\nnero di non pi
	ù di due/tre minuti ma che testimoniano l'eﬀervescenza\n\ndelle iniziative
	 di operai e studenti.\n\nIl collettvo e gli stessi ﬁlmati hanno un nome: 
	Cinetracts\n\nGirati in 16 mm nel maggio e giugno 1968 a cadenza periodica
	 e negli\n\nanni immediatamente successivi in maniera molto irregolare\, v
	engono\n\nimmediatamente proiettati al di fuori del circuito commerciale i
	n\n\nfabbriche e università occupate\, nelle piazze e in alcuni ediﬁci uti
	lizzati\n\nper l'occasione.\n\nNon c'è un catalogo esaustivo ma generalmen
	te si ritiene che il numero\n\ntotale sia di 41 che successivamente vengon
	o montati insieme per farne\n\nun lungometraggio con lo stesso titolo.\n\n
	In anni ulteriormente successivi\, in seguito ad un'intervista a Jean-Luc\
	n\nGodard si viene a sapere che Cinetracts nacque da una proposta di Chris
	\n\nMarker e che vi hanno partecipato\, lo stesso Godard\,Jean-Denis Bonan
	\,\n\nGérard Fromanger\, Philippe Garrel\, Jean-Pierre Gorin\, Jacques Loi
	seleux\,\n\nChris Marker\, Jackie Raynal e Alain Resnais.\n\nQuando abbiam
	o iniziato a preparare queste rassegne abbiamo trovato\n\nnotizie e materi
	ali su Cinetracts. A noi questa cosa del collettivo\n\ncinematograﬁco e il
	 nome stesso è piaciuta e quando abbiamo pensato\n\ndi come intitolare la 
	rassegna abbiamo deciso di chiamarla Cinetracts.
URL:https://lapunta.org/event/cinetracts-proiezioni-di-documentari-resisten
	ti-2
LOCATION:Csa Next-Emerson - Via di Bellagio 15
STATUS:CONFIRMED
CATEGORIES:Lebowski,documentari,proiezioni,resistenze
X-ALT-DESC;FMTTYPE=text/html:<p><strong>Cinetracts - Proiezioni di document
	ari resistenti</strong></p><p><strong>Ingresso gratuito</strong></p><p>Dal
	le 18.00 alle 23.00 due giorni di proiezioni con presenza di alcuni autori
	 e cene benefit</p><p></p><p>Programma:</p><h3><strong>Sabato 22</strong><
	/h3><p></p><p><strong>h 18.00 </strong>Arturo González Villaseñor - <stron
	g><em>Llévate mis amores</em></strong></p><p>trailer <a target="_blank" hr
	ef="https://vimeo.com/58814535">https://vimeo.com/58814535</a></p><p><stro
	ng>h 19.30 </strong>Pascal Bernhardt - <strong><em>Romagna tropicale</em><
	/strong></p><p>trailer <a target="_blank" href="https://www.youtube.com/wa
	tch?v=aL5UDlxDBRA">https://www.youtube.com/watch?v=aL5UDlxDBRA</a></p><p><
	strong>h 21.00 Cena benefit</strong></p><p><strong>h 22.00 </strong>Mati D
	iop - <strong><em>Dahomey</em></strong></p><p>trailer <a target="_blank" h
	ref="https://www.mymovies.it/film/2024/dahomey/trailer/">https://www.mymov
	ies.it/film/2024/dahomey/trailer/</a></p><p><strong>h 23.00 Selezione musi
	cale afrobeat afrofunk</strong></p><p>------------------------------------
	--------------------------------------------------------------------</p><h
	3><strong>Domenica 23</strong></h3><p></p><p><strong>h 18.00 </strong>Fran
	cesco De Augustinis - <strong><em>Until the end of the world</em></strong>
	</p><p>trailer <a target="_blank" href="https://www.mymovies.it/film/2024/
	until-the-end-of-the-world/trailer/">https://www.mymovies.it/film/2024/unt
	il-the-end-of-the-world/trailer/</a></p><p><strong>h 19.30</strong> Niccol
	ò Falsetti - <strong><em>Dritti contro il cielo</em></strong></p><p>info <
	a target="_blank" href="https://www.cinemaitaliano.info/news/81297/dritti-
	contro-il-cielo-col-pallone-tra-i.html">https://www.cinemaitaliano.info/ne
	ws/81297/dritti-contro-il-cielo-col-pallone-tra-i.html</a></p><p>con prese
	nza dei protagonisti del gemellaggio C.S. Lebowski e la squadra di calcio 
	del campo profughi di Chatila</p><p><strong>h 21.00 Cena benefit</strong><
	/p><p><strong>h 22.00 Nazra - Palestine short film festival</strong></p><p
	>info <a target="_blank" href="https://nazrafilmfestival.com/">https://naz
	rafilmfestival.com/</a></p><p>Selezione di corti documentari proiettati ne
	lle ultime edizioni</p><p>Mahasen Nasser El-Din - <strong><em>The silent p
	rotest: 1929 Jerusalem</em></strong> - 20'</p><p>Tim Webster, Ernesto Cabe
	llos - <strong><em>Until the last drop</em></strong> - 20'</p><p>Forget - 
	<strong><em>Gaza, one football, one legs</em></strong> - 20'</p><p></p><p>
	--------------------------------------------------------------------------
	---------------------------------</p><p><strong>Perchè Cinetracts</strong>
	</p><p>Nel maggio 1968 un gruppo di cineasti francesi forma un collettivo 
	per</p><p>eﬀettuare riprese di iniziative, manifestazioni, assemblee che c
	artterizzano</p><p>le lotte che avvengono in Francia.</p><p>I componenti i
	ntendono rimanere rigorosamente anonimi proprio a</p><p>sottolineare l'imp
	ortanza del collettivo rispetto alle individualità,</p><p>scendono in stra
	da e cominciano a produrre minimetraggi in bianco e</p><p>nero di non più 
	di due/tre minuti ma che testimoniano l'eﬀervescenza</p><p>delle iniziativ
	e di operai e studenti.</p><p><strong><em>Il collettvo e gli stessi ﬁlmati
	 hanno un nome: Cinetracts</em></strong></p><p>Girati in 16 mm nel maggio 
	e giugno 1968 a cadenza periodica e negli</p><p>anni immediatamente succes
	sivi in maniera molto irregolare, vengono</p><p>immediatamente proiettati 
	al di fuori del circuito commerciale in</p><p>fabbriche e università occup
	ate, nelle piazze e in alcuni ediﬁci utilizzati</p><p>per l'occasione.</p>
	<p>Non c'è un catalogo esaustivo ma generalmente si ritiene che il numero<
	/p><p>totale sia di 41 che successivamente vengono montati insieme per far
	ne</p><p>un lungometraggio con lo stesso titolo.</p><p>In anni ulteriormen
	te successivi, in seguito ad un'intervista a Jean-Luc</p><p>Godard si vien
	e a sapere che Cinetracts nacque da una proposta di Chris</p><p>Marker e c
	he vi hanno partecipato, lo stesso Godard,Jean-Denis Bonan,</p><p>Gérard F
	romanger, Philippe Garrel, Jean-Pierre Gorin, Jacques Loiseleux,</p><p>Chr
	is Marker, Jackie Raynal e Alain Resnais.</p><p>Quando abbiamo iniziato a 
	preparare queste rassegne abbiamo trovato</p><p>notizie e materiali su Cin
	etracts. A noi questa cosa del collettivo</p><p>cinematograﬁco e il nome s
	tesso è piaciuta e quando abbiamo pensato</p><p>di come intitolare la rass
	egna abbiamo deciso di chiamarla Cinetracts.</p>
END:VEVENT
END:VCALENDAR
