BEGIN:VCALENDAR
VERSION:2.0
CALSCALE:GREGORIAN
PRODID:adamgibbons/ics
METHOD:PUBLISH
X-PUBLISHED-TTL:PT1H
BEGIN:VEVENT
UID:5465@lapunta.org
SUMMARY:COLPEVOLI DI PALESTINA – PROIEZIONE\, DIBATTITO E APERITIVO BENEFIT
DTSTAMP:20260420T103002Z
DTSTART:20251108T160000Z
DESCRIPTION: COLPEVOLI DI PALESTINA – PROIEZIONE\, DIBATTITO E APERITIVO BE
	NEFIT\n\nSabato 8 novembre alle 17.00 alla Biblioteca Popolare San Concord
	io (Via\nUrbiciani 362\, Lucca) proietteremo il documentario “Colpevoli di
	 Palestina”\, che\nracconta il processo e la detenzione di Anan Yaeesh\, c
	ombattente palestinese\, e\ndei suoi amici Alì e Mansour accusati dallo St
	ato italiano per aver preso parte\nalla Resistenza contro l’occupazione si
	onista.\n\n Dopo la proiezione presenteremo l’opuscolo “Solidarietà ad Ana
	n\, Ali e\nMansour”\, con dibattito aperto e aperitivo benefit per mantene
	re viva la\nsolidarietà internazionale.\n\n Contro la repressione e la cri
	minalizzazione della solidarietà\, dalla Palestina\na Lucca: libertà per A
	nan\, Ali e Mansour!\n\nCollettivo Iniziativa Popolare Lucca\, No Guerra N
	o Base Lucca e Collettivo\nHurriya! Pisa
URL:https://lapunta.org/event/colpevoli-di-palestina-proiezione-dibattito-e
	-aperitivo-benefit
LOCATION:Biblioteca popolare - Via Urbiciani 362- s-concordio- Lucca
STATUS:CONFIRMED
CATEGORIES:Collettivo Hurriya!,FreePalestine,Lucca,Pisa
X-ALT-DESC;FMTTYPE=text/html:<p>&nbsp;COLPEVOLI DI PALESTINA – PROIEZIONE, 
	DIBATTITO E APERITIVO BENEFIT <br><br>Sabato 8 novembre alle 17.00 alla Bi
	blioteca Popolare San Concordio (Via Urbiciani 362, Lucca) proietteremo il
	 documentario “Colpevoli di Palestina”, che racconta il processo e la dete
	nzione di Anan Yaeesh, combattente palestinese, e dei suoi amici Alì e Man
	sour accusati dallo Stato italiano per aver preso parte alla Resistenza co
	ntro l’occupazione sionista.<br><br>&nbsp;Dopo la proiezione presenteremo 
	l’opuscolo “Solidarietà ad Anan, Ali e Mansour”, con dibattito aperto e ap
	eritivo benefit per mantenere viva la solidarietà internazionale.</p><p>&n
	bsp;Contro la repressione e la criminalizzazione della solidarietà, dalla 
	Palestina a Lucca: libertà per Anan, Ali e Mansour!<br><br>Collettivo Iniz
	iativa Popolare Lucca, No Guerra No Base Lucca e Collettivo Hurriya! Pisa<
	/p>
END:VEVENT
BEGIN:VEVENT
UID:5300@lapunta.org
SUMMARY:TREBESTIVAL 5° edizione - Festival dello Sport Popolare
DTSTAMP:20260420T103002Z
DTSTART:20250912T163000Z
DTEND:20250914T215900Z
DESCRIPTION:𝐓𝐑𝐄𝐁𝐄𝐒𝐓𝐈𝐕𝐀𝐋 - 𝟓° 𝐞𝐝𝐢𝐳𝐢𝐨𝐧𝐞 🐝 | Festival dello Sport Popolare\n|\
	n\n𝘌𝘷𝘦𝘯𝘵𝘰 𝘱𝘦𝘳 𝘭𝘢 𝘤𝘢𝘮𝘱𝘢𝘨𝘯𝘢 𝘥𝘪 𝘵𝘦𝘴𝘴𝘦𝘳𝘢𝘮𝘦𝘯𝘵𝘰 2025/26\,\n𝘪𝘯𝘨𝘳𝘦𝘴𝘴𝘰 𝘳𝘪𝘴𝘦𝘳𝘷𝘢𝘵𝘰 𝘢 
	𝘴𝘰𝘤𝘪/𝘦. 𝘋𝘪𝘷𝘦𝘯𝘵𝘢 𝘱𝘢𝘳𝘵𝘦\n𝘥𝘦𝘭𝘭𝘢 𝘯𝘰𝘴𝘵𝘳𝘢 𝘤𝘰𝘮𝘶𝘯𝘪𝘵à 𝘴𝘱𝘰𝘳𝘵𝘪𝘷𝘢\n𝘢𝘯𝘵𝘪𝘧𝘢𝘴𝘤𝘪𝘴𝘵𝘢\, 𝘢𝘯𝘵𝘪
	𝘴𝘦𝘴𝘴𝘪𝘴𝘵𝘢 𝘦 𝘢𝘯𝘵𝘪𝘳𝘢𝘻𝘻𝘪𝘴𝘵𝘢.\n\n📅 12\, 13 e 14 settembre 2025\n\n🏟️ Stadio Bard
	o\, Sorbano del Giudice\, Lucca\n\n📢 𝗣𝗥𝗢𝗚𝗥𝗔𝗠𝗠𝗔 𝗖𝗢𝗠𝗣𝗟𝗘𝗧𝗢 📢\nFinalmente è on
	line il programma completo del TREBESTIVAL – 5° edizione: tre\ngiorni di s
	port popolare\, concerti\, presentazioni\, dibattiti\, banchetti\,\nautopr
	oduzioni\, attività per bimbi e bimbe e convivialità\n\n𝗩𝗘𝗡𝗘𝗥𝗗Ì 𝟭𝟮 𝗦𝗘𝗧𝗧𝗘𝗠𝗕
	𝗥𝗘\n18:30 – 𝗣𝗿𝗲𝘀𝗲𝗻𝘁𝗮𝘇𝗶𝗼𝗻𝗲 𝗱𝗶 ''𝙏𝙤𝙧𝙧𝙞 – 𝙐𝙣 𝙛𝙪𝙢𝙚𝙩𝙩𝙤\n𝙞𝙙𝙚𝙖𝙡𝙚 𝙥𝙚𝙧 𝙘𝙝𝙞 𝙫𝙞𝙫𝙚 𝙡𝙖 
	𝙨𝙘𝙪𝙤𝙡𝙖 𝙚 𝙡𝙖\n𝙥𝙚𝙧𝙞𝙛𝙚𝙧𝙞𝙖'' con l’autore Militanza Grafica\, modera Nicol Cla
	roni\n20:30 – 𝗣𝗲𝗿𝗳𝗼𝗿𝗺𝗮𝗻𝗰𝗲 𝗲 𝗝𝗮𝗺 𝗦𝗲𝘀𝘀𝗶𝗼𝗻 𝗱𝗶\n𝗮𝗰𝗿𝗼𝗯𝗮𝘁𝗶𝗰𝗮 𝗮𝗲𝗿𝗲𝗮\n21:30 – Live
	 𝗡𝗶𝗱𝗼 𝗱𝗶 𝗩𝗲𝘀𝗽𝗲 𝗞𝗥𝗔𝗩 𝗕𝗢𝗖𝗔 Aftershow: 𝗗𝗝\n𝗦𝗸𝗮𝗽𝗽𝗲 (ska\, punk\, rock’n’roll)\
	n:::::::::::::::::::::::::::::::::::::::::::::::::::::::::::::::::::::::::
	\n\n𝗦𝗔𝗕𝗔𝗧𝗢 𝟭𝟯 𝗦𝗘𝗧𝗧𝗘𝗠𝗕𝗥𝗘\n10:00 – Tornei Sportivi 𝗧𝗮𝗿𝗮𝗯𝗮𝗿𝗮𝗹𝗹𝗮 Torneo di cal
	cio a 5 femminile\npopolare e no borders 𝗖𝗮𝗹𝗰𝗶𝗼 𝗮 𝟱 𝗠𝗮𝘀𝗰𝗵𝗶𝗹𝗲 𝗚𝗿𝗲𝗲𝗻\n𝗩𝗼𝗹𝗹𝗲𝘆
	 𝗺𝗶𝘀𝘁𝗼 𝟰𝘃𝘀𝟰\n16:00 – 𝗕𝗼𝘅𝗲 𝗣𝗼𝗽𝗼𝗹𝗮𝗿𝗲 Allenamento condiviso. A seguire dalle 
	18\nesibizioni sull’Agro-Ring\n20:00 – 𝗣𝗿𝗲𝗺𝗶𝗮𝘇𝗶𝗼𝗻𝗲 𝗱𝗲𝗹𝗹𝗲 𝗿𝗲𝗮𝗹𝘁𝗮' 𝗽𝗮𝗿𝘁𝗲𝗰𝗶𝗽𝗮
	𝗻𝘁𝗶\n20:30 – 𝙍𝙚𝙬𝙞𝙣𝙙 · Spettacolo di danza a cura del collettivo RYLAB\n21:
	30 – Live 𝗣𝗿𝗼𝗹𝗲𝘅 & 𝗭𝗮𝗰 𝗕𝗹𝘂𝗲 𝗙𝗨𝗖𝗞𝗦𝗜𝗔 Aftershow: 𝗪𝗶𝗹𝗱\n𝗦𝘁𝗲𝗽 (electrodub\, du
	btek)\n:::::::::::::::::::::::::::::::::::::::::::::::::::::::::::::::::::
	::::::\n\n𝗗𝗢𝗠𝗘𝗡𝗜𝗖𝗔 𝟭𝟰 𝗦𝗘𝗧𝗧𝗘𝗠𝗕𝗥𝗘\n11:00 – 𝗩𝗶𝗻𝘆𝗮𝘀𝗮 𝗬𝗼𝗴𝗮 classe di presentazi
	one\n12:00 – 𝗧𝗮𝘃𝗼𝗹𝗶 𝗱𝗶 𝗰𝗼𝗻𝗱𝗶𝘃𝗶𝘀𝗶𝗼𝗻𝗲 𝗲 𝗰𝗼𝗻𝗳𝗿𝗼𝗻𝘁𝗼\n𝗦𝗽𝗼𝗿𝘁 𝗲 𝗚𝗲𝗻𝗲𝗿𝗲\n15:00 – 𝗧
	𝗼𝗿𝗻𝗲𝗼 𝗱𝗶 𝗕𝘂𝗿𝗿𝗮𝗰𝗼 iscrizioni in loco\n16:30 – 𝗔𝘁𝘁𝗶𝘃𝗶𝘁𝗮' 𝗲 𝗹𝗮𝗯𝗼𝗿𝗮𝘁𝗼𝗿𝗶𝗼 𝗰𝗿𝗲𝗮𝘁
	𝗶𝘃𝗼 𝗽𝗲𝗿\n𝗯𝗮𝗺𝗯𝗶𝗻𝗶 𝗲 𝗯𝗮𝗺𝗯𝗶𝗻𝗲\n18:30 – 𝗣𝗿𝗲𝘀𝗲𝗻𝘁𝗮𝘇𝗶𝗼𝗻𝗲 𝗱𝗲𝗹 𝗹𝗶𝗯𝗿𝗼 ''𝙉𝙚*𝙧𝙞 𝙘𝙤𝙣 𝙡𝙚
	\n𝙋𝙞𝙨𝙩𝙤𝙡𝙚'' 𝗱𝗶 𝗥𝗼𝗯𝗲𝗿𝘁 𝗙. 𝗪𝗶𝗹𝗹𝗶𝗮𝗺𝘀 con Iacopo Chiaravalli\n(redazione proge
	tto Me-Ti)\, modera Nicoletta Gini\n20:30 – 𝗣𝗿𝗲𝘀𝗲𝗻𝘁𝗮𝘇𝗶𝗼𝗻𝗲 𝗱𝗲𝗹𝗹𝗲 𝗿𝗲𝗮𝗹𝘁𝗮' 𝘀𝗽
	𝗼𝗿𝘁𝗶𝘃𝗲\n𝗧𝗿𝗲𝗯𝗲𝘀𝘁𝗲\n21:30 – Live 𝗪𝗲𝗲𝗸𝗲𝗻𝗱 𝗠𝗮𝗿𝘁𝘆𝗿 𝗚𝗜𝗢𝗥𝗚𝗜𝗢 𝗖𝗔𝗡𝗔𝗟𝗜 – 𝗿 𝗼 𝘀\n𝘀 𝗼 
	𝘀 𝗼 𝗹 𝗼\n:::::::::::::::::::::::::::::::::::::::::::::::::::::::::::::::::
	::::::::\n\n🎉 Tutti i giorni: – Area Bimbi con giochi e libri – Cucina con
	viviale e\ncondivisa – Banchetti e Autoproduzioni\n\n:::::::::::::::::::::
	::::::::::::::::::::::::::::::::::::::::::::::::::::\n\nTi aspettiamo allo
	 Stadio Bardo. Avanti sport popolare. Avanti Trebesto. 🟡⚫\n\n:::::::::::::
	::::::::::::::::::::::::::::::::::::::::::::::::::::::::::::\n\nEvento pri
	vato per la campagna di tesseramento 2025/26\, ingresso riservato a\nsoci/
	e della ASD C.\nPopolare Trebesto https://www.facebook.com/events/37451033
	72299789/\n[https://www.facebook.com/events/3745103372299789/]
URL:https://lapunta.org/event/trebestival-5degree-edizione-festival-dello-s
	port-popolare
LOCATION:Stadio Bardo - Trebesto - Via Sorbano del Giudice\, 20\, 55100 Luc
	ca LU
STATUS:CONFIRMED
CATEGORIES:Boxe Popolare,Calcio popolare,Lucca,Sport popolare,antifascismo,
	concerti,dibattiti,live music
X-ALT-DESC;FMTTYPE=text/html:<p>𝐓𝐑𝐄𝐁𝐄𝐒𝐓𝐈𝐕𝐀𝐋 - 𝟓° 𝐞𝐝𝐢𝐳𝐢𝐨𝐧𝐞 🐝 | Festival dell
	o Sport Popolare | </p><p>𝘌𝘷𝘦𝘯𝘵𝘰 𝘱𝘦𝘳 𝘭𝘢 𝘤𝘢𝘮𝘱𝘢𝘨𝘯𝘢 𝘥𝘪 𝘵𝘦𝘴𝘴𝘦𝘳𝘢𝘮𝘦𝘯𝘵𝘰 2025/26, 
	𝘪𝘯𝘨𝘳𝘦𝘴𝘴𝘰 𝘳𝘪𝘴𝘦𝘳𝘷𝘢𝘵𝘰 𝘢 𝘴𝘰𝘤𝘪/𝘦. 𝘋𝘪𝘷𝘦𝘯𝘵𝘢 𝘱𝘢𝘳𝘵𝘦 𝘥𝘦𝘭𝘭𝘢 𝘯𝘰𝘴𝘵𝘳𝘢 𝘤𝘰𝘮𝘶𝘯𝘪𝘵à 𝘴𝘱𝘰𝘳𝘵𝘪𝘷𝘢 
	𝘢𝘯𝘵𝘪𝘧𝘢𝘴𝘤𝘪𝘴𝘵𝘢, 𝘢𝘯𝘵𝘪𝘴𝘦𝘴𝘴𝘪𝘴𝘵𝘢 𝘦 𝘢𝘯𝘵𝘪𝘳𝘢𝘻𝘻𝘪𝘴𝘵𝘢. </p><p>📅 12, 13 e 14 settembre 
	2025 </p><p>🏟️ Stadio Bardo, Sorbano del Giudice, Lucca </p><p>📢 𝗣𝗥𝗢𝗚𝗥𝗔𝗠𝗠𝗔 
	𝗖𝗢𝗠𝗣𝗟𝗘𝗧𝗢 📢 <br>Finalmente è online il programma completo del TREBESTIVAL –
	 5° edizione: tre giorni di sport popolare, concerti, presentazioni, dibat
	titi, banchetti, autoproduzioni, attività per bimbi e bimbe e convivialità
	 </p><p>𝗩𝗘𝗡𝗘𝗥𝗗Ì 𝟭𝟮 𝗦𝗘𝗧𝗧𝗘𝗠𝗕𝗥𝗘 <br>18:30 – 𝗣𝗿𝗲𝘀𝗲𝗻𝘁𝗮𝘇𝗶𝗼𝗻𝗲 𝗱𝗶 ''𝙏𝙤𝙧𝙧𝙞 – 𝙐𝙣 𝙛𝙪𝙢
	𝙚𝙩𝙩𝙤 𝙞𝙙𝙚𝙖𝙡𝙚 𝙥𝙚𝙧 𝙘𝙝𝙞 𝙫𝙞𝙫𝙚 𝙡𝙖 𝙨𝙘𝙪𝙤𝙡𝙖 𝙚 𝙡𝙖 𝙥𝙚𝙧𝙞𝙛𝙚𝙧𝙞𝙖'' con l’autore Militanza
	 Grafica, modera Nicol Claroni <br>20:30 – 𝗣𝗲𝗿𝗳𝗼𝗿𝗺𝗮𝗻𝗰𝗲 𝗲 𝗝𝗮𝗺 𝗦𝗲𝘀𝘀𝗶𝗼𝗻 𝗱𝗶 𝗮𝗰
	𝗿𝗼𝗯𝗮𝘁𝗶𝗰𝗮 𝗮𝗲𝗿𝗲𝗮 <br>21:30 – Live 𝗡𝗶𝗱𝗼 𝗱𝗶 𝗩𝗲𝘀𝗽𝗲 𝗞𝗥𝗔𝗩 𝗕𝗢𝗖𝗔 Aftershow: 𝗗𝗝 𝗦𝗸𝗮𝗽
	𝗽𝗲 (ska, punk, rock’n’roll) <br>::::::::::::::::::::::::::::::::::::::::::
	::::::::::::::::::::::::::::::: </p><p>𝗦𝗔𝗕𝗔𝗧𝗢 𝟭𝟯 𝗦𝗘𝗧𝗧𝗘𝗠𝗕𝗥𝗘 <br>10:00 – Tor
	nei Sportivi 𝗧𝗮𝗿𝗮𝗯𝗮𝗿𝗮𝗹𝗹𝗮 Torneo di calcio a 5 femminile popolare e no bord
	ers 𝗖𝗮𝗹𝗰𝗶𝗼 𝗮 𝟱 𝗠𝗮𝘀𝗰𝗵𝗶𝗹𝗲 𝗚𝗿𝗲𝗲𝗻 𝗩𝗼𝗹𝗹𝗲𝘆 𝗺𝗶𝘀𝘁𝗼 𝟰𝘃𝘀𝟰 <br>16:00 – 𝗕𝗼𝘅𝗲 𝗣𝗼𝗽𝗼𝗹𝗮𝗿𝗲 
	Allenamento condiviso. A seguire dalle 18 esibizioni sull’Agro-Ring <br>20
	:00 – 𝗣𝗿𝗲𝗺𝗶𝗮𝘇𝗶𝗼𝗻𝗲 𝗱𝗲𝗹𝗹𝗲 𝗿𝗲𝗮𝗹𝘁𝗮' 𝗽𝗮𝗿𝘁𝗲𝗰𝗶𝗽𝗮𝗻𝘁𝗶 <br>20:30 – 𝙍𝙚𝙬𝙞𝙣𝙙 · Spettaco
	lo di danza a cura del collettivo RYLAB <br>21:30 – Live 𝗣𝗿𝗼𝗹𝗲𝘅 &amp; 𝗭𝗮𝗰 
	𝗕𝗹𝘂𝗲 𝗙𝗨𝗖𝗞𝗦𝗜𝗔 Aftershow: 𝗪𝗶𝗹𝗱 𝗦𝘁𝗲𝗽 (electrodub, dubtek) <br>:::::::::::::::
	:::::::::::::::::::::::::::::::::::::::::::::::::::::::::: </p><p>𝗗𝗢𝗠𝗘𝗡𝗜𝗖𝗔
	 𝟭𝟰 𝗦𝗘𝗧𝗧𝗘𝗠𝗕𝗥𝗘 <br>11:00 – 𝗩𝗶𝗻𝘆𝗮𝘀𝗮 𝗬𝗼𝗴𝗮 classe di presentazione <br>12:00 –
	 𝗧𝗮𝘃𝗼𝗹𝗶 𝗱𝗶 𝗰𝗼𝗻𝗱𝗶𝘃𝗶𝘀𝗶𝗼𝗻𝗲 𝗲 𝗰𝗼𝗻𝗳𝗿𝗼𝗻𝘁𝗼 𝗦𝗽𝗼𝗿𝘁 𝗲 𝗚𝗲𝗻𝗲𝗿𝗲 <br>15:00 – 𝗧𝗼𝗿𝗻𝗲𝗼 𝗱𝗶 𝗕
	𝘂𝗿𝗿𝗮𝗰𝗼 iscrizioni in loco <br>16:30 – 𝗔𝘁𝘁𝗶𝘃𝗶𝘁𝗮' 𝗲 𝗹𝗮𝗯𝗼𝗿𝗮𝘁𝗼𝗿𝗶𝗼 𝗰𝗿𝗲𝗮𝘁𝗶𝘃𝗼 𝗽𝗲𝗿
	 𝗯𝗮𝗺𝗯𝗶𝗻𝗶 𝗲 𝗯𝗮𝗺𝗯𝗶𝗻𝗲 <br>18:30 – 𝗣𝗿𝗲𝘀𝗲𝗻𝘁𝗮𝘇𝗶𝗼𝗻𝗲 𝗱𝗲𝗹 𝗹𝗶𝗯𝗿𝗼 ''𝙉𝙚*𝙧𝙞 𝙘𝙤𝙣 𝙡𝙚 𝙋𝙞𝙨𝙩
	𝙤𝙡𝙚'' 𝗱𝗶 𝗥𝗼𝗯𝗲𝗿𝘁 𝗙. 𝗪𝗶𝗹𝗹𝗶𝗮𝗺𝘀 con Iacopo Chiaravalli (redazione progetto Me-
	Ti), modera Nicoletta Gini <br>20:30 – 𝗣𝗿𝗲𝘀𝗲𝗻𝘁𝗮𝘇𝗶𝗼𝗻𝗲 𝗱𝗲𝗹𝗹𝗲 𝗿𝗲𝗮𝗹𝘁𝗮' 𝘀𝗽𝗼𝗿𝘁𝗶𝘃
	𝗲 𝗧𝗿𝗲𝗯𝗲𝘀𝘁𝗲 <br>21:30 – Live 𝗪𝗲𝗲𝗸𝗲𝗻𝗱 𝗠𝗮𝗿𝘁𝘆𝗿 𝗚𝗜𝗢𝗥𝗚𝗜𝗢 𝗖𝗔𝗡𝗔𝗟𝗜 – 𝗿 𝗼 𝘀 𝘀 𝗼 𝘀 𝗼 
	𝗹 𝗼 <br>::::::::::::::::::::::::::::::::::::::::::::::::::::::::::::::::::
	::::::: </p><p>🎉 Tutti i giorni: – Area Bimbi con giochi e libri – Cucina 
	conviviale e condivisa – Banchetti e Autoproduzioni </p><p>:::::::::::::::
	:::::::::::::::::::::::::::::::::::::::::::::::::::::::::: </p><p>Ti aspet
	tiamo allo Stadio Bardo. Avanti sport popolare. Avanti Trebesto. 🟡⚫ </p><p
	>:::::::::::::::::::::::::::::::::::::::::::::::::::::::::::::::::::::::::
	 </p><p>Evento privato per la campagna di tesseramento 2025/26, ingresso r
	iservato a soci/e della ASD C. <br>Popolare Trebesto <a target="_blank" hr
	ef="https://www.facebook.com/events/3745103372299789/">https://www.faceboo
	k.com/events/3745103372299789/</a></p>
END:VEVENT
BEGIN:VEVENT
UID:5088@lapunta.org
SUMMARY:DALL'INTERNAZIONALISMO ALLA SOLIDARIETA' UMANITARIA\, O DI COME LA 
	SOLIDARIETA' SI E' TRASFORMATA IN UN INVESTIMENTO ECONOMICO NEOLIBERISTA E
	 IN UNO STRUMENTO DI RICATTO IN PALESTINA E NON SOLO.
DTSTAMP:20260420T103002Z
DTSTART:20250711T173000Z
DESCRIPTION:DALL'INTERNAZIONALISMO ALLA SOLIDARIETA' UMANITARIA\, O DI COME
	 LA SOLIDARIETA'\nSI E' TRASFORMATA IN UN INVESTIMENTO ECONOMICO NEOLIBERI
	STA E IN UNO STRUMENTO\nDI RICATTO IN PALESTINA E NON SOLO.\n...La lotta c
	ontro un nemico comune per una trasformazione collettiva è stata\nsostitui
	ta con progetti di cooperazione economica  completamente compatibile ( e\n
	talvolta in sinergia) con le politiche di colonizzazione e predazione econ
	omica\ndi stati e capitale. Se in Palestina la rinuncia al diritto al rito
	rno è una\ncondizione necessaria per accederea agli aiuti internazionali\,
	 in Italia chi\nlavora nel sistema accoglienza è costretto a collaborare a
	l disciplinamento\ndegli immigrati\, alla società dello sfruttamente e del
	l'alienazione ...\nNe parleremo VENERDI' 11 LUGLIO ALLE 21 CON IL COLLETTI
	VO HURRIYA! di Pisa E I\nGIOVANI PALESTINESI D'ITALIA di Firenze PRESSO LA
	 BIBLIOTECA POPOLARE DI SAN\nCONCORDIO A LUCCA\, ALLE 19.30 APERITIVO BENE
	FIT.\nAssemblea Noguerranobase Lucca\, Cip Concordio Collettivo Iniziativa
	 Popolare\nLucca
URL:https://lapunta.org/event/dallinternazionalismo-alla-solidarieta-umanit
	aria-o-di-come-la-solidarieta-si-e-trasformata-in-un-investimento-economic
	o-neoliberista-e-in-uno-strumento-di-ricatto-in-palestina-e-non-solo
LOCATION:BIBLIOTECA POPOLARE DI SAN CONCORDIO - Via Bonagiunta Urbiciani\, 
	362\, 55100 Lucca
STATUS:CONFIRMED
CATEGORIES:FreePalestine,Lucca
X-ALT-DESC;FMTTYPE=text/html:<p>DALL'INTERNAZIONALISMO ALLA SOLIDARIETA' UM
	ANITARIA, O DI COME LA SOLIDARIETA' SI E' TRASFORMATA IN UN INVESTIMENTO E
	CONOMICO NEOLIBERISTA E IN UNO STRUMENTO DI RICATTO IN PALESTINA E NON SOL
	O. <br>...La lotta contro un nemico comune per una trasformazione colletti
	va è stata sostituita con progetti di cooperazione economica&nbsp; complet
	amente compatibile ( e talvolta in sinergia) con le politiche di colonizza
	zione e predazione economica di stati e capitale. Se in Palestina la rinun
	cia al diritto al ritorno è una condizione necessaria per accederea agli a
	iuti internazionali, in Italia chi lavora nel sistema accoglienza è costre
	tto a collaborare al disciplinamento degli immigrati, alla società dello s
	fruttamente e dell'alienazione ... <br>Ne parleremo VENERDI' 11 LUGLIO ALL
	E 21 CON IL COLLETTIVO HURRIYA! di Pisa E I GIOVANI PALESTINESI D'ITALIA d
	i Firenze PRESSO LA BIBLIOTECA POPOLARE DI SAN CONCORDIO A LUCCA, ALLE 19.
	30 APERITIVO BENEFIT.<br>Assemblea Noguerranobase Lucca, Cip Concordio Col
	lettivo Iniziativa Popolare Lucca</p>
END:VEVENT
BEGIN:VEVENT
UID:4571@lapunta.org
SUMMARY:Presentazione di DEMOCRAZIE REALI
DTSTAMP:20260420T103002Z
DTSTART:20250222T163000Z
URL:https://lapunta.org/event/presentazione-di-democrazie-reali
LOCATION:Biblioteca popolare - Via Urbiciani 362- s-concordio- Lucca
STATUS:CONFIRMED
CATEGORIES:Lucca,Pisa
END:VEVENT
BEGIN:VEVENT
UID:4563@lapunta.org
SUMMARY:A 20 dalla scomparsa di Dario Paccino
DTSTAMP:20260420T103002Z
DTSTART:20250208T160000Z
URL:https://lapunta.org/event/a-20-dalla-scomparsa-di-dario-paccino
LOCATION:Biblioteca popolare - Via Urbiciani 362- s-concordio- Lucca
STATUS:CONFIRMED
CATEGORIES:Lucca
END:VEVENT
BEGIN:VEVENT
UID:3764@lapunta.org
SUMMARY:ANTIFASCISMO E ANTICAPITALISMO NELLA RESISTENZA E OGGI
DTSTAMP:20260420T103002Z
DTSTART:20240517T183000Z
URL:https://lapunta.org/event/antifascismo-e-anticapitalismo-nella-resisten
	za-e-oggi
LOCATION:Ass. Hacking Labs APS- sala conferenze - Via Piaggiori Basso\, 212
	\, Segromigno in Monte (Lucca)
STATUS:CONFIRMED
CATEGORIES:Lucca,TIR,antifascismo
END:VEVENT
END:VCALENDAR
