BEGIN:VCALENDAR
VERSION:2.0
CALSCALE:GREGORIAN
PRODID:adamgibbons/ics
METHOD:PUBLISH
X-PUBLISHED-TTL:PT1H
BEGIN:VEVENT
UID:833@lapunta.org
SUMMARY:Proiezione di "L'armée du crime" + presentazione collettivo Imborra
	bles (Bogotà)
DTSTAMP:20260419T155256Z
DTSTART:20220821T170000Z
DTEND:20220821T220000Z
DESCRIPTION:Domenica 21 Agosto proiezione di "L'armée du crime" di Robert G
	uediguian\n\nIl film traccia il percorso di un gruppo di partigiani a Pari
	gi durante\nl'occupazione nazista. Formato da uomini e donne di nazionalit
	à diverse\,\ndovranno imparare a combattere all'interno della città.\n\nIl
	 film meno conosciuto e mai distribuito in Italia di Giediguian parla dell
	a\nstoria vera della cellula resistente dell' FTP-MOi formata dall'esule a
	rmeno\nMissak Manuchian costituito da ebrei\, ungheresi\, polacchi\, rumen
	i\, spagnoli\,\nitaliani e armeni che rischiano la vita per liberare la Fr
	ancia dal nazismo.\n\nUn'occasione anche per vedere più da vicino la resis
	tenza antifascista a Parigi\ne la battaglia per la liberazione della città
	 avvenuta dal 19 al 25 Agosto del\n1944 negli stessi giorni di quella di F
	irenze\n\n\n\nPrima della proiezione ci sarà un incontro con il collettivo
	 Imborrables\, che ci\nracconteranno la loro esperienza di attivismo a Bog
	otá.\n\nhttps://imborrables.geoactivismo.org [https://imborrables.geoactiv
	ismo.org]\n\n--\n\nDalle 19.00 Quilombini e stuzzichini\n\nAlle 19.30 Inco
	ntro col collettivo Imborrables\n\nAlle 21.00 Introduzione al film\n\nAlle
	 21.30 L'armée du crime\n\n\nAllo Spazio Quilombo - entrata dal secondo ca
	pannone
URL:https://lapunta.org/event/proiezione-di-larmee-du-crime
LOCATION:Csa Next-Emerson - Via di Bellagio 15
STATUS:CONFIRMED
CATEGORIES:Parigi,antifascismo,antirazzismo,cinema,ftp-moi,proiezione,resis
	tenza
X-ALT-DESC;FMTTYPE=text/html:<p>Domenica 21 Agosto proiezione di "L'armée d
	u crime" di Robert Guediguian</p><p>Il film traccia il percorso di un grup
	po di partigiani a Parigi durante l'occupazione nazista. Formato da uomini
	 e donne di nazionalità diverse, dovranno imparare a combattere all'intern
	o della città.</p><p>Il film meno conosciuto e mai distribuito in Italia d
	i Giediguian parla della storia vera della cellula resistente dell' FTP-MO
	i formata dall'esule armeno Missak Manuchian costituito da ebrei, ungheres
	i, polacchi, rumeni, spagnoli, italiani e armeni che rischiano la vita per
	 liberare la Francia dal nazismo.</p><p>Un'occasione anche per vedere più 
	da vicino la resistenza antifascista a Parigi e la battaglia per la libera
	zione della città avvenuta dal 19 al 25 Agosto del 1944 negli stessi giorn
	i di quella di Firenze</p><p></p><p>Prima della proiezione ci sarà un inco
	ntro con il collettivo Imborrables, che ci racconteranno la loro esperienz
	a di attivismo a Bogotá.</p><p><a target="_blank" href="https://imborrable
	s.geoactivismo.org">https://imborrables.geoactivismo.org</a></p><p>--</p><
	p>Dalle 19.00 Quilombini e stuzzichini</p><p>Alle 19.30 Incontro col colle
	ttivo Imborrables</p><p>Alle 21.00 Introduzione al film</p><p>Alle 21.30 L
	'armée du crime</p><p><br>Allo Spazio Quilombo - entrata dal secondo capan
	none</p>
END:VEVENT
END:VCALENDAR
