BEGIN:VCALENDAR
VERSION:2.0
CALSCALE:GREGORIAN
PRODID:adamgibbons/ics
METHOD:PUBLISH
X-PUBLISHED-TTL:PT1H
BEGIN:VEVENT
UID:4776@lapunta.org
SUMMARY:Punk Oi Night
DTSTAMP:20260421T135947Z
DTSTART:20250419T170000Z
DTEND:20250419T233000Z
DESCRIPTION:SABATO 19 APRILE al K100Fuegos\n\n\n🍻 Dalle ore 19:00\nIniziamo
	 con un apericena e dj set organizzato dagli studenti e studentesse di\nS.
	A.F.\nBevute varie\, crostini\, musica e tanto altro per un aperitivo di\n
	autofinanziamento\n\n\n🥁 Dalle ore 22:00 inizio concerti:\nOI dal Paese Ba
	sco\n👉 AGAINST YOU\ngruppo basco formatosi nel 2014 arrivano per la prima 
	volta in Italia con il\nnuovo disco\n"Tu unica ley "\n👉 CASUS BELLI - Punk
	 Oi! Roma\ngruppo nato nel 2023 \, la loro musica è un mix fra street punk
	 e OI\n👉 IENA - OI Firenze Nord\nBeh c'è poco da spiegare\, al K100 sono d
	i casa\, sono di FIRENZE NORD pensiamo\npossa bastare no?\n\nVi aspettiamo
	 sabato per un concerto OI in stile Camilo Cienfuegos!!!\n\n\n❌ no fasci e
	 sbirri\n❌ no  droghe pesanti
URL:https://lapunta.org/event/punk-oi-night
LOCATION:Cantiere Sociale Camilo Cienfuegos - Via Chiella\, 4\, 50013 Campi
	 Bisenzio FI
STATUS:CONFIRMED
CATEGORIES:PunkOi
X-ALT-DESC;FMTTYPE=text/html:<p>SABATO 19 APRILE al K100Fuegos<br></p><p>🍻 
	Dalle ore 19:00 <br>Iniziamo con un apericena e dj set organizzato dagli s
	tudenti e studentesse di S.A.F.<br>Bevute varie, crostini, musica e tanto 
	altro per un aperitivo di autofinanziamento <br></p><p>🥁 Dalle ore 22:00 i
	nizio concerti: <br>OI dal Paese Basco <br>👉 AGAINST YOU <br>gruppo basco 
	formatosi nel 2014 arrivano per la prima volta in Italia con il nuovo disc
	o <br>"Tu unica ley " <br>👉 CASUS BELLI - Punk Oi! Roma <br>gruppo nato ne
	l 2023 , la loro musica è un mix fra street punk e OI <br>👉 IENA - OI Fire
	nze Nord <br>Beh c'è poco da spiegare, al K100 sono di casa, sono di FIREN
	ZE NORD pensiamo possa bastare no?</p><p>Vi aspettiamo sabato per un conce
	rto OI in stile Camilo Cienfuegos!!! </p><p><br>❌ no fasci e sbirri <br>❌ 
	no&nbsp; droghe pesanti</p>
END:VEVENT
END:VCALENDAR
