BEGIN:VCALENDAR
VERSION:2.0
CALSCALE:GREGORIAN
PRODID:adamgibbons/ics
METHOD:PUBLISH
X-PUBLISHED-TTL:PT1H
BEGIN:VEVENT
UID:440@lapunta.org
SUMMARY:CORSICA OVUNQUE
DTSTAMP:20260421T123912Z
DTSTART:20220315T230000Z
DTEND:20220316T010000Z
DESCRIPTION:Stanno sgomberando l'occupazione di corsica 81 ma non l'avranno
	 vinta facile.\nCORSICA OVUNQUE
URL:https://lapunta.org/event/corsica-ovunque
LOCATION:Ovunque  - Viale Corsica 81 
STATUS:CONFIRMED
CATEGORIES:Sgomberi
X-ALT-DESC;FMTTYPE=text/html:<p>Stanno sgomberando l'occupazione di corsica
	 81 ma non l'avranno vinta facile. CORSICA OVUNQUE</p>
END:VEVENT
END:VCALENDAR
