BEGIN:VCALENDAR
VERSION:2.0
CALSCALE:GREGORIAN
PRODID:adamgibbons/ics
METHOD:PUBLISH
X-PUBLISHED-TTL:PT1H
BEGIN:VEVENT
UID:6069@lapunta.org
SUMMARY:NIDO DI VESPE + THE STAND + SLÖTH + REAL WOOD @CSAnEXtEmerson
DTSTAMP:20260420T102548Z
DTSTART:20260417T193000Z
DTEND:20260417T230000Z
DESCRIPTION:Bad Taste Collective presenta:\n\nIN YOUR HOUSE\n\nIL MEGLIO CH
	E IL LOCAL PUÒ OFFRIRE\, A CASA TUA!\n\n-NIDO DI VESPE - Thrashcore Grind\
	;\n\n-THE STAND - Electronic HC\;\n\n-SLÖTH - Gerontopunk\;\n\n-REAL WOOD 
	- Punk Rock.\n\nVenerdì 17 Aprile 2026\n\nCSA nEXt Emerson\n\nS'inizia all
	e 21:30
URL:https://lapunta.org/event/nido-di-vespe-the-stand-sloth-real-wood-csane
	xtemerson
LOCATION:Csa Next-Emerson - Via di Bellagio 15
STATUS:CONFIRMED
CATEGORIES:Thrashgrind,badtastecollective,elettronica,punk,punk hc
X-ALT-DESC;FMTTYPE=text/html:<p>Bad Taste Collective presenta:</p><p>IN YOU
	R HOUSE </p><p>IL MEGLIO CHE IL LOCAL PUÒ OFFRIRE, A CASA TUA! </p><p>-NID
	O DI VESPE - Thrashcore Grind;</p><p>-THE STAND - Electronic HC;</p><p>-SL
	ÖTH - Gerontopunk;</p><p>-REAL WOOD - Punk Rock.</p><p>Venerdì 17 Aprile 2
	026</p><p>CSA nEXt Emerson</p><p>S'inizia alle 21:30</p>
END:VEVENT
BEGIN:VEVENT
UID:6031@lapunta.org
SUMMARY:ZIKIN + ANTIFATUM + LOIA @CSAnEXtEmerson
DTSTAMP:20260420T102548Z
DTSTART:20260403T193000Z
DTEND:20260403T230000Z
DESCRIPTION:Bad Taste Collective presenta:\n\nLETHAL MIX VOL. 1\n\nSERATE C
	OSÌ MISTE CHE NON SI CAPISCE DOVE SI VA A PARARE\, MA PRESA BENE LO\nSTESS
	O\n\n-ZIKIN - Punk/Coldwave Oi! - Paesi Baschi\n\n-ANTIFATUM - Blackened C
	rust - Svezia/Colombia\n\n-LOIA - Blackened HC - Firenze\n\nVenerdì 3 Apri
	le\n\nCSA nEXt Emerson\n\n21:30
URL:https://lapunta.org/event/zikin-antifatum-loia-csanextemerson
LOCATION:NextEmerson - Via di Bellagio 15\, zona Castello - Firenze
STATUS:CONFIRMED
CATEGORIES:Coldwaveoi,badtastecollective,crust,punk,punk hc
X-ALT-DESC;FMTTYPE=text/html:<p>Bad Taste Collective presenta:</p><p>LETHAL
	 MIX VOL. 1</p><p>SERATE COSÌ MISTE CHE NON SI CAPISCE DOVE SI VA A PARARE
	, MA PRESA BENE LO STESSO </p><p>-ZIKIN - Punk/Coldwave Oi! - Paesi Baschi
	</p><p>-ANTIFATUM - Blackened Crust - Svezia/Colombia</p><p>-LOIA - Blacke
	ned HC - Firenze</p><p>Venerdì 3 Aprile</p><p>CSA nEXt Emerson</p><p>21:30
	</p>
END:VEVENT
BEGIN:VEVENT
UID:5989@lapunta.org
SUMMARY:ANF + Buio Dentro + Donald Mortem + Quasi Buio + Carbs @CSAnEXtEmer
	son
DTSTAMP:20260420T102548Z
DTSTART:20260327T203000Z
DTEND:20260328T003000Z
DESCRIPTION:Bad Taste Collective presenta:\n\n☢️CARNAGEOPOLIS☢️\n\n-ANF - Pow
	erviolence - Palermo\;\n\n-BUIO DENTRO - Post Metal/Noise - Perugia\;\n\n-
	DONALD MORTEM - Powerviolence - Firenze\;\n\n-QUASI BUIO - Hardcore Punk -
	 Roma\;\n\n-CARBS - Hardcore Punk - Torino.\n\nCSA nEXt Emerson\n\nVenerdì
	 27 Marzo 2026\, ore 21:30
URL:https://lapunta.org/event/anf-buio-dentro-donald-mortem-quasi-buio-carb
	s-csanextemerson
LOCATION:NextEmerson - Via di Bellagio 15\, zona Castello - Firenze
STATUS:CONFIRMED
CATEGORIES:Noisenotmusic,badtastecollective,hardcore,powerviolence,punk hc
X-ALT-DESC;FMTTYPE=text/html:<p>Bad Taste Collective presenta:</p><p>☢️CARNA
	GEOPOLIS☢️</p><p>-ANF - Powerviolence - Palermo;</p><p>-BUIO DENTRO - Post 
	Metal/Noise - Perugia;</p><p>-DONALD MORTEM - Powerviolence - Firenze;</p>
	<p>-QUASI BUIO -  Hardcore Punk - Roma;</p><p>-CARBS - Hardcore Punk - Tor
	ino.</p><p>CSA nEXt Emerson</p><p>Venerdì 27 Marzo 2026, ore 21:30</p>
END:VEVENT
BEGIN:VEVENT
UID:5960@lapunta.org
SUMMARY:LAST GOAT + PAPERINIX + REYES DE LA CUMBIA @CSAnEXtEmerson
DTSTAMP:20260420T102548Z
DTSTART:20260313T200000Z
DTEND:20260314T000000Z
DESCRIPTION:🦷BAD TASTE COLLECTIVE PRESENTA🦷\n\n\n\nLAST GOAT - Hardcore Pun
	k\n\n\n\nxPxAxPxExRxIxNx - Paperopoli Fastcore Brigade\n\n\n\nREYES DE LA 
	CUMBIA - Cumbia and Violence\n\n\n\nCSA nEXt Emerson\n\n\n\ninizio ore 21
URL:https://lapunta.org/event/last-goat-paperinix-reyes-de-la-cumbia-csanex
	temerson
LOCATION:NextEmerson - Via di Bellagio 15\, zona Castello - Firenze
STATUS:CONFIRMED
CATEGORIES:Fastcore,badtastecollective,grind,grindcore,punk,punk hc
X-ALT-DESC;FMTTYPE=text/html:<p>🦷BAD TASTE COLLECTIVE PRESENTA🦷</p><p></p><
	p>LAST GOAT - Hardcore Punk</p><p></p><p>xPxAxPxExRxIxNx - Paperopoli Fast
	core Brigade</p><p></p><p>REYES DE LA CUMBIA - Cumbia and Violence</p><p><
	/p><p>CSA nEXt Emerson</p><p></p><p>inizio ore 21</p>
END:VEVENT
BEGIN:VEVENT
UID:5909@lapunta.org
SUMMARY:NEGATIVE PATH + LA MORTA GORA + SONO ANCORA VIVO @CSAnEXtEmerson
DTSTAMP:20260420T102548Z
DTSTART:20260228T210000Z
DTEND:20260301T000000Z
DESCRIPTION:Bad Taste Collective presenta:\n\n🪦HARDCORE EPITAPH BONANZA🪦\n\
	n-NEGATIVE PATH - Punk HC - Palermo\;\n\n-LA MORTA GORA - Punk HC - Pisa\;
	\n\n-SONO ANCORA VIVO - Punk HC - Rovereto.\n\nSabato 28 Febbraio\n\nCSA n
	EXt Emerson\n\nS'inizia alle 22:00\, SIATECI!
URL:https://lapunta.org/event/negative-path-la-morta-gora-sono-ancora-vivo-
	csanextemerson
LOCATION:NextEmerson - Via di Bellagio 15\, zona Castello - Firenze
STATUS:CONFIRMED
CATEGORIES:badtastecollective,hardcore,punk,punk hc
X-ALT-DESC;FMTTYPE=text/html:<p>Bad Taste Collective presenta:</p><p>🪦HARDC
	ORE EPITAPH BONANZA🪦</p><p>-NEGATIVE PATH - Punk HC - Palermo;</p><p>-LA M
	ORTA GORA - Punk HC - Pisa;</p><p>-SONO ANCORA VIVO - Punk HC - Rovereto. 
	</p><p>Sabato 28 Febbraio</p><p>CSA nEXt Emerson</p><p>S'inizia alle 22:00
	, SIATECI!</p>
END:VEVENT
BEGIN:VEVENT
UID:5916@lapunta.org
SUMMARY:PRESENTAZIONE LIBRO: "Ufficio Sinistri - Storie di calciatori manci
	ni" di Andrea Vecchio
DTSTAMP:20260420T102548Z
DTSTART:20260228T200000Z
DTEND:20260228T210000Z
DESCRIPTION:Presentazione del libro "Ufficio Sinistri - Storie di calciator
	i mancini" di\nAndrea Vecchio. Cronache inusuali ed aneddoti di calciatori
	 mancini sia di piedi\nche di pensiero. L'autore presenterà il libro media
	to da un membro del\ncollettivo Bad Taste. La presentazione inizia alle 21
	 nell'immediato dopocena -\ncena consumabile sul posto\, e precede il conc
	erto che inizia alle 22.
URL:https://lapunta.org/event/presentazione-libro-ufficio-sinistri-storie-d
	i-calciatori-mancini-di-andrea-vecchio
LOCATION:NextEmerson - Via di Bellagio 15\, zona Castello - Firenze
STATUS:CONFIRMED
CATEGORIES:badtastecollective,presentazione,presentazione libro
X-ALT-DESC;FMTTYPE=text/html:<p>Presentazione del libro "Ufficio Sinistri -
	 Storie di calciatori mancini" di Andrea Vecchio. Cronache inusuali ed ane
	ddoti di calciatori mancini sia di piedi che di pensiero. L'autore present
	erà il libro mediato da un membro del collettivo Bad Taste. La presentazio
	ne inizia alle 21 nell'immediato dopocena - cena consumabile sul posto, e 
	precede il concerto che inizia alle 22. </p>
END:VEVENT
BEGIN:VEVENT
UID:5861@lapunta.org
SUMMARY:Concerto - Gros Enfant Mort + Bec De Corbin
DTSTAMP:20260420T102548Z
DTSTART:20260218T200000Z
DTEND:20260218T230000Z
DESCRIPTION:18 Febbraio dalle ore 21.00\n\nIl Collettivo Bad Taste presenta
	:\n\n>> Gros Enfant Mort (Poitiers - Francia)\n\n>> Bec De Corbin (Roma)
URL:https://lapunta.org/event/concerto-gros-enfant-mort-bec-de-corbin
LOCATION:Csa Next-Emerson - Via di Bellagio 15
STATUS:CONFIRMED
CATEGORIES:badtastecollective,concerto,punk hc
X-ALT-DESC;FMTTYPE=text/html:<p>18 Febbraio dalle ore 21.00</p><p>Il Collet
	tivo Bad Taste presenta: </p><p>&gt;&gt; Gros Enfant Mort  (Poitiers - Fra
	ncia)  </p><p>&gt;&gt; Bec De Corbin (Roma)</p>
END:VEVENT
BEGIN:VEVENT
UID:5778@lapunta.org
SUMMARY:ZIPPER + IONICO IONICO + VUOTO IMPERO @CSAnEXtEmerson
DTSTAMP:20260420T102548Z
DTSTART:20260125T153000Z
DTEND:20260125T193000Z
DESCRIPTION:Bad Taste Collective presenta:\n\nMILANO HARDCORE EXTRAVAGANZA\
	n\n-ZIPPER - Milano Hardcore\;\n\n-IONICO IONICO - Punk Noise - Milano\;\n
	\n-VUOTO IMPERO - Post Hardcore - Firenze.\n\nDomenica 25 Gennaio\n\n16:30
	\n\nCSA nEXt Emerson
URL:https://lapunta.org/event/zipper-ionico-ionico-vuoto-impero-csanextemer
	son
LOCATION:NextEmerson - Via di Bellagio 15\, zona Castello - Firenze
STATUS:CONFIRMED
CATEGORIES:Milano hardcore,badtastecollective,hc,punk hc
X-ALT-DESC;FMTTYPE=text/html:<p>Bad Taste Collective presenta:</p><p>MILANO
	 HARDCORE EXTRAVAGANZA</p><p>-ZIPPER - Milano Hardcore;</p><p>-IONICO IONI
	CO - Punk Noise - Milano;</p><p>-VUOTO IMPERO - Post Hardcore - Firenze.</
	p><p>Domenica 25 Gennaio</p><p>16:30 </p><p>CSA nEXt Emerson</p>
END:VEVENT
BEGIN:VEVENT
UID:5699@lapunta.org
SUMMARY:SPIRULINE + SENSUCHT + DRAGNET + MALUM MORTEM @CSAnEXtEmerson
DTSTAMP:20260420T102548Z
DTSTART:20260109T210000Z
DTEND:20260110T003000Z
DESCRIPTION:BAD TASTE COLLECTIVE presenta:\n\n9 Gennaio mega serata con\n\n
	@spiruline.hc\n\n@sehnsucht_blackenedcrust\n\n@dragnet.grind\n\n@malummort
	em_dsbm\n\ninizio ore 21:30\n\nCsa nEXt Emerson
URL:https://lapunta.org/event/spiruline-sensucht-dragnet-malum-mortem-csane
	xtemerson
LOCATION:NextEmerson - Via di Bellagio 15\, zona Castello - Firenze
STATUS:CONFIRMED
CATEGORIES:Black metal,DSBM,badtastecollective,crust,hardcore,punk
X-ALT-DESC;FMTTYPE=text/html:<p></p><p>BAD TASTE COLLECTIVE presenta:</p><p
	>9 Gennaio mega serata con</p><p>@spiruline.hc </p><p>@sehnsucht_blackened
	crust </p><p>@dragnet.grind </p><p>@malummortem_dsbm </p><p>inizio ore 21:
	30 </p><p>Csa nEXt Emerson</p>
END:VEVENT
BEGIN:VEVENT
UID:5623@lapunta.org
SUMMARY:HORRID HUMAN CONDITION + FOSGENE + REALITY + PECE @CSAnEXtEmerson
DTSTAMP:20260420T102548Z
DTSTART:20251220T210000Z
DTEND:20251221T003000Z
DESCRIPTION:BAD TASTE COLLECTIVE presenta:\n\n⚔️ MERRY F'N CRUSTMAS ⚔️\n\n-HO
	RRID HUMAN CONDITION - Crustgrind - Monopoli\;\n\n-FOSGENE - D-Beat - Pede
	montana\;\n\n-REALITY - D-Beat - Macerata\;\n\n-PECE - Death Crust - Pisa.
	\n\nSABATO 20 DICEMBRE\n\nCSA nEXt Emerson
URL:https://lapunta.org/event/horrid-human-condition-fosgene-reality-pece-c
	sanextemerson
LOCATION:NextEmerson - Via di Bellagio 15\, zona Castello - Firenze
STATUS:CONFIRMED
CATEGORIES:D-beat,badtastecollective,crust,live music,nextemerson,punk
X-ALT-DESC;FMTTYPE=text/html:<p>BAD TASTE COLLECTIVE presenta:</p><p>⚔️ MERR
	Y F'N CRUSTMAS ⚔️ </p><p>-HORRID HUMAN CONDITION - Crustgrind - Monopoli;</
	p><p>-FOSGENE - D-Beat - Pedemontana;</p><p>-REALITY - D-Beat - Macerata;<
	/p><p>-PECE - Death Crust - Pisa.</p><p>SABATO 20 DICEMBRE </p><p>CSA nEXt
	 Emerson </p>
END:VEVENT
BEGIN:VEVENT
UID:5585@lapunta.org
SUMMARY:RENÀRA + TRAMONTANA + COLDEST PLACE @CSAnEXtEmerson
DTSTAMP:20260420T102548Z
DTSTART:20251207T203000Z
DTEND:20251208T000000Z
DESCRIPTION:BAD TASTE COLLECTIVE presenta:\n\n😿 SUPER SAD SUNDAY 😿\n\nDOMEN
	ICA 7 DICEMBRE\n\n-RENÀRA - Emo - Massa\;\n\n-TRAMONTANA - Emo - Monferrat
	o\;\n\n-COLDEST PLACE - Emo Punk - Firenze.\n\nCSA nEXt Emerson\n\nInizio 
	concerti: 21:30
URL:https://lapunta.org/event/renara-tramontana-coldest-place-csanextemerso
	n
LOCATION:NextEmerson - Via di Bellagio 15\, zona Castello - Firenze
STATUS:CONFIRMED
CATEGORIES:badtastecollective,concerti,emo,live,nextemerson,punk
X-ALT-DESC;FMTTYPE=text/html:<p>BAD TASTE COLLECTIVE presenta:</p><p>😿 SUPE
	R SAD SUNDAY 😿</p><p>DOMENICA 7 DICEMBRE </p><p>-RENÀRA - Emo - Massa;</p>
	<p>-TRAMONTANA - Emo - Monferrato;</p><p>-COLDEST PLACE - Emo Punk - Firen
	ze.</p><p>CSA nEXt Emerson</p><p>Inizio concerti: 21:30</p>
END:VEVENT
BEGIN:VEVENT
UID:5468@lapunta.org
SUMMARY:CAGED + COLLIDERS + ROUGH TOUCH
DTSTAMP:20260420T102548Z
DTSTART:20251108T210000Z
DESCRIPTION:BAD TASTE COLLECTIVE PRESENTA:\n\nCaged: SXE Metalcore da Bolog
	na\n\nRough Touch: Crossover Hc da Ferrara\n\nColliders: Hardcore da Milan
	o\n\nINIZIO ORE 22:00\n\nCsa Next Emerson Via di Bellagio 15
URL:https://lapunta.org/event/caged-colliders-rough-touch
LOCATION:Csa Next-Emerson - Via di Bellagio 15
STATUS:CONFIRMED
CATEGORIES:badtastecollective,hardcore,metal,punk
X-ALT-DESC;FMTTYPE=text/html:<p>BAD TASTE COLLECTIVE PRESENTA:</p><p>Caged:
	 SXE Metalcore da Bologna</p><p>Rough Touch: Crossover Hc da Ferrara</p><p
	>Colliders: Hardcore da Milano</p><p>INIZIO ORE 22:00</p><p>Csa Next Emers
	on Via di Bellagio 15</p>
END:VEVENT
BEGIN:VEVENT
UID:5454@lapunta.org
SUMMARY:NATURALEZA SUPREMA + PAVEL @CSAnEXtEmerson
DTSTAMP:20260420T102548Z
DTSTART:20251106T203000Z
DTEND:20251107T000000Z
DESCRIPTION:Bad Taste Collective (RAP)presenta:\n\nGIOVEDÌ 6 NOVEMBRE\n\nRE
	BELÍON HARDCORE - HIP HOP NIGHT\n\nNATURALEZA SUPREMA - Hip Hop Transfemmi
	nista - Bogotá (COL)\n\nPAVEL - Hardcore Rap - Bologna\n\nCSA nEXt Emerson
	\n\nINIZIO LIVE: 21:30
URL:https://lapunta.org/event/naturaleza-suprema-pavel-csanextemerson
LOCATION:Csa Next-Emerson - Via di Bellagio 15
STATUS:CONFIRMED
CATEGORIES:HipHop,badtastecollective,hardcore,hip hop,hip-hop,rap,transfemm
	inismo
X-ALT-DESC;FMTTYPE=text/html:<p>Bad Taste Collective (RAP)presenta:</p><p>G
	IOVEDÌ 6 NOVEMBRE </p><p>REBELÍON HARDCORE - HIP HOP NIGHT </p><p>NATURALE
	ZA SUPREMA - Hip Hop Transfemminista - Bogotá (COL)</p><p>PAVEL - Hardcore
	 Rap - Bologna</p><p>CSA nEXt Emerson</p><p>INIZIO LIVE: 21:30</p>
END:VEVENT
BEGIN:VEVENT
UID:5387@lapunta.org
SUMMARY:DIE ABETE + CHEVALIER + TRELKOVSKY + LUMIÈRE + LAURIE BIRD @CSAnEXt
	Emerson
DTSTAMP:20260420T102548Z
DTSTART:20251031T190000Z
DTEND:20251101T000000Z
DESCRIPTION:VENERDÌ 31 OTTOBRE\n\nAnche quest'anno ci troviamo a festeggiar
	e Halloween all'Emerson tutti insieme\ncon una serata d'eccezione:\n\n\n\n
	INIZIO ORE 20:\n\n\n\n-DIE ABETE - Post-Hardcore - Terni\;\n\n-CHEVALIER -
	 Emoviolence - Emilia\;\n\n-TRELKOVSKY - Blackened Screamo - Modena\;\n\n-
	LUMIÈRE - Skramz - Firenze\;\n\n-LAURIE BIRD - Screamo - Roma.\n\n\n\nCSA 
	nEXt Emerson\, Via di Bellagio 15
URL:https://lapunta.org/event/die-abete-chevalier-trelkovsky-lumiere-laurie
	-bird-csanextemerson
LOCATION:NextEmerson - Via di Bellagio 15\, zona Castello - Firenze
STATUS:CONFIRMED
CATEGORIES:Halloween,badtastecollective,emo,punk,screamo
X-ALT-DESC;FMTTYPE=text/html:<p>VENERDÌ 31 OTTOBRE</p><p>Anche quest'anno c
	i troviamo a festeggiare Halloween all'Emerson tutti insieme con una serat
	a d'eccezione:</p><p></p><p>INIZIO ORE 20:</p><p></p><p>-DIE ABETE - Post-
	Hardcore - Terni;</p><p>-CHEVALIER - Emoviolence - Emilia;</p><p>-TRELKOVS
	KY - Blackened Screamo - Modena;</p><p>-LUMIÈRE - Skramz - Firenze;</p><p>
	-LAURIE BIRD - Screamo - Roma.</p><p></p><p>CSA nEXt Emerson, Via di Bella
	gio 15</p>
END:VEVENT
BEGIN:VEVENT
UID:5356@lapunta.org
SUMMARY:IMPLODERS + SENTORE DEL MALIGNIO @CSAnEXtEmerson
DTSTAMP:20260420T102548Z
DTSTART:20251020T190000Z
DTEND:20251020T230000Z
DESCRIPTION:BAD TASTE COLLECTIVE presenta:\n\nLUNEDÌ 20 OTTOBRE\n\n-IMPLODE
	RS - Hardcore Punk - Toronto\, Canada\;\n\n-SENTORE DEL MALIGNIO - Emiliop
	unk - Firenze.\n\nCSA nEXt Emerson\n\nSi inizia dalle 21 con furore
URL:https://lapunta.org/event/imploders-sentore-del-malignio-csanextemerson
LOCATION:NextEmerson - Via di Bellagio 15\, zona Castello - Firenze
STATUS:CONFIRMED
CATEGORIES:badtastecollective,nextemerson,punk hc
X-ALT-DESC;FMTTYPE=text/html:<p>BAD TASTE COLLECTIVE presenta:</p><p>LUNEDÌ
	 20 OTTOBRE </p><p>-IMPLODERS - Hardcore Punk - Toronto, Canada;</p><p>-SE
	NTORE DEL MALIGNIO - Emiliopunk - Firenze.</p><p>CSA nEXt Emerson</p><p>Si
	 inizia dalle 21 con furore</p>
END:VEVENT
BEGIN:VEVENT
UID:5315@lapunta.org
SUMMARY:Padova Hardcore Invasion - Bad Taste
DTSTAMP:20260420T102548Z
DTSTART:20251005T140000Z
DTEND:20251005T173000Z
DESCRIPTION:Concerto Hardcore punk con\n\n\n\nSilver\n\n3nd7r\n\nSubstrata
URL:https://lapunta.org/event/bad-taste-2
LOCATION:NextEmerson - Via di Bellagio 15\, zona Castello - Firenze
STATUS:CONFIRMED
CATEGORIES:Firenze,badtastecollective,hardcore,punk
X-ALT-DESC;FMTTYPE=text/html:<p>Concerto Hardcore punk con</p><p></p><p>Sil
	ver</p><p>3nd7r</p><p>Substrata</p>
END:VEVENT
BEGIN:VEVENT
UID:4897@lapunta.org
SUMMARY:BAD TASTE FEST vol. II @CSA nEXt Emerson
DTSTAMP:20260420T102548Z
DTSTART:20250601T153000Z
DTEND:20250601T230000Z
DESCRIPTION:BAD TASTE COLLECTIVE presenta:\n\nBAD TASTE FEST vol. II\n\n\n\
	n-ASTIO - Post-Punk - Trento\;\n\n-CARLOS DUNGA - Thrashcore - Firenze\;\n
	\n-HORROR VACUI - Death Rock - Bologna\;\n\n-POTERE NEGATIVO - Hardcore Ch
	aos Punk - Milano\;\n\n-ROGO - Distorted Punk - Roma\;\n\n-SERPE TERROR - 
	Electro Punk - Pordenone\;\n\n-66cl - Crossover Discount Punx - Rovereto.\
	n\n\n\nDALLE 16:00: distro/autoproduzioni\, mostre\, DJ set\;\n\n\n\nDALLE
	 17:30 (REALI): inizio live.
URL:https://lapunta.org/event/bad-taste-fest-vol-ii-csa-next-emerson
LOCATION:NextEmerson - Via di Bellagio 15\, zona Castello - Firenze
STATUS:CONFIRMED
CATEGORIES:autoproduzioni,badtastecollective,badtastefestvolii,festival,liv
	e music,post punk,punk,punk hc
X-ALT-DESC;FMTTYPE=text/html:<p>BAD TASTE COLLECTIVE presenta:</p><p>BAD TA
	STE FEST vol. II</p><p></p><p>-ASTIO - Post-Punk - Trento;</p><p>-CARLOS D
	UNGA - Thrashcore - Firenze;</p><p>-HORROR VACUI - Death Rock - Bologna;</
	p><p>-POTERE NEGATIVO - Hardcore Chaos Punk - Milano;</p><p>-ROGO - Distor
	ted Punk - Roma;</p><p>-SERPE TERROR - Electro Punk - Pordenone;</p><p>-66
	cl - Crossover Discount Punx - Rovereto.</p><p></p><p>DALLE 16:00: distro/
	autoproduzioni, mostre, DJ set;</p><p></p><p>DALLE 17:30 (REALI): inizio l
	ive.</p>
END:VEVENT
BEGIN:VEVENT
UID:4895@lapunta.org
SUMMARY:BAD TASTE COLLECTIVE presenta: SHORT DAYS + BARREN + VERGOGNA @CSA 
	nEXt Emerson
DTSTAMP:20260420T102548Z
DTSTART:20250527T190000Z
DTEND:20250527T220000Z
DESCRIPTION:BAD TASTE COLLECTIVE presenta:\n\n\n\nBAD TASTE FEST WARM UP II
	\n\n\n\n-SHORT DAYS - Punk Rock - Lille\;\n\n-BARREN - Anarcho-Punk - Pari
	s\;\n\n-VERGOGNA - Street Punk - Firenze.\n\n\n\nInizio concerti: 21:00\n\
	nIngresso: €3
URL:https://lapunta.org/event/bad-taste-collective-presenta-short-days-barr
	en-vergogna-csa-next-emerson
LOCATION:NextEmerson - Via di Bellagio 15\, zona Castello - Firenze
STATUS:CONFIRMED
CATEGORIES:badtastecollective,live music,punk rock
X-ALT-DESC;FMTTYPE=text/html:<p>BAD TASTE COLLECTIVE presenta:</p><p></p><p
	>BAD TASTE FEST WARM UP II</p><p></p><p>-SHORT DAYS - Punk Rock - Lille;</
	p><p>-BARREN - Anarcho-Punk - Paris;</p><p>-VERGOGNA - Street Punk - Firen
	ze.</p><p></p><p>Inizio concerti: 21:00</p><p>Ingresso: €3</p>
END:VEVENT
BEGIN:VEVENT
UID:4896@lapunta.org
SUMMARY:BAD TASTE COLLECTIVE presenta: BUENOS VAMPIROS + SISTEMA DE ENTRETE
	NIMIENTO + I FINNEGANS @CSA nEXt Emerson
DTSTAMP:20260420T102548Z
DTSTART:20250514T190000Z
DTEND:20250514T220000Z
DESCRIPTION:BAD TASTE COLLECTIVE presenta:\n\n\n\nBAD TASTE FEST WARM UP I\
	n\n\n\n-BUENOS VAMPIROS - Post Punk - Argentina\;\n\n-SISTEMA DE ENTRETENI
	MIENTO - Arcade Punk - Catalonia\n\n-I FINNEGANS - Death Pop - Brianza\n\n
	\n\nInizio concerti: 21:00\n\nIngresso: €3
URL:https://lapunta.org/event/bad-taste-collective-presenta-buenos-vampiros
	-sistema-de-entretenimiento-i-finnegans-csa-next-emerson
LOCATION:NextEmerson - Via di Bellagio 15\, zona Castello - Firenze
STATUS:CONFIRMED
CATEGORIES:badtastecollective,live music,post punk
X-ALT-DESC;FMTTYPE=text/html:<p>BAD TASTE COLLECTIVE presenta:</p><p></p><p
	>BAD TASTE FEST WARM UP I</p><p></p><p>-BUENOS VAMPIROS - Post Punk - Arge
	ntina;</p><p>-SISTEMA DE ENTRETENIMIENTO - Arcade Punk - Catalonia</p><p>-
	I FINNEGANS - Death Pop - Brianza</p><p></p><p>Inizio concerti: 21:00</p><
	p>Ingresso: €3</p>
END:VEVENT
BEGIN:VEVENT
UID:4052@lapunta.org
SUMMARY:Nightwatchers + Nohz + Alfatec
DTSTAMP:20260420T102548Z
DTSTART:20240926T193000Z
DTEND:20240926T215500Z
DESCRIPTION:Giovedì 26 Settembre cominciamo la nuova stagione di concerti\n
	\nVi aspettiamo come sempre al CSA Next Emerson\n\nNightwatchers - Post Pu
	nk - Toulouse (FR)\nhttps://www.instagram.com/nightwatcherspunk/\n[https:/
	/www.instagram.com/nightwatcherspunk/]\nhttps://nightwatcherspunk.bandcamp
	.com/music\n[https://nightwatcherspunk.bandcamp.com/music]\n\nNohz - Raw P
	unk - Toulouse (FR)\nhttps://www.instagram.com/nohznohznohz/\n[https://www
	.instagram.com/nohznohznohz/]\nhttps://nohz.bandcamp.com/music [https://no
	hz.bandcamp.com/music]\n\nAlfatec - Hardcore Punk - Firenze\nhttps://www.i
	nstagram.com/alfatec_band/\n[https://www.instagram.com/alfatec_band/]\nhtt
	ps://alfatec.bandcamp.com/ [https://alfatec.bandcamp.com/]\n\nMostra meno
URL:https://lapunta.org/event/nightwatchers-nohz-alfatec
LOCATION:Csa Next-Emerson - Via di Bellagio 15
STATUS:CONFIRMED
CATEGORIES:badtastecollective,concerti,nextemerson
X-ALT-DESC;FMTTYPE=text/html:<p>Giovedì 26 Settembre cominciamo la nuova st
	agione di concerti</p><p>Vi aspettiamo come sempre al CSA Next Emerson</p>
	<p>Nightwatchers - Post Punk - Toulouse (FR)<br><a target="_blank" href="h
	ttps://www.instagram.com/nightwatcherspunk/">https://www.instagram.com/nig
	htwatcherspunk/</a><br><a target="_blank" href="https://nightwatcherspunk.
	bandcamp.com/music">https://nightwatcherspunk.bandcamp.com/music</a></p><p
	>Nohz - Raw Punk - Toulouse (FR)<br><a target="_blank" href="https://www.i
	nstagram.com/nohznohznohz/">https://www.instagram.com/nohznohznohz/</a><br
	><a target="_blank" href="https://nohz.bandcamp.com/music">https://nohz.ba
	ndcamp.com/music</a></p><p>Alfatec - Hardcore Punk - Firenze<br><a target=
	"_blank" href="https://www.instagram.com/alfatec_band/">https://www.instag
	ram.com/alfatec_band/</a><br><a target="_blank" href="https://alfatec.band
	camp.com/">https://alfatec.bandcamp.com/</a></p><p><strong>Mostra meno</st
	rong></p>
END:VEVENT
END:VCALENDAR
