BEGIN:VCALENDAR
VERSION:2.0
CALSCALE:GREGORIAN
PRODID:adamgibbons/ics
METHOD:PUBLISH
X-PUBLISHED-TTL:PT1H
BEGIN:VEVENT
UID:5300@lapunta.org
SUMMARY:TREBESTIVAL 5° edizione - Festival dello Sport Popolare
DTSTAMP:20260420T090037Z
DTSTART:20250912T163000Z
DTEND:20250914T215900Z
DESCRIPTION:𝐓𝐑𝐄𝐁𝐄𝐒𝐓𝐈𝐕𝐀𝐋 - 𝟓° 𝐞𝐝𝐢𝐳𝐢𝐨𝐧𝐞 🐝 | Festival dello Sport Popolare\n|\
	n\n𝘌𝘷𝘦𝘯𝘵𝘰 𝘱𝘦𝘳 𝘭𝘢 𝘤𝘢𝘮𝘱𝘢𝘨𝘯𝘢 𝘥𝘪 𝘵𝘦𝘴𝘴𝘦𝘳𝘢𝘮𝘦𝘯𝘵𝘰 2025/26\,\n𝘪𝘯𝘨𝘳𝘦𝘴𝘴𝘰 𝘳𝘪𝘴𝘦𝘳𝘷𝘢𝘵𝘰 𝘢 
	𝘴𝘰𝘤𝘪/𝘦. 𝘋𝘪𝘷𝘦𝘯𝘵𝘢 𝘱𝘢𝘳𝘵𝘦\n𝘥𝘦𝘭𝘭𝘢 𝘯𝘰𝘴𝘵𝘳𝘢 𝘤𝘰𝘮𝘶𝘯𝘪𝘵à 𝘴𝘱𝘰𝘳𝘵𝘪𝘷𝘢\n𝘢𝘯𝘵𝘪𝘧𝘢𝘴𝘤𝘪𝘴𝘵𝘢\, 𝘢𝘯𝘵𝘪
	𝘴𝘦𝘴𝘴𝘪𝘴𝘵𝘢 𝘦 𝘢𝘯𝘵𝘪𝘳𝘢𝘻𝘻𝘪𝘴𝘵𝘢.\n\n📅 12\, 13 e 14 settembre 2025\n\n🏟️ Stadio Bard
	o\, Sorbano del Giudice\, Lucca\n\n📢 𝗣𝗥𝗢𝗚𝗥𝗔𝗠𝗠𝗔 𝗖𝗢𝗠𝗣𝗟𝗘𝗧𝗢 📢\nFinalmente è on
	line il programma completo del TREBESTIVAL – 5° edizione: tre\ngiorni di s
	port popolare\, concerti\, presentazioni\, dibattiti\, banchetti\,\nautopr
	oduzioni\, attività per bimbi e bimbe e convivialità\n\n𝗩𝗘𝗡𝗘𝗥𝗗Ì 𝟭𝟮 𝗦𝗘𝗧𝗧𝗘𝗠𝗕
	𝗥𝗘\n18:30 – 𝗣𝗿𝗲𝘀𝗲𝗻𝘁𝗮𝘇𝗶𝗼𝗻𝗲 𝗱𝗶 ''𝙏𝙤𝙧𝙧𝙞 – 𝙐𝙣 𝙛𝙪𝙢𝙚𝙩𝙩𝙤\n𝙞𝙙𝙚𝙖𝙡𝙚 𝙥𝙚𝙧 𝙘𝙝𝙞 𝙫𝙞𝙫𝙚 𝙡𝙖 
	𝙨𝙘𝙪𝙤𝙡𝙖 𝙚 𝙡𝙖\n𝙥𝙚𝙧𝙞𝙛𝙚𝙧𝙞𝙖'' con l’autore Militanza Grafica\, modera Nicol Cla
	roni\n20:30 – 𝗣𝗲𝗿𝗳𝗼𝗿𝗺𝗮𝗻𝗰𝗲 𝗲 𝗝𝗮𝗺 𝗦𝗲𝘀𝘀𝗶𝗼𝗻 𝗱𝗶\n𝗮𝗰𝗿𝗼𝗯𝗮𝘁𝗶𝗰𝗮 𝗮𝗲𝗿𝗲𝗮\n21:30 – Live
	 𝗡𝗶𝗱𝗼 𝗱𝗶 𝗩𝗲𝘀𝗽𝗲 𝗞𝗥𝗔𝗩 𝗕𝗢𝗖𝗔 Aftershow: 𝗗𝗝\n𝗦𝗸𝗮𝗽𝗽𝗲 (ska\, punk\, rock’n’roll)\
	n:::::::::::::::::::::::::::::::::::::::::::::::::::::::::::::::::::::::::
	\n\n𝗦𝗔𝗕𝗔𝗧𝗢 𝟭𝟯 𝗦𝗘𝗧𝗧𝗘𝗠𝗕𝗥𝗘\n10:00 – Tornei Sportivi 𝗧𝗮𝗿𝗮𝗯𝗮𝗿𝗮𝗹𝗹𝗮 Torneo di cal
	cio a 5 femminile\npopolare e no borders 𝗖𝗮𝗹𝗰𝗶𝗼 𝗮 𝟱 𝗠𝗮𝘀𝗰𝗵𝗶𝗹𝗲 𝗚𝗿𝗲𝗲𝗻\n𝗩𝗼𝗹𝗹𝗲𝘆
	 𝗺𝗶𝘀𝘁𝗼 𝟰𝘃𝘀𝟰\n16:00 – 𝗕𝗼𝘅𝗲 𝗣𝗼𝗽𝗼𝗹𝗮𝗿𝗲 Allenamento condiviso. A seguire dalle 
	18\nesibizioni sull’Agro-Ring\n20:00 – 𝗣𝗿𝗲𝗺𝗶𝗮𝘇𝗶𝗼𝗻𝗲 𝗱𝗲𝗹𝗹𝗲 𝗿𝗲𝗮𝗹𝘁𝗮' 𝗽𝗮𝗿𝘁𝗲𝗰𝗶𝗽𝗮
	𝗻𝘁𝗶\n20:30 – 𝙍𝙚𝙬𝙞𝙣𝙙 · Spettacolo di danza a cura del collettivo RYLAB\n21:
	30 – Live 𝗣𝗿𝗼𝗹𝗲𝘅 & 𝗭𝗮𝗰 𝗕𝗹𝘂𝗲 𝗙𝗨𝗖𝗞𝗦𝗜𝗔 Aftershow: 𝗪𝗶𝗹𝗱\n𝗦𝘁𝗲𝗽 (electrodub\, du
	btek)\n:::::::::::::::::::::::::::::::::::::::::::::::::::::::::::::::::::
	::::::\n\n𝗗𝗢𝗠𝗘𝗡𝗜𝗖𝗔 𝟭𝟰 𝗦𝗘𝗧𝗧𝗘𝗠𝗕𝗥𝗘\n11:00 – 𝗩𝗶𝗻𝘆𝗮𝘀𝗮 𝗬𝗼𝗴𝗮 classe di presentazi
	one\n12:00 – 𝗧𝗮𝘃𝗼𝗹𝗶 𝗱𝗶 𝗰𝗼𝗻𝗱𝗶𝘃𝗶𝘀𝗶𝗼𝗻𝗲 𝗲 𝗰𝗼𝗻𝗳𝗿𝗼𝗻𝘁𝗼\n𝗦𝗽𝗼𝗿𝘁 𝗲 𝗚𝗲𝗻𝗲𝗿𝗲\n15:00 – 𝗧
	𝗼𝗿𝗻𝗲𝗼 𝗱𝗶 𝗕𝘂𝗿𝗿𝗮𝗰𝗼 iscrizioni in loco\n16:30 – 𝗔𝘁𝘁𝗶𝘃𝗶𝘁𝗮' 𝗲 𝗹𝗮𝗯𝗼𝗿𝗮𝘁𝗼𝗿𝗶𝗼 𝗰𝗿𝗲𝗮𝘁
	𝗶𝘃𝗼 𝗽𝗲𝗿\n𝗯𝗮𝗺𝗯𝗶𝗻𝗶 𝗲 𝗯𝗮𝗺𝗯𝗶𝗻𝗲\n18:30 – 𝗣𝗿𝗲𝘀𝗲𝗻𝘁𝗮𝘇𝗶𝗼𝗻𝗲 𝗱𝗲𝗹 𝗹𝗶𝗯𝗿𝗼 ''𝙉𝙚*𝙧𝙞 𝙘𝙤𝙣 𝙡𝙚
	\n𝙋𝙞𝙨𝙩𝙤𝙡𝙚'' 𝗱𝗶 𝗥𝗼𝗯𝗲𝗿𝘁 𝗙. 𝗪𝗶𝗹𝗹𝗶𝗮𝗺𝘀 con Iacopo Chiaravalli\n(redazione proge
	tto Me-Ti)\, modera Nicoletta Gini\n20:30 – 𝗣𝗿𝗲𝘀𝗲𝗻𝘁𝗮𝘇𝗶𝗼𝗻𝗲 𝗱𝗲𝗹𝗹𝗲 𝗿𝗲𝗮𝗹𝘁𝗮' 𝘀𝗽
	𝗼𝗿𝘁𝗶𝘃𝗲\n𝗧𝗿𝗲𝗯𝗲𝘀𝘁𝗲\n21:30 – Live 𝗪𝗲𝗲𝗸𝗲𝗻𝗱 𝗠𝗮𝗿𝘁𝘆𝗿 𝗚𝗜𝗢𝗥𝗚𝗜𝗢 𝗖𝗔𝗡𝗔𝗟𝗜 – 𝗿 𝗼 𝘀\n𝘀 𝗼 
	𝘀 𝗼 𝗹 𝗼\n:::::::::::::::::::::::::::::::::::::::::::::::::::::::::::::::::
	::::::::\n\n🎉 Tutti i giorni: – Area Bimbi con giochi e libri – Cucina con
	viviale e\ncondivisa – Banchetti e Autoproduzioni\n\n:::::::::::::::::::::
	::::::::::::::::::::::::::::::::::::::::::::::::::::\n\nTi aspettiamo allo
	 Stadio Bardo. Avanti sport popolare. Avanti Trebesto. 🟡⚫\n\n:::::::::::::
	::::::::::::::::::::::::::::::::::::::::::::::::::::::::::::\n\nEvento pri
	vato per la campagna di tesseramento 2025/26\, ingresso riservato a\nsoci/
	e della ASD C.\nPopolare Trebesto https://www.facebook.com/events/37451033
	72299789/\n[https://www.facebook.com/events/3745103372299789/]
URL:https://lapunta.org/event/trebestival-5degree-edizione-festival-dello-s
	port-popolare
LOCATION:Stadio Bardo - Trebesto - Via Sorbano del Giudice\, 20\, 55100 Luc
	ca LU
STATUS:CONFIRMED
CATEGORIES:Boxe Popolare,Calcio popolare,Lucca,Sport popolare,antifascismo,
	concerti,dibattiti,live music
X-ALT-DESC;FMTTYPE=text/html:<p>𝐓𝐑𝐄𝐁𝐄𝐒𝐓𝐈𝐕𝐀𝐋 - 𝟓° 𝐞𝐝𝐢𝐳𝐢𝐨𝐧𝐞 🐝 | Festival dell
	o Sport Popolare | </p><p>𝘌𝘷𝘦𝘯𝘵𝘰 𝘱𝘦𝘳 𝘭𝘢 𝘤𝘢𝘮𝘱𝘢𝘨𝘯𝘢 𝘥𝘪 𝘵𝘦𝘴𝘴𝘦𝘳𝘢𝘮𝘦𝘯𝘵𝘰 2025/26, 
	𝘪𝘯𝘨𝘳𝘦𝘴𝘴𝘰 𝘳𝘪𝘴𝘦𝘳𝘷𝘢𝘵𝘰 𝘢 𝘴𝘰𝘤𝘪/𝘦. 𝘋𝘪𝘷𝘦𝘯𝘵𝘢 𝘱𝘢𝘳𝘵𝘦 𝘥𝘦𝘭𝘭𝘢 𝘯𝘰𝘴𝘵𝘳𝘢 𝘤𝘰𝘮𝘶𝘯𝘪𝘵à 𝘴𝘱𝘰𝘳𝘵𝘪𝘷𝘢 
	𝘢𝘯𝘵𝘪𝘧𝘢𝘴𝘤𝘪𝘴𝘵𝘢, 𝘢𝘯𝘵𝘪𝘴𝘦𝘴𝘴𝘪𝘴𝘵𝘢 𝘦 𝘢𝘯𝘵𝘪𝘳𝘢𝘻𝘻𝘪𝘴𝘵𝘢. </p><p>📅 12, 13 e 14 settembre 
	2025 </p><p>🏟️ Stadio Bardo, Sorbano del Giudice, Lucca </p><p>📢 𝗣𝗥𝗢𝗚𝗥𝗔𝗠𝗠𝗔 
	𝗖𝗢𝗠𝗣𝗟𝗘𝗧𝗢 📢 <br>Finalmente è online il programma completo del TREBESTIVAL –
	 5° edizione: tre giorni di sport popolare, concerti, presentazioni, dibat
	titi, banchetti, autoproduzioni, attività per bimbi e bimbe e convivialità
	 </p><p>𝗩𝗘𝗡𝗘𝗥𝗗Ì 𝟭𝟮 𝗦𝗘𝗧𝗧𝗘𝗠𝗕𝗥𝗘 <br>18:30 – 𝗣𝗿𝗲𝘀𝗲𝗻𝘁𝗮𝘇𝗶𝗼𝗻𝗲 𝗱𝗶 ''𝙏𝙤𝙧𝙧𝙞 – 𝙐𝙣 𝙛𝙪𝙢
	𝙚𝙩𝙩𝙤 𝙞𝙙𝙚𝙖𝙡𝙚 𝙥𝙚𝙧 𝙘𝙝𝙞 𝙫𝙞𝙫𝙚 𝙡𝙖 𝙨𝙘𝙪𝙤𝙡𝙖 𝙚 𝙡𝙖 𝙥𝙚𝙧𝙞𝙛𝙚𝙧𝙞𝙖'' con l’autore Militanza
	 Grafica, modera Nicol Claroni <br>20:30 – 𝗣𝗲𝗿𝗳𝗼𝗿𝗺𝗮𝗻𝗰𝗲 𝗲 𝗝𝗮𝗺 𝗦𝗲𝘀𝘀𝗶𝗼𝗻 𝗱𝗶 𝗮𝗰
	𝗿𝗼𝗯𝗮𝘁𝗶𝗰𝗮 𝗮𝗲𝗿𝗲𝗮 <br>21:30 – Live 𝗡𝗶𝗱𝗼 𝗱𝗶 𝗩𝗲𝘀𝗽𝗲 𝗞𝗥𝗔𝗩 𝗕𝗢𝗖𝗔 Aftershow: 𝗗𝗝 𝗦𝗸𝗮𝗽
	𝗽𝗲 (ska, punk, rock’n’roll) <br>::::::::::::::::::::::::::::::::::::::::::
	::::::::::::::::::::::::::::::: </p><p>𝗦𝗔𝗕𝗔𝗧𝗢 𝟭𝟯 𝗦𝗘𝗧𝗧𝗘𝗠𝗕𝗥𝗘 <br>10:00 – Tor
	nei Sportivi 𝗧𝗮𝗿𝗮𝗯𝗮𝗿𝗮𝗹𝗹𝗮 Torneo di calcio a 5 femminile popolare e no bord
	ers 𝗖𝗮𝗹𝗰𝗶𝗼 𝗮 𝟱 𝗠𝗮𝘀𝗰𝗵𝗶𝗹𝗲 𝗚𝗿𝗲𝗲𝗻 𝗩𝗼𝗹𝗹𝗲𝘆 𝗺𝗶𝘀𝘁𝗼 𝟰𝘃𝘀𝟰 <br>16:00 – 𝗕𝗼𝘅𝗲 𝗣𝗼𝗽𝗼𝗹𝗮𝗿𝗲 
	Allenamento condiviso. A seguire dalle 18 esibizioni sull’Agro-Ring <br>20
	:00 – 𝗣𝗿𝗲𝗺𝗶𝗮𝘇𝗶𝗼𝗻𝗲 𝗱𝗲𝗹𝗹𝗲 𝗿𝗲𝗮𝗹𝘁𝗮' 𝗽𝗮𝗿𝘁𝗲𝗰𝗶𝗽𝗮𝗻𝘁𝗶 <br>20:30 – 𝙍𝙚𝙬𝙞𝙣𝙙 · Spettaco
	lo di danza a cura del collettivo RYLAB <br>21:30 – Live 𝗣𝗿𝗼𝗹𝗲𝘅 &amp; 𝗭𝗮𝗰 
	𝗕𝗹𝘂𝗲 𝗙𝗨𝗖𝗞𝗦𝗜𝗔 Aftershow: 𝗪𝗶𝗹𝗱 𝗦𝘁𝗲𝗽 (electrodub, dubtek) <br>:::::::::::::::
	:::::::::::::::::::::::::::::::::::::::::::::::::::::::::: </p><p>𝗗𝗢𝗠𝗘𝗡𝗜𝗖𝗔
	 𝟭𝟰 𝗦𝗘𝗧𝗧𝗘𝗠𝗕𝗥𝗘 <br>11:00 – 𝗩𝗶𝗻𝘆𝗮𝘀𝗮 𝗬𝗼𝗴𝗮 classe di presentazione <br>12:00 –
	 𝗧𝗮𝘃𝗼𝗹𝗶 𝗱𝗶 𝗰𝗼𝗻𝗱𝗶𝘃𝗶𝘀𝗶𝗼𝗻𝗲 𝗲 𝗰𝗼𝗻𝗳𝗿𝗼𝗻𝘁𝗼 𝗦𝗽𝗼𝗿𝘁 𝗲 𝗚𝗲𝗻𝗲𝗿𝗲 <br>15:00 – 𝗧𝗼𝗿𝗻𝗲𝗼 𝗱𝗶 𝗕
	𝘂𝗿𝗿𝗮𝗰𝗼 iscrizioni in loco <br>16:30 – 𝗔𝘁𝘁𝗶𝘃𝗶𝘁𝗮' 𝗲 𝗹𝗮𝗯𝗼𝗿𝗮𝘁𝗼𝗿𝗶𝗼 𝗰𝗿𝗲𝗮𝘁𝗶𝘃𝗼 𝗽𝗲𝗿
	 𝗯𝗮𝗺𝗯𝗶𝗻𝗶 𝗲 𝗯𝗮𝗺𝗯𝗶𝗻𝗲 <br>18:30 – 𝗣𝗿𝗲𝘀𝗲𝗻𝘁𝗮𝘇𝗶𝗼𝗻𝗲 𝗱𝗲𝗹 𝗹𝗶𝗯𝗿𝗼 ''𝙉𝙚*𝙧𝙞 𝙘𝙤𝙣 𝙡𝙚 𝙋𝙞𝙨𝙩
	𝙤𝙡𝙚'' 𝗱𝗶 𝗥𝗼𝗯𝗲𝗿𝘁 𝗙. 𝗪𝗶𝗹𝗹𝗶𝗮𝗺𝘀 con Iacopo Chiaravalli (redazione progetto Me-
	Ti), modera Nicoletta Gini <br>20:30 – 𝗣𝗿𝗲𝘀𝗲𝗻𝘁𝗮𝘇𝗶𝗼𝗻𝗲 𝗱𝗲𝗹𝗹𝗲 𝗿𝗲𝗮𝗹𝘁𝗮' 𝘀𝗽𝗼𝗿𝘁𝗶𝘃
	𝗲 𝗧𝗿𝗲𝗯𝗲𝘀𝘁𝗲 <br>21:30 – Live 𝗪𝗲𝗲𝗸𝗲𝗻𝗱 𝗠𝗮𝗿𝘁𝘆𝗿 𝗚𝗜𝗢𝗥𝗚𝗜𝗢 𝗖𝗔𝗡𝗔𝗟𝗜 – 𝗿 𝗼 𝘀 𝘀 𝗼 𝘀 𝗼 
	𝗹 𝗼 <br>::::::::::::::::::::::::::::::::::::::::::::::::::::::::::::::::::
	::::::: </p><p>🎉 Tutti i giorni: – Area Bimbi con giochi e libri – Cucina 
	conviviale e condivisa – Banchetti e Autoproduzioni </p><p>:::::::::::::::
	:::::::::::::::::::::::::::::::::::::::::::::::::::::::::: </p><p>Ti aspet
	tiamo allo Stadio Bardo. Avanti sport popolare. Avanti Trebesto. 🟡⚫ </p><p
	>:::::::::::::::::::::::::::::::::::::::::::::::::::::::::::::::::::::::::
	 </p><p>Evento privato per la campagna di tesseramento 2025/26, ingresso r
	iservato a soci/e della ASD C. <br>Popolare Trebesto <a target="_blank" hr
	ef="https://www.facebook.com/events/3745103372299789/">https://www.faceboo
	k.com/events/3745103372299789/</a></p>
END:VEVENT
BEGIN:VEVENT
UID:2883@lapunta.org
SUMMARY:Antares. Festival di Cura e Cultura
DTSTAMP:20260420T090037Z
DTSTART:20230908T150000Z
DTEND:20230909T213000Z
DESCRIPTION:Antares\, Festival di Cura e Cultura\, arriva a Figline!\nPer t
	re giorni\, 8\, 9 e 10 settembre\, gli spazi del nostro circolo si riempir
	anno\ndi dibattiti\, incontri\, laboratori e musica.\nAntares non sarà sol
	o un luogo in cui ascoltare\, ma soprattutto un modo di\nrelazionarci\, un
	o spazio in cui intrecciarsi: insieme costruiremo giocattoli\,\npercorrere
	mo sentieri\, danzeremo. Avremo tempo di divertirci\, di immaginare e\nimp
	arare!\nNella comunità che vorremmo essere l’interdipendenza\, la consapev
	olezza della\nvulnerabilità e la lotta all'individualismo sono presenti co
	me pratiche di cura.\nLa cura è per noi un motore alternativo e contrario 
	al profitto\, e nello spazio\ndi Antares ne parleremo sotto vari aspetti: 
	socio-sanitario\, ambientale e del\nterritorio\, nelle relazioni di comuni
	tà e di lavoro. Troveremo lo spazio per\ncapire come essere circolo oggi.\
	n\nPROGRAMMA COMPLETO:\nVenerdì 8 settembre\n\nSala carte - h 17.00\nTavol
	a rotonda. Lavoro culturale\nQual è lo stato di salute culturale della cit
	tà? Ne parliamo con chi opera\, si\nassocia\, lavora nel mondo culturale p
	ratese.\n\nChiosco della Strega - h 17.00\nScrivere dai margini\nLaborator
	io di scrittura. Raccontare è uno strumento che abbiamo per lottare\,\nres
	istere\, esistere e prenderci cura di quello che abbiamo intorno. Rivolto 
	a\ninsegnanti e a tutta la comunità educante.\nA cura di Michele Arena - P
	orto delle Storie\n\nSala carte - h 18.30\nEducare al consenso\nLa scuola 
	può essere la base su cui fondare una cultura antisessista. Come\nlavorare
	 sulla prevenzione alla violenza e sul contrasto agli stereotipi di\ngener
	e in classe?\nCon Elena La Greca e Francesca Cuccarese\, operatrici del ce
	ntro antiviolenza La\nNara\ne Daniela Bagattini\, ricercatrice INDIRE.\n\n
	Sala carte - h 20.30\nIl corpo politico. Convergenze sul territorio\nQuali
	 sono e come portiamo avanti le nostre lotte? Possiamo costruire una\ncomu
	nità di cura a partire da questi soggetti di lotta?\nCon Marie Moïse\, att
	ivista e ricercatrice femminista\nCollettivo di fabbrica GKN\nSiCobas Prat
	o-Firenze.\n\nh 21.30\nSierra Club Selection djset\n\nSabato 9 settembre\n
	\nTerrazza - h 10.00\nPiccol3 FalegnAle crescono\nLaboratorio di falegname
	ria. Partiremo da pezzi di legno di ricliclo per\nrealizzare giocattoli co
	n le nostre mani. Per bambin3 dagli 8 anni in su.\nBraccialetti dell'amici
	zia\nLaboratorio di realizzazione di braccialetti. Per bambin3 dai 4 anni 
	in su.\nA cura di Riciclidea.\n\nChiosco della Strega - h 11.00\nNatura in
	 città. Il ruolo del verde urbano\nA cosa servono gli spazi naturali in ci
	ttà? Parliamo dello sviluppo e della\ngestione naturalistica del verde urb
	ano\ncon Andrea Vannini\, biologo ambientale\ne Alessandra Pacini\, tecnic
	a forestale.\n\nSala carte - h 15.30\nTavola rotonda. Circoli Arci\nCosa v
	uol dire fare associazionismo Arci oggi? Parliamo di buone pratiche\,\npro
	spettive e criticità con i circoli Arci della piana Prato-Firenze-Pistoia.
	\n\nSala carte - h 17.00\nAssemblea aperta dei soci e delle socie\nIl circ
	olo racconta al pubblico le attività e le iniziative dell'anno concluso\,\
	ne presenta i progetti per l'anno 2023/2024.\n\nSala carte - h 21.00\nMovi
	mento collettivo\nLaboratorio di Teatrodanza. Esplorazione del corpo e del
	le sue possibilità di\ninterazione con altri corpi e lo spazio.\nA cura di
	 Valentina Corrò\, danzatrice.\n\nh 21.30\nPoly djset\n\nDomenica 10 sette
	mbre\n\nTerrazza - h 10.00\nCos’è un bosco?\nLaboratorio didattico all’ape
	rto. Passeggiata ludico-motoria per conoscere\ninsieme il territorio e i b
	oschi intorno a Figline.\nA cura di Alessandra Pacini\, tecnica forestale.
	\n\nTerrazza - h 11.00\nOut of the Box. Giardini sonori\nLaboratorio creat
	ivo per la realizzazione collettiva di una striscia sonora\nillustrata. Ap
	erto a bambin3 e partecipanti di tutte le età.\nA cura di Alessandra Binco
	letto.\n\nSala carte - h 11.00\nPrevenzione e cura. La riduzione del danno
	\nCos'è la riduzione del danno e come funziona? Parliamo di consumo e abus
	o di\nsostanze\ncon Extreme\, progetto di riduzione del danno di CAT Coope
	rativa sociale.\n\nSala carte - h 15.30\nTavola rotonda. Femminismi\nÈ pos
	sibile essere femminista nei circoli ARCI? Parliamo dello stato di salute\
	ndel femminismo in città e nei nostri quartieri con le associazioni femmin
	iste e\ntransfemministe del territorio.\n\nSala carte - h 17.00\nVulnerabi
	li. Lavoro di cura\, bisogno di cura\nCome affrontare insieme la vecchiaia
	 e la malattia? Come lavorare sulla cura con\nrispetto del lavoro e del bi
	sogno? Proietteremo in anteprima scene tratte dal\ndocumentario Careseeker
	s - In cerca di cura.\nCon Tiziana Francesca Vaccaro\, autrice\ne le prota
	goniste del documentario.\n\nChiosco della Strega - h 18.30\nSpazio sacro\
	nLaboratorio di tarocchi e immaginazione. Cosa delimita il nostro spazio? 
	Cosa lo\napre all’altro? Lavoreremo sul concetto di abitare\, di casa\, pr
	ovenienza e\nprotezione.\nA cura di Francesca Matteoni.\n\nSala carte - h 
	18.30\nDai manicomi alla comunità di cura\nCosa è cambiato dalla legge Bas
	aglia del 1978 a oggi? Parliamo di psicoterapia\ndi comunità e di cura del
	la salute mentale.\nCon Leonardo Montecchi\, psichiatra e psicoterapeuta p
	resso il SerD di Rimini\ne la Brigata Basaglia\, progetto di supporto psic
	ologico e sociale.\n\nPer tutta la durata del festival sarà esposto negli 
	spazi del circolo il\nprogetto fotografico TRACCE di Anna Sanesi\, una rac
	colta di ritratti e\ntestimonianze di soci e socie che hanno fatto parte d
	ella storia del Circolo 29\nMartiri.\n\nL'ingresso al Festival e l'accesso
	 a tutte le attività è totalmente gratuito.\nPer iscriversi ai laboratori 
	o partecipare alle tavole rotonde come privati o\nassociazioni\, scrivi o 
	chiama il numero 3497874565
URL:https://lapunta.org/event/antares-festival-di-cura-e-cultura
LOCATION:Circolo 29 Martiri - via Cantagallo\, 250\, Prato\, Italy
STATUS:CONFIRMED
CATEGORIES:Prato,antares,dibattiti,festival,laboratori,musica
X-ALT-DESC;FMTTYPE=text/html:<p>Antares, Festival di Cura e Cultura, arriva
	 a Figline!<br>Per tre giorni, 8, 9 e 10 settembre, gli spazi del nostro c
	ircolo si riempiranno di dibattiti, incontri, laboratori e musica.<br>Anta
	res non sarà solo un luogo in cui ascoltare, ma soprattutto un modo di rel
	azionarci, uno spazio in cui intrecciarsi: insieme costruiremo giocattoli,
	 percorreremo sentieri, danzeremo. Avremo tempo di divertirci, di immagina
	re e imparare!<br>Nella comunità che vorremmo essere l’interdipendenza, la
	 consapevolezza della vulnerabilità e la lotta all'individualismo sono pre
	senti come pratiche di cura. La cura è per noi un motore alternativo e con
	trario al profitto, e nello spazio di Antares ne parleremo sotto vari aspe
	tti: socio-sanitario, ambientale e del territorio, nelle relazioni di comu
	nità e di lavoro. Troveremo lo spazio per capire come essere circolo oggi.
	</p><p>PROGRAMMA COMPLETO:<br>Venerdì 8 settembre</p><p>Sala carte - h 17.
	00<br>Tavola rotonda. Lavoro culturale<br>Qual è lo stato di salute cultur
	ale della città? Ne parliamo con chi opera, si associa, lavora nel mondo c
	ulturale pratese.</p><p>Chiosco della Strega - h 17.00<br>Scrivere dai mar
	gini<br>Laboratorio di scrittura. Raccontare è uno strumento che abbiamo p
	er lottare, resistere, esistere e prenderci cura di quello che abbiamo int
	orno. Rivolto a insegnanti e a tutta la comunità educante.<br>A cura di Mi
	chele Arena - Porto delle Storie</p><p>Sala carte - h 18.30<br>Educare al 
	consenso<br>La scuola può essere la base su cui fondare una cultura antise
	ssista. Come lavorare sulla prevenzione alla violenza e sul contrasto agli
	 stereotipi di genere in classe?<br>Con Elena La Greca e Francesca Cuccare
	se, operatrici del centro antiviolenza La Nara<br>e Daniela Bagattini, ric
	ercatrice INDIRE.</p><p>Sala carte - h 20.30<br>Il corpo politico. Converg
	enze sul territorio<br>Quali sono e come portiamo avanti le nostre lotte? 
	Possiamo costruire una comunità di cura a partire da questi soggetti di lo
	tta?<br>Con Marie Moïse, attivista e ricercatrice femminista<br>Collettivo
	 di fabbrica GKN<br>SiCobas Prato-Firenze.</p><p>h 21.30<br>Sierra Club Se
	lection djset</p><p>Sabato 9 settembre</p><p>Terrazza - h 10.00<br>Piccol3
	 FalegnAle crescono<br>Laboratorio di falegnameria. Partiremo da pezzi di 
	legno di ricliclo per realizzare giocattoli con le nostre mani. Per bambin
	3 dagli 8 anni in su.<br>Braccialetti dell'amicizia<br>Laboratorio di real
	izzazione di braccialetti. Per bambin3 dai 4 anni in su.<br>A cura di Rici
	clidea.</p><p>Chiosco della Strega - h 11.00<br>Natura in città. Il ruolo 
	del verde urbano<br>A cosa servono gli spazi naturali in città? Parliamo d
	ello sviluppo e della gestione naturalistica del verde urbano<br>con Andre
	a Vannini, biologo ambientale<br>e Alessandra Pacini, tecnica forestale.</
	p><p>Sala carte - h 15.30<br>Tavola rotonda. Circoli Arci<br>Cosa vuol dir
	e fare associazionismo Arci oggi? Parliamo di buone pratiche, prospettive 
	e criticità con i circoli Arci della piana Prato-Firenze-Pistoia.</p><p>Sa
	la carte - h 17.00<br>Assemblea aperta dei soci e delle socie<br>Il circol
	o racconta al pubblico le attività e le iniziative dell'anno concluso, e p
	resenta i progetti per l'anno 2023/2024.</p><p>Sala carte - h 21.00<br>Mov
	imento collettivo<br>Laboratorio di Teatrodanza. Esplorazione del corpo e 
	delle sue possibilità di interazione con altri corpi e lo spazio.<br>A cur
	a di Valentina Corrò, danzatrice.</p><p>h 21.30<br>Poly djset</p><p>Domeni
	ca 10 settembre</p><p>Terrazza - h 10.00<br>Cos’è un bosco?<br>Laboratorio
	 didattico all’aperto. Passeggiata ludico-motoria per conoscere insieme il
	 territorio e i boschi intorno a Figline.<br>A cura di Alessandra Pacini, 
	tecnica forestale.</p><p>Terrazza - h 11.00<br>Out of the Box. Giardini so
	nori<br>Laboratorio creativo per la realizzazione collettiva di una strisc
	ia sonora illustrata. Aperto a bambin3 e partecipanti di tutte le età.<br>
	A cura di Alessandra Bincoletto.</p><p>Sala carte - h 11.00<br>Prevenzione
	 e cura. La riduzione del danno<br>Cos'è la riduzione del danno e come fun
	ziona? Parliamo di consumo e abuso di sostanze<br>con Extreme, progetto di
	 riduzione del danno di CAT Cooperativa sociale.</p><p>Sala carte - h 15.3
	0<br>Tavola rotonda. Femminismi<br>È possibile essere femminista nei circo
	li ARCI? Parliamo dello stato di salute del femminismo in città e nei nost
	ri quartieri con le associazioni femministe e transfemministe del territor
	io.</p><p>Sala carte - h 17.00<br>Vulnerabili. Lavoro di cura, bisogno di 
	cura<br>Come affrontare insieme la vecchiaia e la malattia? Come lavorare 
	sulla cura con rispetto del lavoro e del bisogno? Proietteremo in anteprim
	a scene tratte dal documentario Careseekers - In cerca di cura.<br>Con Tiz
	iana Francesca Vaccaro, autrice<br>e le protagoniste del documentario.</p>
	<p>Chiosco della Strega - h 18.30<br>Spazio sacro<br>Laboratorio di tarocc
	hi e immaginazione. Cosa delimita il nostro spazio? Cosa lo apre all’altro
	? Lavoreremo sul concetto di abitare, di casa, provenienza e protezione.<b
	r>A cura di Francesca Matteoni.</p><p>Sala carte - h 18.30<br>Dai manicomi
	 alla comunità di cura<br>Cosa è cambiato dalla legge Basaglia del 1978 a 
	oggi? Parliamo di psicoterapia di comunità e di cura della salute mentale.
	<br>Con Leonardo Montecchi, psichiatra e psicoterapeuta presso il SerD di 
	Rimini<br>e la Brigata Basaglia, progetto di supporto psicologico e social
	e.</p><p>Per tutta la durata del festival sarà esposto negli spazi del cir
	colo il progetto fotografico TRACCE di Anna Sanesi, una raccolta di ritrat
	ti e testimonianze di soci e socie che hanno fatto parte della storia del 
	Circolo 29 Martiri.</p><p>L'ingresso al Festival e l'accesso a tutte le at
	tività è totalmente gratuito. Per iscriversi ai laboratori o partecipare a
	lle tavole rotonde come privati o associazioni, scrivi o chiama il numero 
	3497874565</p>
END:VEVENT
END:VCALENDAR
