BEGIN:VCALENDAR
VERSION:2.0
CALSCALE:GREGORIAN
PRODID:adamgibbons/ics
METHOD:PUBLISH
X-PUBLISHED-TTL:PT1H
BEGIN:VEVENT
UID:5971@lapunta.org
SUMMARY:🚩Sound System Link Up 🚩
DTSTAMP:20260424T000846Z
DTSTART:20260314T210000Z
DTEND:20260315T020000Z
DESCRIPTION:🚩 Empoli: al CSA Intifada una notte di roots\, dub e stepper\n\
	nSabato 14 marzo il CSA Intifada di Empoli ospita una serata dedicata alla
	\nsoundsystem culture. Dalle ore 22 i collettivi Ototeman e Pompissima si\
	nincontreranno per una Soundsystem link up session\, con selezioni rigoros
	amente\nin vinile tra roots\, dub e stepper e alcuni ospiti a sorpresa.\n\
	nUna notte di bassi profondi\, vibrazioni e condivisione\, nel pieno spiri
	to della\ncultura soundsystem: musica suonata forte\, selezioni ricercate 
	e una pista\npronta a muoversi fino a tarda notte.\n\nSpazio liberato auto
	gestito aperto a tuttə: porta chi sei e vieni a divertirti\ncon noi. Il 22
	 e 23 vota NO e il 28 tutti a Roma contro le guerre e il governo\nmeloni P
	renota il tuo posto sul Bus che parte da Empoli scrivi a\ninfo@csaintifada
	.org\n\nIl ricavato sostiene le attività del CSA INTIFADA e della Palesta 
	Popolare\nAutogestita Intifada.
URL:https://lapunta.org/event/sound-system-link-up
LOCATION:CSA Intifada - Via XXV Aprile\, Ponte a Elsa
STATUS:CONFIRMED
CATEGORIES:Csa Intifada,Empoli,dub,dubstep,musica,palestra popolare,reggae,
	roots,sound system
X-ALT-DESC;FMTTYPE=text/html:<p>🚩 Empoli: al CSA Intifada una notte di root
	s, dub e stepper</p><p>Sabato 14 marzo il CSA Intifada di Empoli ospita un
	a serata dedicata alla soundsystem culture. Dalle ore 22 i collettivi Otot
	eman e Pompissima si incontreranno per una Soundsystem link up session, co
	n selezioni rigorosamente in vinile tra roots, dub e stepper e alcuni ospi
	ti a sorpresa.</p><p>Una notte di bassi profondi, vibrazioni e condivision
	e, nel pieno spirito della cultura soundsystem: musica suonata forte, sele
	zioni ricercate e una pista pronta a muoversi fino a tarda notte.</p><p>Sp
	azio liberato autogestito aperto a tuttə: porta chi sei e vieni a divertir
	ti con noi. Il 22 e 23 vota NO e il 28 tutti a Roma contro le guerre e il 
	governo meloni Prenota il tuo posto sul Bus che parte da Empoli scrivi a i
	nfo@csaintifada.org</p><p>Il ricavato sostiene le attività del CSA INTIFAD
	A e della Palesta Popolare Autogestita Intifada.</p>
END:VEVENT
BEGIN:VEVENT
UID:628@lapunta.org
SUMMARY:I venerdì briosi
DTSTAMP:20260424T000846Z
DTSTART:20220527T170000Z
DTEND:20220526T220000Z
DESCRIPTION:Dalle 19 a mezzanotte\n\nMusica\, panini e molto altro..\n\n27 
	maggio - OTK - Human vs Machines\nElectro\, techno\, phuture beats\n\n1 lu
	glio - Inner City Jungle\nHip Hop\, dubstep\, DnB\, afternoon\n\n26 agosto
	 - La Svolta Sound System\nSka\, rocksteady\, boss reggae
URL:https://lapunta.org/event/i-venerdi-briosi
LOCATION:NextEmerson - Via di Bellagio 15\, zona Castello - Firenze
STATUS:CONFIRMED
CATEGORIES:dj set,dnb,dubstep,electro,emerson,hip hop,live,musica,reggae,ro
	cksteady,ska,techno
X-ALT-DESC;FMTTYPE=text/html:<p>Dalle 19 a mezzanotte</p><p>Musica, panini 
	e molto altro..</p><p><strong><u>27 maggio - OTK - Human vs Machines</u></
	strong><br>Electro, techno, phuture beats</p><p><strong><u>1 luglio - Inne
	r City Jungle</u></strong><br>Hip Hop, dubstep, DnB, afternoon</p><p><stro
	ng><u>26 agosto - La Svolta Sound System</u></strong><br>Ska, rocksteady, 
	boss reggae</p>
END:VEVENT
END:VCALENDAR
