BEGIN:VCALENDAR
VERSION:2.0
CALSCALE:GREGORIAN
PRODID:adamgibbons/ics
METHOD:PUBLISH
X-PUBLISHED-TTL:PT1H
BEGIN:VEVENT
UID:3994@lapunta.org
SUMMARY:Moonage Daydream
DTSTAMP:20260423T171942Z
DTSTART:20240717T180000Z
DTEND:20240717T220000Z
DESCRIPTION:MOONAGE DAYDREAM\n\ndi Brett Morgen\, 2022\, 140 min.\n\nhttps:
	//www.youtube.com/watch?v=GX5Xlx3O7qQ\n[https://www.youtube.com/watch?v=GX
	5Xlx3O7qQ]\n\ndalle 20 cibo\, birrette\, very glam selecta\n\nalle 21.30 p
	roiezione!
URL:https://lapunta.org/event/moonage-daydream
LOCATION:NextEmerson - Via di Bellagio 15\, zona Castello - Firenze
STATUS:CONFIRMED
CATEGORIES:Bowie,film,giardino,glam
X-ALT-DESC;FMTTYPE=text/html:<h3>Moonage Daydream</h3><p>di Brett Morgen, 2
	022, 140 min.</p><p><a href="https://www.youtube.com/watch?v=GX5Xlx3O7qQ" 
	target="_blank">https://www.youtube.com/watch?v=GX5Xlx3O7qQ</a></p><p>dall
	e 20 cibo, birrette, very glam selecta</p><p>alle 21.30 proiezione!</p>
END:VEVENT
END:VCALENDAR
