BEGIN:VCALENDAR
VERSION:2.0
CALSCALE:GREGORIAN
PRODID:adamgibbons/ics
METHOD:PUBLISH
X-PUBLISHED-TTL:PT1H
BEGIN:VEVENT
UID:3444@lapunta.org
SUMMARY:Cena per liberare le lotte
DTSTAMP:20260424T175057Z
DTSTART:20240227T193000Z
DESCRIPTION:📣Il 2024 si è aperto con una notizia infausta per l'associazion
	ismo toscano\,\nche vede respinto un ricorso al #TAR della Regione #Toscan
	a sostenuto nel 2018\nanche dal GEES contro l'uso indiscriminato di vari i
	nquinanti\, tra cui il\n#glifosato. Le associazioni partecipanti e le diec
	i cittadine che fecero ricorso\nsono state condannate al pagamento delle s
	pese processuali.\n\n🤝Come Assemblea Permanente NO KEU ci mettiamo a dispo
	sizione per sostenere le\npersone e le realtà che al tempo si costituirono
	 parte civile in questo\nprocesso\, parte di una lotta che è anche la nost
	ra.\n\n🤜🏼Vi invitiamo dunque a partecipare alla CENA PER LIBERARE LE LOTTE\
	, che si\nterrà il 27 febbraio alle 20.30 al Rifugio\, Circolo di Monterap
	poli\, per\ncontribuire alle spese legali di una battaglia a difesa del te
	rritorio e di chi\nlo abita.\n\n🍽Giropizza e dolci - 20 euro\n\n(15 euro f
	ino ai 12 anni)\n\n☎️Info e prenotazioni: 328 959 9089\n\n💪🏼Difendi il tuo t
	erritorio e la tua comunità!
URL:https://lapunta.org/event/cena-per-liberare-le-lotte
LOCATION:Circolo ARCI Monterappoli - Via Salaiola 305\, Empoli
STATUS:CONFIRMED
CATEGORIES:Assemblea permanente NO KEU,Empoli,glifosato
X-ALT-DESC;FMTTYPE=text/html:<p>📣Il 2024 si è aperto con una notizia infaus
	ta per l'associazionismo toscano, che vede respinto un ricorso al #TAR del
	la Regione #Toscana sostenuto nel 2018 anche dal GEES contro l'uso indiscr
	iminato di vari inquinanti, tra cui il #glifosato. Le associazioni parteci
	panti e le dieci cittadine che fecero ricorso sono state condannate al pag
	amento delle spese processuali.</p><p>🤝Come Assemblea Permanente NO KEU ci
	 mettiamo a disposizione per sostenere le persone e le realtà che al tempo
	 si costituirono parte civile in questo processo, parte di una lotta che è
	 anche la nostra.</p><p>🤜🏼Vi invitiamo dunque a partecipare alla CENA PER L
	IBERARE LE LOTTE, che si terrà il 27 febbraio alle 20.30 al Rifugio, Circo
	lo di Monterappoli, per contribuire alle spese legali di una battaglia a d
	ifesa del territorio e di chi lo abita.</p><p>🍽Giropizza e dolci - 20 euro
	</p><p>(15 euro fino ai 12 anni)</p><p>☎️Info e prenotazioni: 328 959 9089<
	/p><p>💪🏼Difendi il tuo territorio e la tua comunità!</p>
END:VEVENT
END:VCALENDAR
