BEGIN:VCALENDAR
VERSION:2.0
CALSCALE:GREGORIAN
PRODID:adamgibbons/ics
METHOD:PUBLISH
X-PUBLISHED-TTL:PT1H
BEGIN:VEVENT
UID:4672@lapunta.org
SUMMARY:Montanti dal basso V
DTSTAMP:20260420T103147Z
DTSTART:20250405T130000Z
DTEND:20250406T010000Z
DESCRIPTION:MONTANTI DAL BASSO CAP V\n5 Aprile 2025\nSiamo super contentə d
	i invitarvi alla quinta sfavillante edizione di montanti\ndal basso.\n____
	_______________________\nOre 15:00\nPunta di ritrovo per tutte le palestre
	 che prenderanno parte alla giornata e per\nchi non combatte ci riscaldiam
	o con un allenamento collettivo di pugilato\nOre 16:00\nAllenamento collet
	tivo di acrobatica aerea\nOre 18:00\nPunta tecnica\nOre 19:00\nInizio inco
	ntri di pugilato\nOre 20:00\nCena - tutti i gusti +1\nOre 23:00-00:00\nRaf
	finata selecta vinilica a cura di exchange cypherz\nOre 00:00\nDj set in c
	orso di definizione\n\n___________________________\nDove? Csa next emerson
	\nVia di bellagio 15 - Firenze\nFermata del treno: Firenze castello Bus 2 
	- 28\n\nNB: NON SI PARCHEGGIA IN VIA DI BELLAGIO O A MERDA\, PARCHEGGIO DA
	VANTI ALLA\nSTAZIONE DI CASTELLO
URL:https://lapunta.org/event/montanti-dal-basso-v
LOCATION:Csa Next-Emerson - Via di Bellagio 15
STATUS:CONFIRMED
CATEGORIES:Cena,Sport popolare,allenamento collettivo,cena,incontri
X-ALT-DESC;FMTTYPE=text/html:<p>MONTANTI DAL BASSO CAP V <br>5 Aprile 2025<
	br>Siamo super contentə di invitarvi alla quinta sfavillante edizione di m
	ontanti dal basso.<br>___________________________<br>Ore 15:00<br>Punta di
	 ritrovo per tutte le palestre che prenderanno parte alla giornata e per c
	hi non combatte ci riscaldiamo con un allenamento collettivo di pugilato<b
	r>Ore 16:00<br>Allenamento collettivo di acrobatica aerea<br>Ore 18:00<br>
	Punta tecnica<br>Ore 19:00<br>Inizio incontri di pugilato<br>Ore 20:00<br>
	Cena - tutti i gusti +1<br>Ore 23:00-00:00<br>Raffinata selecta vinilica a
	 cura di exchange cypherz<br>Ore 00:00<br>Dj set in corso di definizione</
	p><p>___________________________<br>Dove? Csa next emerson<br>Via di bella
	gio 15 - Firenze<br>Fermata del treno: Firenze castello Bus 2 - 28</p><p>N
	B: NON SI PARCHEGGIA IN VIA DI BELLAGIO O A MERDA, PARCHEGGIO DAVANTI ALLA
	 STAZIONE DI CASTELLO</p>
END:VEVENT
BEGIN:VEVENT
UID:4699@lapunta.org
SUMMARY:Festival di letteratura workingclass
DTSTAMP:20260420T103147Z
DTSTART:20250404T060000Z
DTEND:20250406T215900Z
DESCRIPTION:Non siamo qui oggi per entrare domani nel canone letterario. Pe
	r chiedere un\nriconoscimento dal mondo delle persone colte o per mangiare
	 le briciole che\ncadono dal tavolo dell’editoria. Siamo qui oggi per vinc
	ere domani una vertenza\,\nper partecipare coi libri alla lotta di classe 
	e abbattere le barriere che\nrecintano la letteratura e l’editoria\, esclu
	dendo le persone prive di capitale\nculturale. \n\nAl contrario dei tanti 
	festival di questo paese\, non abbiamo sponsor di aziende\no di banche\, p
	erché non si fa whitewashing con la classe operaia. L’unico nostro\nsponso
	r è la lotta e la partecipazione collettiva: stiamo in piedi grazie al\nso
	stegno di 500 persone tramite crowdfunding\n[https://www.produzionidalbass
	o.com/project/sostieni-il-festival-di-letteratura-working-class/] e\nal co
	ntributo militante di volontari\, relatori e relatrici.\n\nSiamo alla terz
	a edizione. Dopo le Genealogie del 2023 (il passato) e le\nGeografie del 2
	024 (il presente) adesso è la volta delle Prospettive (il\nfuturo). Contro
	 il realismo capitalista\, che ci schiaccia su un presente che non\npassa 
	mai e puzza di guerra\, inquinamento\, fascismo e sfruttamento\, coniugher
	emo\ni verbi al futuro\, perché noi saremo tutto\, come recita uno slogan 
	del movimento\nsindacale nordamericano.\n\nIl Festival torna mentre la lot
	ta della ex Gkn è a un punto di svolta. Dopo\nl’approvazione della Legge R
	egionale\, il piano di reindustrializzazione\nelaborato dal basso è ancora
	 in attesa di poter partire. E nel frattempo gli\noperai sono sempre sotto
	 attacco della proprietà che\, oltre a non pagare gli\nstipendi\, per la t
	erza volta da quel luglio del 2021 ha avviato una nuova\nprocedura di lice
	nziamento. Così il Festival va di nuovo difeso con la\nmobilitazione. Per 
	riprenderci insieme la primavera.
URL:https://lapunta.org/event/festival-di-letteratura-workingclass
LOCATION:GKN driveline spa - via fratelli cervi 1 campi bisenzio
STATUS:CONFIRMED
CATEGORIES:GKN,festival,incontri,letteratura
X-ALT-DESC;FMTTYPE=text/html:<p>Non siamo qui oggi per entrare domani nel c
	anone letterario. Per chiedere un riconoscimento dal mondo delle persone c
	olte o per mangiare le briciole che cadono dal tavolo dell’editoria. Siamo
	 qui oggi per vincere domani una vertenza, per partecipare coi libri alla 
	lotta di classe e abbattere le barriere che recintano la letteratura e l’e
	ditoria, escludendo le persone prive di capitale culturale.&nbsp;</p><p>Al
	 contrario dei tanti festival di questo paese, non abbiamo sponsor di azie
	nde o di banche, perché non si fa&nbsp;<em>whitewashing</em>&nbsp;con la c
	lasse operaia. L’unico nostro sponsor è la lotta e la partecipazione colle
	ttiva: stiamo in piedi&nbsp;<a target="_blank" href="https://www.produzion
	idalbasso.com/project/sostieni-il-festival-di-letteratura-working-class/">
	grazie al sostegno di 500 persone tramite crowdfunding</a>&nbsp;e al contr
	ibuto militante di volontari, relatori e relatrici.</p><p>Siamo alla terza
	 edizione. Dopo le Genealogie del 2023 (il passato) e le Geografie del 202
	4 (il presente) adesso è la volta delle Prospettive (il futuro). Contro il
	 realismo capitalista, che ci schiaccia su un presente che non passa mai e
	 puzza di guerra, inquinamento, fascismo e sfruttamento, coniugheremo i ve
	rbi al futuro, perché&nbsp;<em>noi saremo tutto</em>, come recita uno slog
	an del movimento sindacale nordamericano.</p><p>Il Festival torna mentre l
	a lotta della ex Gkn è a un punto di svolta. Dopo l’approvazione della Leg
	ge Regionale, il piano di reindustrializzazione elaborato dal basso è anco
	ra in attesa di poter partire. E nel frattempo gli operai sono sempre sott
	o attacco della proprietà che, oltre a non pagare gli stipendi, per la ter
	za volta da quel luglio del 2021 ha avviato una nuova procedura di licenzi
	amento. Così il Festival va di nuovo difeso con la mobilitazione. Per ripr
	enderci insieme la primavera.</p>
END:VEVENT
END:VCALENDAR
