BEGIN:VCALENDAR
VERSION:2.0
CALSCALE:GREGORIAN
PRODID:adamgibbons/ics
METHOD:PUBLISH
X-PUBLISHED-TTL:PT1H
BEGIN:VEVENT
UID:6017@lapunta.org
SUMMARY:Teglie di Rabbia - Presentazione del libro
DTSTAMP:20260420T085953Z
DTSTART:20260402T153000Z
DESCRIPTION:Intorno alla storia di Raya\, operaia addetta ai forni di un pa
	nificio\nindustriale\, si muove Teglie di rabbia di Henrik Johansson\, aut
	ore dell’ultima\ngenerazione della letteratura working class svedese\, l’u
	ltimo romanzo pubblicato\nda Alegre.\n\nLo presentiamo a Pisa il 2 aprile\
	, alle 17:30 a Exploit. L’autore dialogherà con\nChiara Portesine.\nSeguir
	à un apericena benefit a sostegno dell’azionariato popolare del Collettivo
	\ndi Fabbrica ex-Gkn.\n\nCi avviciniamo così alla quarta edizione del Fest
	ival di letteratura Working\nClass\, che si terrà tra il 10 e il 12 aprile
	 a Campi Bisenzio\, presso lo\nstabilimento della ex-Gkn\, in via Fratelli
	 Cervi 1.
URL:https://lapunta.org/event/teglie-di-rabbia-presentazione-del-libro
LOCATION:Exploit - Spazio sociale e aula studio occupata autogestita - Larg
	o Bruno Pontecorvo 2\, Pisa
STATUS:CONFIRMED
CATEGORIES:Exploit,GKN,festival letteratura working class,insorgiamo,presen
	tazione libro
X-ALT-DESC;FMTTYPE=text/html:<p>Intorno alla storia di Raya, operaia addett
	a ai forni di un panificio industriale, si muove Teglie di rabbia di Henri
	k Johansson, autore dell’ultima generazione della letteratura working clas
	s svedese, l’ultimo romanzo pubblicato da Alegre.<br><br>Lo presentiamo a 
	Pisa il 2 aprile, alle 17:30 a Exploit. L’autore dialogherà con Chiara Por
	tesine.<br>Seguirà un apericena benefit a sostegno dell’azionariato popola
	re del Collettivo di Fabbrica ex-Gkn.<br><br>Ci avviciniamo così alla quar
	ta edizione del Festival di letteratura Working Class, che si terrà tra il
	 10 e il 12 aprile a Campi Bisenzio, presso lo stabilimento della ex-Gkn, 
	in via Fratelli Cervi 1.</p>
END:VEVENT
BEGIN:VEVENT
UID:5113@lapunta.org
SUMMARY:RESISTERE PER RI-ESISTERE - 4a anniversario della lotta ex-GKN
DTSTAMP:20260420T085953Z
DTSTART:20250711T160000Z
DTEND:20250712T215900Z
DESCRIPTION:📍 11 e 12 luglio: Resistere per ri-esistere\n\n💣Venerdì 11 lugl
	io\, a partire dalle h 18.00\, Piazza Poggi\, Firenze\n\nconcerto con:\n\n
	donna G\, @espanacircoeste @pieropelufficiale @maurasmusic @dj mars\n@roma
	nticismoperiferico \, @bandabardoofficial (formazione ridotta)\,\n@arpioni
	skaband \, @spleensound \, @ejentband\n\n📌 Sabato 12 luglio – mattina\n\n3
	^ Assemblea Generale dell’Azionariato Popolare\, Piazza Poggi\, h 10.00 pu
	ntuali\n(il caldo non permette ritardi...)\n\nE le azioni di lotta? Di bot
	to e all'improvviso?\n\n🛏️ Vuoi dare vita alla tendata?\n\nCompila il form 
	di partecipazione per aiutare la nostra macchina organizzativa\nsotto asse
	dio:\n\n👉 LINK IN BIO!\n\nhttps://forms.gle/GvSFhA6bLhU4kqCK8 [https://for
	ms.gle/GvSFhA6bLhU4kqCK8]\n\n📢 Aiutaci a diffondere!\n\nTutte le info anch
	e su insorgiamo.org [http://insorgiamo.org]\n\n⚒️️ Ex Gkn\, la resistenza o
	peraia più lunga della storia apre la via al futuro\nnecessario⚡ Non ti pe
	rdere proprio ora quando potresti vincere: non mancare\n\n⚒️️ Riaprire la e
	x Gkn\, ridare posti di lavoro al territorio\, portare a casa un\nesempio 
	contagioso per cambiare i rapporti di forza a favore di tutte/i\n\n💥 Per g
	li stipendi: a noi ce li hanno tolti per 15 mesi e provano a non\nridarcel
	i. A tutte e tutti voi\, li hanno ridotti a miseria\n\n4 anni fa la Gkn ve
	niva chiusa con una mail improvvisa. La lotta è stata\nlogorata\, lasciata
	 senza stipendio\, raggirata. La fabbrica è passata di mano in\nmano. E' s
	tata prima chiusa da un fondo finanziario e oggi rischia di essere\nsvuota
	ta da una potenziale speculazione immobiliare.\n\nE ora minacciano di sgom
	berare il presidio operaio che ha tenuto e tiene in vita\nl'ipotesi di rip
	artenza della fabbrica.\n\nIl Collettivo di Fabbrica è ancora in piedi. No
	n solo: ha un piano. L'unico\npiano di reindustrializzazione dal basso\; u
	na fabbrica socialmente integrata\,\nbasata su mutualismo\, cooperazione\,
	 intervento pubblico\, reindustrializzazione\necologica.\n\nUn esempio che
	 dà fastidio a chi ci vuole convincere che dalla crisi si esce con\nla gue
	rra e la riconversione bellica dell’industria.\n\nLa nostra vittoria sareb
	be un enorme "si può fare"\, un esempio contagioso in un\nmondo che brucia
	 tra crisi climatica\, militarismo e genocidio.\n\nE' ancora tempo di prov
	are a volare:\n\n#insorgiamo
URL:https://lapunta.org/event/resistere-per-ri-esistere-4a-anniversario-del
	la-lotta-ex-gkn
LOCATION:piazza poggi - Piazza Poggi\, Firenze
STATUS:CONFIRMED
CATEGORIES:Firenze,GKN,concerto,insorgiamo,musica
X-ALT-DESC;FMTTYPE=text/html:<p>📍 11 e 12 luglio: Resistere per ri-esistere
	</p><p>💣Venerdì 11 luglio, a partire dalle h 18.00, Piazza Poggi, Firenze<
	/p><p>concerto con:</p><p>donna G, @espanacircoeste @pieropelufficiale @ma
	uras<em>music @dj mars @romanticismo</em>periferico , @bandabardo<em>offic
	ial (formazione ridotta), @arpioni</em>ska<em>band , @spleensound , @ejent
	</em>band</p><p>📌 Sabato 12 luglio – mattina</p><p>3^ Assemblea Generale d
	ell’Azionariato Popolare, Piazza Poggi, h 10.00 puntuali (il caldo non per
	mette ritardi...)</p><p>E le azioni di lotta? Di botto e all'improvviso?</
	p><p>🛏️ Vuoi dare vita alla tendata?</p><p>Compila il form di partecipazion
	e per aiutare la nostra macchina organizzativa sotto assedio:</p><p>👉 LINK
	 IN BIO!</p><p><a target="_blank" href="https://forms.gle/GvSFhA6bLhU4kqCK
	8">https://forms.gle/GvSFhA6bLhU4kqCK8</a></p><p>📢 Aiutaci a diffondere!</
	p><p>Tutte le info anche su <a target="_blank" href="http://insorgiamo.org
	">insorgiamo.org</a></p><p>⚒️️ Ex Gkn, la resistenza operaia più lunga dell
	a storia apre la via al futuro necessario⚡ Non ti perdere proprio ora quan
	do potresti vincere: non mancare</p><p>⚒️️ Riaprire la ex Gkn, ridare posti
	 di lavoro al territorio, portare a casa un esempio contagioso per cambiar
	e i rapporti di forza a favore di tutte/i</p><p>💥 Per gli stipendi: a noi 
	ce li hanno tolti per 15 mesi e provano a non ridarceli. A tutte e tutti v
	oi, li hanno ridotti a miseria</p><p>4 anni fa la Gkn veniva chiusa con un
	a mail improvvisa. La lotta è stata logorata, lasciata senza stipendio, ra
	ggirata. La fabbrica è passata di mano in mano. E' stata prima chiusa da u
	n fondo finanziario e oggi rischia di essere svuotata da una potenziale sp
	eculazione immobiliare.</p><p>E ora minacciano di sgomberare il presidio o
	peraio che ha tenuto e tiene in vita l'ipotesi di ripartenza della fabbric
	a.</p><p>Il Collettivo di Fabbrica è ancora in piedi. Non solo: ha un pian
	o. L'unico piano di reindustrializzazione dal basso; una fabbrica socialme
	nte integrata, basata su mutualismo, cooperazione, intervento pubblico, re
	industrializzazione ecologica.</p><p>Un esempio che dà fastidio a chi ci v
	uole convincere che dalla crisi si esce con la guerra e la riconversione b
	ellica dell’industria.</p><p>La nostra vittoria sarebbe un enorme "si può 
	fare", un esempio contagioso in un mondo che brucia tra crisi climatica, m
	ilitarismo e genocidio.</p><p>E' ancora tempo di provare a volare:</p><p>#
	insorgiamo</p>
END:VEVENT
BEGIN:VEVENT
UID:4608@lapunta.org
SUMMARY:IL SOGNO di una FABBRICA reading musicale La Fabbrica dei Sogni e b
	enefit per il Collettivo di Fabbrica ex-GKN
DTSTAMP:20260420T085953Z
DTSTART:20250223T150000Z
DTEND:20250223T223000Z
DESCRIPTION:Continua il tour de La Fabbrica dei Sogni\n[https://www.faceboo
	k.com/people/La-Fabbrica-dei-Sogni/61563802358184/?__cft__[0]=AZUnz2bF_Jx4
	xlQ_3O6xrOsDNqb-KsEcy4HCJicGoACsO6gEhLebIxYVVdoAt0D40H6mFEX0EO8zPKVjNjwIYw
	RxDIA2u5qfVQHdnAF3e5xElr7QaIJvPopIfGbOutOQ2BTb5dgOqbHleIc8RuE_rgSQsLRTJDpZ
	fn1JNp84slXMOH84MpGDcYBgHTtsuTGoyUn2Y3xlvOIV7ttBO9Vvw-sy&__tn__=-]K*F]\n- 
	reading musicale a cura di AltroTeatro\n[https://www.facebook.com/Altrotea
	troFirenze/?locale=it_IT] con brani tratti dal\nromanzo di Valentina Baron
	ti\, ispirato alla vertenza del Collettivo di Fabbrica\nex-GKN - che\nDOME
	NICA 23 febbraio arriva al Cantiere SanBernardo\n[https://www.facebook.com
	/cantiere.sanbernardo?__cft__[0]=AZUnz2bF_Jx4xlQ_3O6xrOsDNqb-KsEcy4HCJicGo
	ACsO6gEhLebIxYVVdoAt0D40H6mFEX0EO8zPKVjNjwIYwRxDIA2u5qfVQHdnAF3e5xElr7QaIJ
	vPopIfGbOutOQ2BTb5dgOqbHleIc8RuE_rgSQsLRTJDpZfn1JNp84slXMOH84MpGDcYBgHTtsu
	TGoyUn2Y3xlvOIV7ttBO9Vvw-sy&__tn__=-]K*F]\ndi PISA con il Circolo ARCI Alb
	erone Pisa\n[https://www.facebook.com/CircoloArciAlberonePisa?__cft__[0]=A
	ZUnz2bF_Jx4xlQ_3O6xrOsDNqb-KsEcy4HCJicGoACsO6gEhLebIxYVVdoAt0D40H6mFEX0EO8
	zPKVjNjwIYwRxDIA2u5qfVQHdnAF3e5xElr7QaIJvPopIfGbOutOQ2BTb5dgOqbHleIc8RuE_r
	gSQsLRTJDpZfn1JNp84slXMOH84MpGDcYBgHTtsuTGoyUn2Y3xlvOIV7ttBO9Vvw-sy&__tn__
	=-]K*F]\nper una giornata di solidarietà a sostegno del Collettivo Di Fabb
	rica -\nLavoratori Gkn Firenze\n[https://www.facebook.com/coordinamentogkn
	firenze?__cft__[0]=AZUnz2bF_Jx4xlQ_3O6xrOsDNqb-KsEcy4HCJicGoACsO6gEhLebIxY
	VVdoAt0D40H6mFEX0EO8zPKVjNjwIYwRxDIA2u5qfVQHdnAF3e5xElr7QaIJvPopIfGbOutOQ2
	BTb5dgOqbHleIc8RuE_rgSQsLRTJDpZfn1JNp84slXMOH84MpGDcYBgHTtsuTGoyUn2Y3xlvOI
	V7ttBO9Vvw-sy&__tn__=-]K*F]\nin avvicinamento alla terza edizione del fest
	ival di letteratura Working Class\n\ncon mostra fotografica\, interventi d
	i referenti del Collettivo di Fabbrica\,\nreading e cena sociale per...\n\
	nIL SOGNO DI UNA FABBRICA\nuna storia di amore e riscatto collettivo da sc
	rivere insieme.\n\nVi aspettiamo!\n#insorgiamo\n[https://www.facebook.com/
	hashtag/insorgiamo?__eep__=6&__cft__[0]=AZUnz2bF_Jx4xlQ_3O6xrOsDNqb-KsEcy4
	HCJicGoACsO6gEhLebIxYVVdoAt0D40H6mFEX0EO8zPKVjNjwIYwRxDIA2u5qfVQHdnAF3e5xE
	lr7QaIJvPopIfGbOutOQ2BTb5dgOqbHleIc8RuE_rgSQsLRTJDpZfn1JNp84slXMOH84MpGDcY
	BgHTtsuTGoyUn2Y3xlvOIV7ttBO9Vvw-sy&__tn__=*NK*F]
URL:https://lapunta.org/event/il-sogno-di-una-fabbrica-reading-musicale-la-
	fabbrica-dei-sogni-e-benefit-per-il-collettivo-di-fabbrica-ex-gkn
LOCATION:Cantiere sociale Sanbernardo - Via Pietro Gori\, Pisa
STATUS:CONFIRMED
CATEGORIES:GKN,cantiere sociale sanbernardo,collettivo di fabbrica,insorgia
	mo,reading
X-ALT-DESC;FMTTYPE=text/html:<p>Continua il tour de <a target="_blank" href
	="https://www.facebook.com/people/La-Fabbrica-dei-Sogni/61563802358184/?__
	cft__[0]=AZUnz2bF_Jx4xlQ_3O6xrOsDNqb-KsEcy4HCJicGoACsO6gEhLebIxYVVdoAt0D40
	H6mFEX0EO8zPKVjNjwIYwRxDIA2u5qfVQHdnAF3e5xElr7QaIJvPopIfGbOutOQ2BTb5dgOqbH
	leIc8RuE_rgSQsLRTJDpZfn1JNp84slXMOH84MpGDcYBgHTtsuTGoyUn2Y3xlvOIV7ttBO9Vvw
	-sy&amp;__tn__=-]K*F"><strong>La Fabbrica dei Sogni</strong></a> - reading
	 musicale a cura di <a target="_blank" href="https://www.facebook.com/Altr
	oteatroFirenze/?locale=it_IT">AltroTeatro</a> con brani tratti dal romanzo
	 di <strong>Valentina Baronti</strong>, ispirato alla vertenza del Collett
	ivo di Fabbrica ex-GKN - che<br> <strong>DOMENICA 23 febbraio</strong> arr
	iva al <a target="_blank" href="https://www.facebook.com/cantiere.sanberna
	rdo?__cft__[0]=AZUnz2bF_Jx4xlQ_3O6xrOsDNqb-KsEcy4HCJicGoACsO6gEhLebIxYVVdo
	At0D40H6mFEX0EO8zPKVjNjwIYwRxDIA2u5qfVQHdnAF3e5xElr7QaIJvPopIfGbOutOQ2BTb5
	dgOqbHleIc8RuE_rgSQsLRTJDpZfn1JNp84slXMOH84MpGDcYBgHTtsuTGoyUn2Y3xlvOIV7tt
	BO9Vvw-sy&amp;__tn__=-]K*F"><strong>Cantiere SanBernardo</strong></a> di P
	ISA con il <a target="_blank" href="https://www.facebook.com/CircoloArciAl
	beronePisa?__cft__[0]=AZUnz2bF_Jx4xlQ_3O6xrOsDNqb-KsEcy4HCJicGoACsO6gEhLeb
	IxYVVdoAt0D40H6mFEX0EO8zPKVjNjwIYwRxDIA2u5qfVQHdnAF3e5xElr7QaIJvPopIfGbOut
	OQ2BTb5dgOqbHleIc8RuE_rgSQsLRTJDpZfn1JNp84slXMOH84MpGDcYBgHTtsuTGoyUn2Y3xl
	vOIV7ttBO9Vvw-sy&amp;__tn__=-]K*F"><strong>Circolo ARCI Alberone Pisa</str
	ong></a><br>per una giornata di solidarietà a sostegno del <a target="_bla
	nk" href="https://www.facebook.com/coordinamentogknfirenze?__cft__[0]=AZUn
	z2bF_Jx4xlQ_3O6xrOsDNqb-KsEcy4HCJicGoACsO6gEhLebIxYVVdoAt0D40H6mFEX0EO8zPK
	VjNjwIYwRxDIA2u5qfVQHdnAF3e5xElr7QaIJvPopIfGbOutOQ2BTb5dgOqbHleIc8RuE_rgSQ
	sLRTJDpZfn1JNp84slXMOH84MpGDcYBgHTtsuTGoyUn2Y3xlvOIV7ttBO9Vvw-sy&amp;__tn_
	_=-]K*F"><strong>Collettivo Di Fabbrica - Lavoratori Gkn Firenze</strong><
	/a><br>in avvicinamento alla terza edizione del festival di letteratura Wo
	rking Class </p><p>con mostra fotografica, interventi di referenti del Col
	lettivo di Fabbrica, reading e cena sociale per...<br><br>IL SOGNO DI UNA 
	FABBRICA<br>una storia di amore e riscatto collettivo da scrivere insieme.
	<br><br>Vi aspettiamo!<br><a target="_blank" href="https://www.facebook.co
	m/hashtag/insorgiamo?__eep__=6&amp;__cft__[0]=AZUnz2bF_Jx4xlQ_3O6xrOsDNqb-
	KsEcy4HCJicGoACsO6gEhLebIxYVVdoAt0D40H6mFEX0EO8zPKVjNjwIYwRxDIA2u5qfVQHdnA
	F3e5xElr7QaIJvPopIfGbOutOQ2BTb5dgOqbHleIc8RuE_rgSQsLRTJDpZfn1JNp84slXMOH84
	MpGDcYBgHTtsuTGoyUn2Y3xlvOIV7ttBO9Vvw-sy&amp;__tn__=*NK*F"><strong>#insorg
	iamo</strong></a></p>
END:VEVENT
END:VCALENDAR
