BEGIN:VCALENDAR
VERSION:2.0
CALSCALE:GREGORIAN
PRODID:adamgibbons/ics
METHOD:PUBLISH
X-PUBLISHED-TTL:PT1H
BEGIN:VEVENT
UID:5999@lapunta.org
SUMMARY:Iran\, posizionarsi nella complessità: una prospettiva diasporica
DTSTAMP:20260423T155628Z
DTSTART:20260325T170000Z
URL:https://lapunta.org/event/iran-posizionarsi-nella-complessita-una-prosp
	ettiva-diasporica
LOCATION:AulaR - Dipartimento di Scienze Politiche\, Via Filippo Serafini 3
	\, Pisa
STATUS:CONFIRMED
CATEGORIES:AULA R,Pisa,internazionalismo
END:VEVENT
BEGIN:VEVENT
UID:5421@lapunta.org
SUMMARY:Proiezione "Union" (2024) e dibattito
DTSTAMP:20260423T155628Z
DTSTART:20251014T193000Z
DTEND:20251014T213000Z
DESCRIPTION:Mercoledì scorso 8 ottobre l'occupazione del plesso di via Capp
	oni a Firenze ha\nospitato Chris Smalls\, in occasione di un'assemblea org
	anizzata dal Collettivo\ndi Fabbrica GKN volta a ricollegare le lotte sind
	acali in occidente con le\nspedizioni navali delle flottille dirette a Gaz
	a.\n\nSmalls\, infatti\, collega in persona questi due mondi apparentement
	e distanti.\nCo-fondatore e presidente (fino al 2024) dell'Amazon Labor Un
	ion\, era imbarcato\nsulla Handala\, salpata per rompere il blocco navale 
	illegale imposto da Israele\nsu Gaza\, quando è stata intercettata dalle I
	DF a luglio di quest'anno.\n\nLa creazione del primo sindacato che organiz
	zava lavoratori Amazon negli USA\,\nufficialmente riconosciuto dalla Natio
	nal Labor Relation Board (NLRB)\, è stato\nun passaggio fondamentale nel p
	ercorso del sindacalista americano\, e ha posto le\nbasi per lo sviluppo d
	el movimento operaio nella multinazionale notoriamente più\nrefrattaria al
	l'organizzazione collettiva.\n\nNel 2024 esce "Union"\, un documentario ch
	e racconta questo percorso di\nauto-organizzazione\, all'interno del magaz
	zino Amazon JFK8 di Staten Island\, New\nYork\, diretto da Brett Story e S
	tephen Maing\, con la collaborazione di Smalls.\n\nLo proietteremo martedì
	 sera dalle 21:30\, in un'aula del plesso occupato di Via\nCapponi\, in li
	ngua originale con sottotitoli in italiano.\n\nPer approfondire la storia 
	dell'ALU\, il giornale militante LeftVoice\, parte\ndella rete internazion
	ale di cui fa parte anche La Voce delle Lotte\, ha seguito\nnegli anni gli
	 sviluppi della vicenda.
URL:https://lapunta.org/event/proiezione-union-2024-e-dibattito
LOCATION:Dipartimento S.A.G.A.S. UniFi - Via G. Capponi\, 9\, 50121\, Firen
	ze
STATUS:CONFIRMED
CATEGORIES:Autorganzizzazione,FreePalestine,Lavoratori,Lavoro precario,Pale
	stina,anticapitalismo,antiimperialismo,autoformazione,documentario,interna
	zionalismo,lavocedellelotte,proiezione,sindacalismo,sindacato
X-ALT-DESC;FMTTYPE=text/html:<p>Mercoledì scorso 8 ottobre l'occupazione de
	l plesso di via Capponi a Firenze ha ospitato Chris Smalls, in occasione d
	i un'assemblea organizzata dal Collettivo di Fabbrica GKN volta a ricolleg
	are le lotte sindacali in occidente con le spedizioni navali delle flottil
	le dirette a Gaza.<br><br>Smalls, infatti, collega in persona questi due m
	ondi apparentemente distanti. Co-fondatore e presidente (fino al 2024) del
	l'Amazon Labor Union, era imbarcato sulla Handala, salpata per rompere il 
	blocco navale illegale imposto da Israele su Gaza, quando è stata intercet
	tata dalle IDF a luglio di quest'anno.<br><br>La creazione del primo sinda
	cato che organizzava lavoratori Amazon negli USA, ufficialmente riconosciu
	to dalla National Labor Relation Board (NLRB), è stato un passaggio fondam
	entale nel percorso del sindacalista americano, e ha posto le basi per lo 
	sviluppo del movimento operaio nella multinazionale notoriamente più refra
	ttaria all'organizzazione collettiva.<br><br>Nel 2024 esce "Union", un doc
	umentario che racconta questo percorso di auto-organizzazione, all'interno
	 del magazzino Amazon JFK8 di Staten Island, New York, diretto da Brett St
	ory e Stephen Maing, con la collaborazione di Smalls.<br><br>Lo proiettere
	mo martedì sera dalle 21:30, in un'aula del plesso occupato di Via Capponi
	, in lingua originale con sottotitoli in italiano. <br><br>Per approfondir
	e la storia dell'ALU, il giornale militante LeftVoice, parte della rete in
	ternazionale di cui fa parte anche La Voce delle Lotte, ha seguito negli a
	nni gli sviluppi della vicenda.</p>
END:VEVENT
BEGIN:VEVENT
UID:5391@lapunta.org
SUMMARY:Dal Fiume Al Mare - Dibattito su liberazione palestinese\, sionismo
	 e prospettive di lotta in occidente
DTSTAMP:20260423T155628Z
DTSTART:20251007T140000Z
DTEND:20251007T163000Z
DESCRIPTION:Cosa intendiamo quando diciamo "Palestina Libera dal Fiume al M
	are"? Cos'è il\nsionismo e perché dobbiamo combatterlo\, in università e o
	ltre?\n\nPerché lottare per la Palestina vuol dire anche lottare contro le
	 politiche di\nmilitarizzazione e riarmo in occidente?\n\nDiscutiamo di tu
	tto questo martedì 7 ottobre in via Laura occupata\, dalle ore\n16.\n\nBlo
	cchiamo la didattica e rendiamo l'occupazione un luogo di sapere critico e
	 un\ncentro di elaborazione politica per costruire la mobilitazione.
URL:https://lapunta.org/event/dal-fiume-al-mare-dibattito-su-liberazione-pa
	lestinese-sionismo-e-prospettive-di-lotta-in-occidente
LOCATION:Scuola di Studi Umanistici e della Formazione - Università degli S
	tudi di Firenze - Via Laura\, 48\, 50121 Firenze FI
STATUS:CONFIRMED
CATEGORIES:FreePalestine,Palestina,Resistenza Palestinese,Sionismo,antiimpe
	rialismo,dibattito,firenze per la palestina,freegaza,internazionalismo,occ
	upazione,palestinalibera,riarmo,università
X-ALT-DESC;FMTTYPE=text/html:<p>Cosa intendiamo quando diciamo "Palestina L
	ibera dal Fiume al Mare"? Cos'è il sionismo e perché dobbiamo combatterlo,
	 in università e oltre?<br><br>Perché lottare per la Palestina vuol dire a
	nche lottare contro le politiche di militarizzazione e riarmo in occidente
	?<br><br>Discutiamo di tutto questo martedì 7 ottobre in via Laura occupat
	a, dalle ore 16.<br><br>Blocchiamo la didattica e rendiamo l'occupazione u
	n luogo di sapere critico e un centro di elaborazione politica per costrui
	re la mobilitazione.</p>
END:VEVENT
BEGIN:VEVENT
UID:5054@lapunta.org
SUMMARY:Affrontare il riarmo e l'estrema destra internazionale
DTSTAMP:20260423T155628Z
DTSTART:20250629T150000Z
DTEND:20250629T213000Z
DESCRIPTION:🔥 Il 24 maggio si è tenuto a Parigi un meeting internazionale p
	romosso dalla\nFrazione Trotskista\, che ha visto la partecipazione di olt
	re 2000 persone in\npresenza e centinaia in collegamento virtuale. L’inizi
	ativa\, ospitata da\nRévolution Permanente\, ha raccolto militanti\, lavor
	atrici e lavoratori\, giovani\ne rappresentanti di diverse organizzazioni 
	da Europa e America Latina\, con\nl’obiettivo di discutere delle prospetti
	ve per costruire un’alternativa\ninternazionalista e rivoluzionaria all’at
	tuale situazione politica\, segnata dal\nriarmo globale e dall’ascesa dell
	’estrema destra.\n\n✊ Costruire un’organizzazione rivoluzionaria internazi
	onale non è uno slogan: è\nun’esigenza concreta\, che parte dalla realtà d
	ella nostra classe. Ed è ciò che\nci guida\, ogni giorno\, nella FIR–Voce 
	delle Lotte.\n\n🎥 Sul nostro canale YouTube puoi trovare il video completo
	 del meeting.\nAltrimenti\, stiamo organizzando degli watch party nelle ci
	ttà italiane in cui\nsiamo presenti: il prossimo è a Firenze\, domenica 29
	 giugno\n\nSarà un momento per discutere della situazione internazionale\,
	 a partire dalle\nesperienze e dalle voci di militanti sparsi in tutto il 
	mondo\, e conoscere\nmeglio La Voce delle Lotte e la rete di cui fa parte
URL:https://lapunta.org/event/affrontare-il-riarmo-e-lestrema-destra-intern
	azionale
LOCATION:Circolo Arci fra i Lavoratori di Porta al Prato - Via delle Porte 
	Nuove\, 33\, Firenze
STATUS:CONFIRMED
CATEGORIES:FreePalestine,Lavoratori,anticapitalismo,antiimperialismo,comuni
	smo,dibattito,francia,frazionetrotzkista,internazionalismo,lavocedellelott
	e,lottadiclasse,proiezione,quartainternazionale,riarmo,rivoluzione,sociali
	smo
X-ALT-DESC;FMTTYPE=text/html:<p>🔥 Il 24 maggio si è tenuto a Parigi un meet
	ing internazionale promosso dalla Frazione Trotskista, che ha visto la par
	tecipazione di oltre 2000 persone in presenza e centinaia in collegamento 
	virtuale. L’iniziativa, ospitata da Révolution Permanente, ha raccolto mil
	itanti, lavoratrici e lavoratori, giovani e rappresentanti di diverse orga
	nizzazioni da Europa e America Latina, con l’obiettivo di discutere delle 
	prospettive per costruire un’alternativa internazionalista e rivoluzionari
	a all’attuale situazione politica, segnata dal riarmo globale e dall’asces
	a dell’estrema destra.<br><br>✊ Costruire un’organizzazione rivoluzionaria
	 internazionale non è uno slogan: è un’esigenza concreta, che parte dalla 
	realtà della nostra classe. Ed è ciò che ci guida, ogni giorno, nella FIR–
	Voce delle Lotte.<br><br>🎥 Sul nostro canale YouTube puoi trovare il video
	 completo del meeting. Altrimenti, stiamo organizzando degli watch party n
	elle città italiane in cui siamo presenti: il prossimo è a Firenze, domeni
	ca 29 giugno<br><br>Sarà un momento per discutere della situazione interna
	zionale, a partire dalle esperienze e dalle voci di militanti sparsi in tu
	tto il mondo, e conoscere meglio La Voce delle Lotte e la rete di cui fa p
	arte</p>
END:VEVENT
BEGIN:VEVENT
UID:4986@lapunta.org
SUMMARY:Mostra "I prigioni"\, lotta e libertà del Popolo Saharawi
DTSTAMP:20260423T155628Z
DTSTART:20250612T170000Z
DTEND:20250612T220000Z
DESCRIPTION:Giovedi' 12 giugno 2025\n\nh 20: mostra fotografica + cena bene
	fit popolazione Saharawi\n\n"I prigioni" di Andrea Sawyerr\n\nLotta e libe
	rtà del Popolo Saharawi. Nata da una idea di Andrea Sawyerr\,\nl’esposizio
	ne ripropone in chiave metaforica (partendo dalle sculture I Prigioni\ndi 
	Michelangelo) la prigionia dei saharawi\, delle loro menti\, della loro\nd
	ignità\, del loro corpo nella sabbia di un deserto che li ha accolti\, con
	segnato\nrifugio\, calore e sicurezza ma che non è – a causa della politic
	a internazionale\n– la loro casa\, nazione\, radici\, tradizione e territo
	rio.\n\nmostra ideata nell'ambito del progetto https://www.cittavisibili.i
	t/\n[https://www.cittavisibili.it/]\n\nPer prenotazioni cena: 3201514649\n
	\nh 22: live di Andea Santalucia\n\nhttps://linktr.ee/andrea.santalusia [h
	ttps://linktr.ee/andrea.santalusia]\n\nhttps://www.youtube.com/watch?v=i3u
	qIggxTUk\n[https://www.youtube.com/watch?v=i3uqIggxTUk]\n\njazz\, flamenco
	\, poesia e musica elettronica\n\nintervista a Andrea Santalusia per radio
	 bizarre\n\nhttps://radioblackout.org/podcast/le-interviste-rauche-di-radi
	o-bizarre-andrea-santalusia-presenta-il-suo-ultimo-lavoro-solista-alnitak-
	alnilam-mintaka/\n[https://radioblackout.org/podcast/le-interviste-rauche-
	di-radio-bizarre-andrea-santalusia-presenta-il-suo-ultimo-lavoro-solista-a
	lnitak-alnilam-mintaka/]
URL:https://lapunta.org/event/mostra-i-prigioni-lotta-e-liberta-del-popolo-
	saharawi
LOCATION:NextEmerson - Via di Bellagio 15\, zona Castello - Firenze
STATUS:CONFIRMED
CATEGORIES:benefit,internazionalismo,nextemerson,saharawi
X-ALT-DESC;FMTTYPE=text/html:<p>Giovedi' 12 giugno 2025</p><p>h 20: mostra 
	fotografica + cena benefit popolazione Saharawi</p><p>"I prigioni" di Andr
	ea Sawyerr</p><p>Lotta e libertà del Popolo Saharawi. Nata da una idea di 
	Andrea Sawyerr, l’esposizione ripropone in chiave metaforica (partendo dal
	le sculture I Prigioni di Michelangelo) la prigionia dei saharawi, delle l
	oro menti, della loro dignità, del loro corpo nella sabbia di un deserto c
	he li ha accolti, consegnato rifugio, calore e sicurezza ma che non è – a 
	causa della politica internazionale – la loro casa, nazione, radici, tradi
	zione e territorio.</p><p>mostra ideata nell'ambito del progetto <a target
	="_blank" href="https://www.cittavisibili.it/">https://www.cittavisibili.i
	t/</a></p><p>Per prenotazioni cena: 3201514649</p><p>h 22: live di Andea S
	antalucia</p><p><a target="_blank" href="https://linktr.ee/andrea.santalus
	ia">https://linktr.ee/andrea.santalusia</a></p><p><a target="_blank" href=
	"https://www.youtube.com/watch?v=i3uqIggxTUk">https://www.youtube.com/watc
	h?v=i3uqIggxTUk</a></p><p>jazz, flamenco, poesia e musica elettronica</p><
	p>intervista a Andrea Santalusia per radio bizarre</p><p><a target="_blank
	" href="https://radioblackout.org/podcast/le-interviste-rauche-di-radio-bi
	zarre-andrea-santalusia-presenta-il-suo-ultimo-lavoro-solista-alnitak-alni
	lam-mintaka/">https://radioblackout.org/podcast/le-interviste-rauche-di-ra
	dio-bizarre-andrea-santalusia-presenta-il-suo-ultimo-lavoro-solista-alnita
	k-alnilam-mintaka/</a></p>
END:VEVENT
BEGIN:VEVENT
UID:3684@lapunta.org
SUMMARY:Fermiamo il genocidio a Gaza! Per una prospettiva internazionalista
	 e libertaria
DTSTAMP:20260423T155629Z
DTSTART:20240413T160000Z
DTEND:20240413T200000Z
DESCRIPTION:Fermiamo il genocidio a Gaza!\nPer una prospettiva libertaria\,
	 federalista e internazionalista\n\nSabato 13 aprile\npresso la Federazion
	e Anarchica Livornese\nin Via degli Asili 33\, Livorno\n\nalle ore 18\nInc
	ontro con Gianmaria Valent\ndella Federazione Anarchica Reggiana\n\nDiscus
	sione a partire dal documento approvato dal convegno nazionale FAI di\nCar
	rara nello scorso febbraio\n\ndalle ore 20\nAperitivo\n\nFederazione Anarc
	hica Livornese\ncdcfedanarchicalivornese@virgilio.it [cdcfedanarchicalivor
	nese@virgilio.it]\nApertura sede LUN e GIOV dalle 16 alle 20
URL:https://lapunta.org/event/fermiamo-il-genocidio-a-gaza-per-una-prospett
	iva-internazionalista-e-libertaria
LOCATION:Federazione Anarchica Livornese - Via degli asili 33\, Livorno
STATUS:CONFIRMED
CATEGORIES:Federalismo,Federazione Anarchica Livornese,Gaza,Livorno,Palesti
	na,anarchismo,internazionalismo
X-ALT-DESC;FMTTYPE=text/html:<p>Fermiamo il genocidio a Gaza!<br>Per una pr
	ospettiva libertaria, federalista e internazionalista</p><p>Sabato 13 apri
	le <br>presso la Federazione Anarchica Livornese<br>in Via degli Asili 33,
	 Livorno</p><p>alle ore 18<br>Incontro con Gianmaria Valent<br>della Feder
	azione Anarchica Reggiana</p><p>Discussione a partire dal documento approv
	ato dal convegno nazionale FAI di Carrara nello scorso febbraio</p><p>dall
	e ore 20<br>Aperitivo</p><p>Federazione Anarchica Livornese<br><a href="ma
	ilto:cdcfedanarchicalivornese@virgilio.it">cdcfedanarchicalivornese@virgil
	io.it</a><br>Apertura sede LUN e GIOV dalle 16 alle 20</p>
END:VEVENT
BEGIN:VEVENT
UID:3135@lapunta.org
SUMMARY:To shoot an elephant
DTSTAMP:20260423T155629Z
DTSTART:20231123T200000Z
DTEND:20231123T220000Z
DESCRIPTION:Documentario\n\nGaza è sotto assedio\, fisico e mediatico. Senz
	a connessione internet e con\nsempre più giornalisti uccisi è impossibile 
	trasmettere cosa stia vivendo chi si\ntrova imprigionat sotto le bombe di 
	Israele.\n\nRiproponiamo perciò un documentario\, già presentato in Polver
	iera nel 2015.\nFilmato a Gaza durante l'operazione "piombo fuso" dai poch
	i attivisti riusciti\nad entrare\, To shoot an elephant testimonia cosa su
	ccede oltre il muro del\nsilenzio.\n\nDiretto da Alberto Arce e Mohammad R
	ujailahk\n\n2009\n\n112 min
URL:https://lapunta.org/event/to-shoot-an-elephant
LOCATION:La Polveriera Spazio Comune - Via S. Reparata 12r\, Firenze
STATUS:CONFIRMED
CATEGORIES:Palestina,cinema,internazionalismo
X-ALT-DESC;FMTTYPE=text/html:<p><strong>Documentario</strong></p><p>Gaza è 
	sotto assedio, fisico e mediatico. Senza connessione internet e con sempre
	 più giornalisti uccisi è impossibile trasmettere cosa stia vivendo chi si
	 trova imprigionat sotto le bombe di Israele.</p><p>Riproponiamo perciò un
	 documentario, già presentato in Polveriera nel 2015. Filmato a Gaza duran
	te l'operazione "piombo fuso" dai pochi attivisti riusciti ad entrare, To 
	shoot an elephant testimonia cosa succede oltre il muro del silenzio. </p>
	<p>Diretto da Alberto Arce e Mohammad Rujailahk</p><p>2009</p><p>112 min</
	p>
END:VEVENT
BEGIN:VEVENT
UID:2224@lapunta.org
SUMMARY:La Guerra in Ucraina e l’Internazionalismo proletario
DTSTAMP:20260423T155629Z
DTSTART:20230428T163000Z
DTEND:20230428T183000Z
DESCRIPTION:Presentazione del libro e incontro con il curatore Pietro Basso
	. A cura di\nCentro Studi politico sociale Archvio storico "il sessantotto
	" e Circolo "Il\nCampino"
URL:https://lapunta.org/event/la-guerra-in-ucraina-e-linternazionalismo-pro
	letario
LOCATION:circolo "il campino" Firenze Rifredi - Via Caccini -Rifredi Firenz
	e -
STATUS:CONFIRMED
CATEGORIES:guerra,internazionalismo,ucraina
X-ALT-DESC;FMTTYPE=text/html:<p>Presentazione del libro e incontro con il c
	uratore Pietro Basso. A cura di Centro Studi politico sociale Archvio stor
	ico "il sessantotto" e Circolo "Il Campino"</p>
END:VEVENT
BEGIN:VEVENT
UID:418@lapunta.org
SUMMARY:In ricordo di Orso
DTSTAMP:20260423T155629Z
DTSTART:20220312T170000Z
DTEND:20220312T230000Z
DESCRIPTION:Dalle 18\n\nInaugurazione del murales di Ninjaz\, installazioni
	 e asta di opere benefit\nStaffetta Sanitaria per il Rojava.\nUna raccolta
	 di pensieri e figure\, per ricordare a modo nostro Orso.\n\nh 19.00 Disch
	i a cura di Exchange Cypherz Breaking Crew\n\nh 20.00 Aperitivo e cena ben
	efit [prenotazioni al 3475922888]\n\nh 21.30 Asta benefit opere\n\nh 22.30
	 – 24.00 Dischi e break jam\n\nInfo Staffetta Sanitaria Rojava http://www.
	staffettasanitaria-rojava.it/\n[http://www.staffettasanitaria-rojava.it/]\
	n\n
URL:https://lapunta.org/event/in-ricordo-di-orso
LOCATION:NextEmerson - Via di Bellagio 15\, zona Castello - Firenze
STATUS:CONFIRMED
CATEGORIES:NEMA,Orso,Rojava,benefit,internazionalismo,mostra,nextemerson,so
	lidarietà
X-ALT-DESC;FMTTYPE=text/html:<p>Dalle 18</p><p>Inaugurazione del murales di
	 Ninjaz, installazioni e asta di opere benefit Staffetta Sanitaria per il 
	Rojava. <br>Una raccolta di pensieri e figure, per ricordare a modo nostro
	 Orso.</p><p>h 19.00 Dischi a cura di Exchange Cypherz Breaking Crew</p><p
	>h 20.00 Aperitivo e cena benefit  [prenotazioni al 3475922888]</p><p>h 21
	.30 Asta benefit opere</p><p>h 22.30 – 24.00 Dischi e break jam</p><p>Info
	 Staffetta Sanitaria Rojava <a target="_blank" href="http://www.staffettas
	anitaria-rojava.it/">http://www.staffettasanitaria-rojava.it/</a></p><p></
	p>
END:VEVENT
END:VCALENDAR
