BEGIN:VCALENDAR
VERSION:2.0
CALSCALE:GREGORIAN
PRODID:adamgibbons/ics
METHOD:PUBLISH
X-PUBLISHED-TTL:PT1H
BEGIN:VEVENT
UID:635@lapunta.org
SUMMARY:Conferenza per la difesa dell'ambiente e dei leader sociali in Colo
	mbia
DTSTAMP:20260424T205446Z
DTSTART:20220524T160000Z
DTEND:20220524T210000Z
DESCRIPTION:Incontro con leader sociali delle comunità indipendenti colombi
	ane oppresse e a\nseguire cena e danze !
URL:https://lapunta.org/event/conferenza-per-la-difesa-dellambiente-e-dei-l
	eader-sociali-in-colombia
LOCATION:La Polveriera Spazio Comune - Via S. Reparata 12r\, Firenze
STATUS:CONFIRMED
CATEGORIES:cena,colombia,danza,leadersociali,musica
X-ALT-DESC;FMTTYPE=text/html:<p>Incontro con leader sociali delle comunità 
	indipendenti colombiane oppresse e a seguire cena e danze !</p>
END:VEVENT
END:VCALENDAR
