BEGIN:VCALENDAR
VERSION:2.0
CALSCALE:GREGORIAN
PRODID:adamgibbons/ics
METHOD:PUBLISH
X-PUBLISHED-TTL:PT1H
BEGIN:VEVENT
UID:3503@lapunta.org
SUMMARY:Giornata per la Palestina allo spazio autogestito
DTSTAMP:20260424T193513Z
DTSTART:20240228T150000Z
DESCRIPTION:Questo mercoledì allo spazio autogestito\n\nGiornata per la Pal
	estina\n\n * Restyling del murales per la Palestina che è stato cancellato
	\n\n * Iniziativa/dibattito con Karem sulla questione palestinese\n\nA seg
	uire socialità\, birrette e musica\n\nDalle 13 libreremo point\, distribuz
	ione gratuita di testi universitari\n\nVi aspettiamo allo spazio 🚀
URL:https://lapunta.org/event/giornata-per-la-palestina-allo-spazio-autoges
	tito
LOCATION:Spazio autogestito D5 Novoli - D5 Novoli
STATUS:CONFIRMED
CATEGORIES:Firenze,FreePalestine,Palestina,libreremo,università
X-ALT-DESC;FMTTYPE=text/html:<p>Questo mercoledì allo spazio autogestito </
	p><p><strong>Giornata per la Palestina</strong></p><ul><li><p>Restyling de
	l murales per la Palestina che è stato cancellato</p></li><li><p>Iniziativ
	a/dibattito con Karem sulla questione palestinese</p></li></ul><p>A seguir
	e socialità, birrette e musica</p><p>Dalle 13 libreremo point, distribuzio
	ne gratuita di testi universitari</p><p>Vi aspettiamo allo spazio 🚀</p>
END:VEVENT
END:VCALENDAR
