BEGIN:VCALENDAR
VERSION:2.0
CALSCALE:GREGORIAN
PRODID:adamgibbons/ics
METHOD:PUBLISH
X-PUBLISHED-TTL:PT1H
BEGIN:VEVENT
UID:3848@lapunta.org
SUMMARY:Super cinema segreto - SUMMER MOCCOLO EDITION
DTSTAMP:20260423T154817Z
DTSTART:20240701T183000Z
DTEND:20240701T210000Z
DESCRIPTION:Proiezioni clandestine a sorpresa al CSA Next Emerson:\n\nLuned
	ì 10 giugno\n\nLunedì 17 giugno\n\nLunedì 1 luglio\n\n * Ore 20.30 cena po
	pular\n\n * Ore 21.30 Filmaccio\n\nInsomma vieni\, ci vediamo un film in c
	ompagnia\, è la SUMMER MOCCOLO EDITION\, ma\nche hai da fare di lunedì ser
	a!\n\nNo\, il film in anticipo non te lo diciamo\, lo si scopre la sera st
	essa.\n\nSiamo in giardino.
URL:https://lapunta.org/event/super-cinema-segreto-summer-moccolo-edition-2
LOCATION:NextEmerson - Via di Bellagio 15\, zona Castello - Firenze
STATUS:CONFIRMED
CATEGORIES:cena popolare,cinema,giardino,movie,next emerson,proiezione
X-ALT-DESC;FMTTYPE=text/html:<p>Proiezioni clandestine a sorpresa al CSA Ne
	xt Emerson:</p><p><strong>Lunedì 10 giugno</strong></p><p><strong>Lunedì 1
	7 giugno</strong></p><p><strong>Lunedì 1 luglio</strong></p><ul><li><p>Ore
	 20.30 cena popular</p></li><li><p>Ore 21.30 Filmaccio</p></li></ul><p>Ins
	omma vieni, ci vediamo un film in compagnia, è la SUMMER MOCCOLO EDITION, 
	ma che hai da fare di lunedì sera!</p><p>No, il film in anticipo non te lo
	 diciamo, lo si scopre la sera stessa.</p><p>Siamo in giardino.</p>
END:VEVENT
BEGIN:VEVENT
UID:3847@lapunta.org
SUMMARY:Super cinema segreto - SUMMER MOCCOLO EDITION
DTSTAMP:20260423T154817Z
DTSTART:20240617T183000Z
DTEND:20240617T210000Z
DESCRIPTION:Proiezioni clandestine a sorpresa al CSA Next Emerson:\n\nLuned
	ì 10 giugno\n\nLunedì 17 giugno\n\nLunedì 1 luglio\n\n * Ore 20.30 cena po
	pular\n\n * Ore 21.30 Filmaccio\n\nInsomma vieni\, ci vediamo un film in c
	ompagnia\, è la SUMMER MOCCOLO EDITION\, ma\nche hai da fare di lunedì ser
	a!\n\nNo\, il film in anticipo non te lo diciamo\, lo si scopre la sera st
	essa.\n\nSiamo in giardino.
URL:https://lapunta.org/event/super-cinema-segreto-summer-moccolo-edition-1
LOCATION:NextEmerson - Via di Bellagio 15\, zona Castello - Firenze
STATUS:CONFIRMED
CATEGORIES:cena popolare,cinema,giardino,movie,next emerson,proiezione
X-ALT-DESC;FMTTYPE=text/html:<p>Proiezioni clandestine a sorpresa al CSA Ne
	xt Emerson:</p><p><strong>Lunedì 10 giugno</strong></p><p><strong>Lunedì 1
	7 giugno</strong></p><p><strong>Lunedì 1 luglio</strong></p><ul><li><p>Ore
	 20.30 cena popular</p></li><li><p>Ore 21.30 Filmaccio</p></li></ul><p>Ins
	omma vieni, ci vediamo un film in compagnia, è la SUMMER MOCCOLO EDITION, 
	ma che hai da fare di lunedì sera!</p><p>No, il film in anticipo non te lo
	 diciamo, lo si scopre la sera stessa.</p><p>Siamo in giardino.</p>
END:VEVENT
BEGIN:VEVENT
UID:3846@lapunta.org
SUMMARY:Super Cinema Segreto - Summer moccolo edition
DTSTAMP:20260423T154817Z
DTSTART:20240610T183000Z
DTEND:20240610T210000Z
DESCRIPTION:Proiezioni clandestine a sorpresa al CSA Next Emerson:\n\nLuned
	ì 10 giugno\n\nLunedì 17 giugno\n\nLunedì 1 luglio\n\n * Ore 20.30 cena be
	nefit per la ricostruzione del nuovo Cinema Amude in Rojava\n\n * Ore 21.3
	0 Filmaccio\n\nInsomma vieni\, ci vediamo un film in compagnia\, è la SUMM
	ER MOCCOLO EDITION\, ma\nche hai da fare di lunedì sera!\n\nNo\, il film i
	n anticipo non te lo diciamo\, lo si scopre la sera stessa.\n\nSiamo in gi
	ardino.\n\n---------------------------------------------------------------
	---------------------------------------------------------------\n\nDurante
	 le tre serate benefit raccolta fondi per la ricostruzione del nuovo\nCine
	ma Amude in Rojava\n\nUn contributo\, quindi\, alla ricostruzione del prim
	o cinema per le comunità del\nRojava nella città di Amude\, nella regione 
	autonoma del Rojava/Nord-Est della\nSiria.\n\nIl progetto\, a cura della C
	omune del Cinema del Rojava\, offrirà uno spazio per\nle attività artistic
	he e culturali\, oltre che un centro di promozione delle arti\nvisive.\n\n
	Iil cinema di Amude fu distrutto da un incendio nel 1960. Una tragedia\nan
	nunciata\, che portò alla morte 282 bambini e bambine durante una proiezio
	ne\norganizzata dal regime baathista nonostante l’allarme sicurezza per le
	 precarie\ncondizioni della struttura. Una strage di giovanissimi\, tra gl
	i otto e quindici\nanni\, che ancora oggi rappresenta una ferita aperta ne
	l vissuto della comunità.\n\nLa ricostruzione del cinema\, oltre che mante
	nere vivo il ricordo delle giovani\nvittime\, contribuisce alla memoria co
	llettiva dei popoli e delle culture della\nregione\, dando centralità al c
	inema kurdo\, a lungo bersaglio di persecuzioni\nalla pari di ogni altra e
	spressione culturale kurda. \n\nSolo grazie alla rivoluzione del 2012 è st
	ato possibile dare nuovo slancio alle\narti visive\, attraverso il lavoro 
	della Komîna Fîlm a Rojava - Comune del Cinema\ndel Rojava - collettivo di
	 giovani cineasti e cineaste che dal 2015 lavora\nattivamente nella region
	e per ricostruire e organizzare le infrastrutture del\ncinema e dell’educa
	zione cinematografica. Impegnata nella promozione della\ncultura locale\, 
	la Comune del Cinema di Rojava organizza proiezioni di film\nitineranti pe
	r la cittadinanza e corsi annuali sulle competenze\ncinematografiche\, avv
	icinando i giovani e le giovani alla passione e alle\nprofessioni del sett
	ore. Grazie alla sua Accademia del Cinema\, una nuova\ngenerazioni di cine
	asti e cineaste è oggi attiva in Rojava\, riuscendo a\nrappresentare i val
	ori e gli ideali della rivoluzione del Rojava\, ma anche a\nraccontare le 
	lotte quotidiane nella guerra civile siriana e dare voce e forma\nalla sfi
	da collettiva di costruire una nuova società\, dopo decenni di\noppression
	e e censura linguistico-culturale.\n\nLa raccolta fondi contribuirà alla c
	ostruzione di una struttura sostenibile\,\naccogliente ed inclusiva\, prog
	ettata non solo per proiezioni\, spettacoli\nteatrali ed eventi pubblici\,
	 ma anche per residenze artistiche e laboratori\nformativi: una vera offic
	ina culturale e artistica per offrire alle cittadine e\nai cittadini\, e i
	n particolare alle nuove generazioni spazi e percorsi\nespressivi.\n\nLa r
	icostruzione del Cinema Amude in Rojava rappresenta molto più di un sempli
	ce\nedificio\; è un simbolo di resistenza e rinascita culturale.
URL:https://lapunta.org/event/super-cinema-segreto-summer-moccolo-edition
LOCATION:NextEmerson - Via di Bellagio 15\, zona Castello - Firenze
STATUS:CONFIRMED
CATEGORIES:cena popolare,cinema,film,giardino,movie,nextemerson,proiezione
X-ALT-DESC;FMTTYPE=text/html:<p>Proiezioni clandestine a sorpresa al CSA Ne
	xt Emerson:</p><p><strong>Lunedì 10 giugno</strong></p><p><strong>Lunedì 1
	7 giugno</strong></p><p><strong>Lunedì 1 luglio</strong></p><ul><li><p>Ore
	 20.30 cena benefit per la ricostruzione del nuovo Cinema Amude in Rojava<
	/p></li><li><p>Ore 21.30 Filmaccio</p></li></ul><p>Insomma vieni, ci vedia
	mo un film in compagnia, è la SUMMER MOCCOLO EDITION, ma che hai da fare d
	i lunedì sera!</p><p>No, il film in anticipo non te lo diciamo, lo si scop
	re la sera stessa.</p><p>Siamo in giardino.</p><p>------------------------
	--------------------------------------------------------------------------
	----------------------------</p><p>Durante le tre serate benefit r<strong>
	accolta fondi per la ricostruzione del nuovo Cinema Amude in Rojava</stron
	g></p><p><strong>Un contributo, quindi, alla ricostruzione del primo cinem
	a per le comunità del Rojava nella città di Amude, nella regione autonoma 
	del Rojava/Nord-Est della Siria.</strong></p><p>Il progetto, a cura della 
	Comune del Cinema del Rojava, offrirà uno spazio per le attività artistich
	e e culturali, oltre che un centro di promozione delle arti visive.</p><p>
	Iil cinema di Amude fu distrutto da un incendio nel 1960. Una tragedia ann
	unciata, che portò alla morte 282 bambini e bambine durante una proiezione
	 organizzata dal regime baathista nonostante l’allarme sicurezza per le pr
	ecarie condizioni della struttura. Una strage di giovanissimi, tra gli ott
	o e quindici anni, che ancora oggi rappresenta una ferita aperta nel vissu
	to della comunità.</p><p>La ricostruzione del cinema, oltre che mantenere 
	vivo il ricordo delle giovani vittime, contribuisce alla memoria collettiv
	a dei popoli e delle culture della regione, dando centralità al cinema kur
	do, a lungo bersaglio di persecuzioni alla pari di ogni altra espressione 
	culturale kurda.&nbsp;</p><p>Solo grazie alla rivoluzione del 2012 è stato
	 possibile dare nuovo slancio alle arti visive, attraverso il lavoro della
	 Komîna Fîlm a Rojava - Comune del Cinema del Rojava - collettivo di giova
	ni cineasti e cineaste che dal 2015 lavora attivamente nella regione per r
	icostruire e organizzare le infrastrutture del cinema e dell’educazione ci
	nematografica. Impegnata nella promozione della cultura locale, la Comune 
	del Cinema di Rojava organizza proiezioni di film itineranti per la cittad
	inanza e corsi annuali sulle competenze cinematografiche, avvicinando i gi
	ovani e le giovani alla passione e alle professioni del settore. Grazie al
	la sua Accademia del Cinema, una nuova generazioni di cineasti e cineaste 
	è oggi attiva in Rojava, riuscendo a rappresentare i valori e gli ideali d
	ella rivoluzione del Rojava, ma anche a raccontare le lotte quotidiane nel
	la guerra civile siriana e dare voce e forma alla sfida collettiva di cost
	ruire una nuova società, dopo decenni di oppressione e censura linguistico
	-culturale.</p><p><strong>La raccolta fondi contribuirà alla costruzione d
	i una struttura sostenibile</strong>, accogliente ed inclusiva, progettata
	 non solo per proiezioni, spettacoli teatrali ed eventi pubblici, ma anche
	 per residenze artistiche e laboratori formativi: una vera officina cultur
	ale e artistica per offrire alle cittadine e ai cittadini, e in particolar
	e alle nuove generazioni spazi e percorsi espressivi.</p><p>La ricostruzio
	ne del Cinema Amude in Rojava rappresenta molto più di un semplice edifici
	o; è un simbolo di resistenza e rinascita culturale.</p>
END:VEVENT
BEGIN:VEVENT
UID:3217@lapunta.org
SUMMARY:SUPER CINEMA SEGRETO
DTSTAMP:20260423T154817Z
DTSTART:20231228T200000Z
DTEND:20231228T220000Z
DESCRIPTION:SUPER CINEMA SEGRETO new diffuso edition! A dicembre lo trovate
	 al Circolo Arci\nLe Panche - Il Campino - presso Genepì\, via G. Caccini 
	13/B (FI).\n\nULTIMO APPUNTAMENTO della rassegna cinematografica clandesti
	na a sorpresa!!!!\n\nSiateci. Per accedere alla chat telegram super segret
	a\, inquadrare il QrCode\ndella locandina.
URL:https://lapunta.org/event/super-cinema-segreto-5
LOCATION:circolo "il campino" Firenze Rifredi - Via Caccini -Rifredi Firenz
	e -
STATUS:CONFIRMED
CATEGORIES:cineforum,cinema,circolo,film,movie
X-ALT-DESC;FMTTYPE=text/html:<p>SUPER CINEMA SEGRETO new diffuso edition! A
	 dicembre lo trovate al Circolo Arci Le Panche - Il Campino - presso Genep
	ì, via G. Caccini 13/B (FI).</p><p>ULTIMO APPUNTAMENTO della rassegna cine
	matografica clandestina <u>a sorpresa</u>!!!!</p><p>Siateci. Per accedere 
	alla chat telegram super segreta, inquadrare il QrCode della locandina.</p
	>
END:VEVENT
BEGIN:VEVENT
UID:3216@lapunta.org
SUMMARY:SUPER CINEMA SEGRETO
DTSTAMP:20260423T154817Z
DTSTART:20231221T200000Z
DTEND:20231221T220000Z
DESCRIPTION:SUPER CINEMA SEGRETO new diffuso edition! A dicembre lo trovate
	 al Circolo Arci\nLe Panche - Il Campino - presso Genepì\, via G. Caccini 
	13/B (FI).\n\nLa rassegna cinematografica clandestina a sorpresa vi aspett
	a i giorni:\n\n * 14/12/2023\n\n * 21/12/2023\n\n * 28/12/2023\n   \n\nSia
	teci. Per accedere alla chat telegram super segreta\, inquadrare il QrCode
	\ndella locandina.
URL:https://lapunta.org/event/super-cinema-segreto-4
LOCATION:circolo "il campino" Firenze Rifredi - Via Caccini -Rifredi Firenz
	e -
STATUS:CONFIRMED
CATEGORIES:cineforum,cinema,circolo,film,movie
X-ALT-DESC;FMTTYPE=text/html:<p>SUPER CINEMA SEGRETO new diffuso edition! A
	 dicembre lo trovate al Circolo Arci Le Panche - Il Campino - presso Genep
	ì, via G. Caccini 13/B (FI).</p><p>La rassegna cinematografica clandestina
	 <u>a sorpresa</u> vi aspetta i giorni:</p><ul><li><p>14/12/2023</p></li><
	li><p>21/12/2023</p></li></ul><ul><li><p>28/12/2023<br></p></li></ul><p>Si
	ateci. Per accedere alla chat telegram super segreta, inquadrare il QrCode
	 della locandina.</p>
END:VEVENT
END:VCALENDAR
