BEGIN:VCALENDAR
VERSION:2.0
CALSCALE:GREGORIAN
PRODID:adamgibbons/ics
METHOD:PUBLISH
X-PUBLISHED-TTL:PT1H
BEGIN:VEVENT
UID:3914@lapunta.org
SUMMARY:Apericena benefit palestra popolare sanpietrino
DTSTAMP:20260423T221738Z
DTSTART:20240619T160000Z
DTEND:20240619T220000Z
DESCRIPTION:APERICENA BENEFIT PALESTRA POPOLARE SANPIETRINO\n\nIl 19 Giugno
	 siamo lietə di invitarvi ad un nuovo evento targato sanpietrino\n\nsi ini
	zia alle 18:00 (circa) con allenamento collettivo di boxe e acrobatica\nae
	rea\n\ndalle 19 alle 23:30 muoviamo le chiappe con DJ calvé\n\ndalle 20:00
	 cena vegana e non cucinata dalle mani sapienti deglə atletə\n\nPassate a 
	trovarci e a condividere la bellezza dello sport POPOLARE\n\n_____________
	_______________________________________________________\nCi trovate in : V
	ia di Bellagio\, 15\, 50141 Firenze FI\nPer arrivare con i mezzi: Stazione
	 di Firenze Castello o Autobus 28-2 con\ncoincidenza in Piazza Dalmazia Tr
	amvia T1\n\n___________________________
URL:https://lapunta.org/event/apericena-benefit-palestra-popolare-sanpietri
	no
LOCATION:Csa Next-Emerson - Via di Bellagio 15
STATUS:CONFIRMED
CATEGORIES:Palestra Popolare Sanpietrino,allenamento collettivo,cena popola
	re,palestra,popolare
X-ALT-DESC;FMTTYPE=text/html:<p>APERICENA BENEFIT PALESTRA POPOLARE SANPIET
	RINO</p><p>Il 19 Giugno siamo lietə di invitarvi ad un nuovo evento targat
	o sanpietrino</p><p>si inizia alle 18:00 (circa) con allenamento collettiv
	o di boxe e acrobatica aerea</p><p>dalle 19 alle 23:30 muoviamo le chiappe
	 con DJ calvé</p><p>dalle 20:00 cena vegana e non cucinata dalle mani sapi
	enti deglə atletə</p><p>Passate a trovarci e a condividere la bellezza del
	lo sport POPOLARE</p><p>__________________________________________________
	__________________<br>Ci trovate in : Via di Bellagio, 15, 50141 Firenze F
	I<br>Per arrivare con i mezzi: Stazione di Firenze Castello o Autobus 28-2
	 con coincidenza in Piazza Dalmazia Tramvia T1</p><p>_____________________
	______</p>
END:VEVENT
END:VCALENDAR
