BEGIN:VCALENDAR
VERSION:2.0
CALSCALE:GREGORIAN
PRODID:adamgibbons/ics
METHOD:PUBLISH
X-PUBLISHED-TTL:PT1H
BEGIN:VEVENT
UID:474@lapunta.org
SUMMARY:live Gufonero / Carrito / WJM / Dj set Electro
DTSTAMP:20260420T085743Z
DTSTART:20220417T190000Z
DTEND:20220417T213000Z
DESCRIPTION:Il nEXt Emerson presenta:\nGufonero (sludge noise da Trento)\nC
	arrito (prog-O noise duo da Firenze)\nWjm (scratch&glitch&noise da Firenze
	/Berlinen)\n\nGufonero:\nI gufonero nascono in Trentino dalle ceneri degli
	 Xarabras (un trio: due bassi e\nbatteria nati nel 2013-2014). Sono un duo
	 basso (Marcella Spaggiari) e batteria\n(Andrea Bertagnolli) con alcune pa
	rti noise. Si possono classificare come un\ngruppo sludge-noise atipico. N
	el 2016 hanno fatto uscire un 7"\, nel 2017 uno\nsplit 7" con i trentini S
	overeign e nel 2018 uno split Lp con i toscani La\nCuenta e nel Maggio 202
	1 un lp dal nome "Ipnagogico".\nhttps://gufonero.bandcamp.com/music [https
	://gufonero.bandcamp.com/music]\n\n\nCarrito:\nnuovissimo duo fiorentino/s
	iculo di Nicola Naotodate (La Cuenta\, Gargamella\,\nFemina Ridens ex Hate
	 & Merda e altre migliaia di robe ex e casuali) e Carmelo\nCaponnetto al b
	asso sempre distorto. Tra stoner\, sludge\, prog e rumore. Un\ncalderone a
	lla sua prima cottura\, dato che sarà la prima esibizione live.\n\nWJM:\nn
	e ha fatte tante. Membro degli storici Jelousy Party\, fondatrice della Bu
	rp\nEnterprise e dei Sistemi Audiofonici Burp. Un CDJ\, una linea e vai di
	\ndistruzione sonora.\nhttps://www.burpenterprise.com/burp/ [https://www.b
	urpenterprise.com/burp/]\n\nA seguire i Dj Bordatino e Jimmy Gelli impiatt
	eranno electro sempre più\ncroccante\, in un work in progress di contamina
	zioni continue.\n\nOre 21:00 non venite tardi  
URL:https://lapunta.org/event/live-gufonero-carrito-bordatino
LOCATION:NextEmerson - Via di Bellagio 15\, zona Castello - Firenze
STATUS:CONFIRMED
CATEGORIES:concerti,emerson,live,nextemerson,prog,sludge
X-ALT-DESC;FMTTYPE=text/html:<p>Il nEXt Emerson presenta:<br><strong>Gufone
	ro</strong> (sludge noise da Trento)<br><strong>Carrito</strong> (prog-O n
	oise duo da Firenze)<br><strong>Wjm</strong> (scratch&amp;glitch&amp;noise
	 da Firenze/Berlinen)</p><p><strong>Gufonero:</strong><br>I gufonero nasco
	no in Trentino dalle ceneri degli Xarabras (un trio: due bassi e batteria 
	nati nel 2013-2014). Sono un duo basso (Marcella Spaggiari) e batteria (An
	drea Bertagnolli) con alcune parti noise. Si possono classificare come un 
	gruppo sludge-noise atipico. Nel 2016 hanno fatto uscire un 7", nel 2017 u
	no split 7" con i trentini Sovereign e nel 2018 uno split Lp con i toscani
	 La Cuenta e nel Maggio 2021 un lp dal nome "Ipnagogico".<br><a target="_b
	lank" href="https://gufonero.bandcamp.com/music">https://gufonero.bandcamp
	.com/music</a><br></p><p><strong>Carrito:</strong><br>nuovissimo duo fiore
	ntino/siculo di Nicola Naotodate (La Cuenta, Gargamella, Femina Ridens ex 
	Hate &amp; Merda e altre migliaia di robe ex e casuali) e Carmelo Caponnet
	to al basso sempre distorto. Tra stoner, sludge, prog e rumore. Un caldero
	ne alla sua prima cottura, dato che sarà la prima esibizione live.</p><p><
	strong>WJM</strong>:<br>ne ha fatte tante. Membro degli storici Jelousy Pa
	rty, fondatrice della Burp Enterprise e dei Sistemi Audiofonici Burp. Un C
	DJ, una linea e vai di distruzione sonora.<br><a target="_blank" href="htt
	ps://www.burpenterprise.com/burp/">https://www.burpenterprise.com/burp/</a
	></p><p>A seguire i <strong>Dj Bordatino</strong> e <strong>Jimmy Gelli</s
	trong> impiatteranno electro sempre più croccante, in un work in progress 
	di contaminazioni continue.</p><p>Ore 21:00 non venite tardi&nbsp;&nbsp;</
	p>
END:VEVENT
END:VCALENDAR
