BEGIN:VCALENDAR
VERSION:2.0
CALSCALE:GREGORIAN
PRODID:adamgibbons/ics
METHOD:PUBLISH
X-PUBLISHED-TTL:PT1H
BEGIN:VEVENT
UID:4549@lapunta.org
SUMMARY:Serata HC benefit per I compagni e le compagne Fiorentini inguaiati
	 con la legge
DTSTAMP:20260423T201425Z
DTSTART:20250201T190000Z
DESCRIPTION:🚩Sabato 1 Febbraio 2025\nSerata HC benefit per I compagni e le 
	compagne Fiorentini inguaiati con la\nlegge.\n\nIl ricavato della serata a
	ndrà a sostegno delle spese legali per i compagni e le\ncompagne sotto pro
	cesso per aver praticato la solidarietà verso i carcerati di\nsollicciano.
	\nIn un mondo che vede sempre più avvicinarsi il baratro in cui ci troviam
	o sempre\npiù a dover fare i conti con guerre e repressione\, organizzarsi
	 e praticare la\nsolidarietà è fondamentale.\nFUOCO ALLE GALERE!\n________
	__________________________________\n\nOre 20:00 cena sociale\n\nOre 22:00 
	inizio live con:\n\n# Carlos Dunga (Firenze HC)\n\n# Alfatec (punk HC da F
	irenze)\n\n# Across (hardcore da Cosenza)
URL:https://lapunta.org/event/serata-hc-benefit-per-i-compagni-e-le-compagn
	e-fiorentini-inguaiati-con-la-legge
LOCATION:CPA Firenze sud - Via di Villamagna 27/a\, Firenze
STATUS:CONFIRMED
CATEGORIES:Firenze,benefit,cena benefit,hc,punk,punk hc,serata
X-ALT-DESC;FMTTYPE=text/html:<h2></h2><p>🚩Sabato 1 Febbraio 2025 <br>Serata
	 HC benefit per I compagni e le compagne Fiorentini inguaiati con la legge
	.<br><br>Il ricavato della serata andrà a sostegno delle spese legali per 
	i compagni e le compagne sotto processo per aver praticato la solidarietà 
	verso i carcerati di sollicciano.<br>In un mondo che vede sempre più avvic
	inarsi il baratro in cui ci troviamo sempre più a dover fare i conti con g
	uerre e repressione, organizzarsi e praticare la solidarietà è fondamental
	e.<br>FUOCO ALLE GALERE!<br>__________________________________________ <br
	><br>Ore 20:00 cena sociale <br><br>Ore 22:00 inizio live con: <br><br># C
	arlos Dunga (Firenze HC) <br><br># Alfatec (punk HC da Firenze) <br><br># 
	Across (hardcore da Cosenza)</p>
END:VEVENT
BEGIN:VEVENT
UID:1025@lapunta.org
SUMMARY:Cena e serata all'Associazione Il Melograno
DTSTAMP:20260423T201425Z
DTSTART:20221012T180000Z
DTEND:20221012T215500Z
DESCRIPTION:Associazione il Melograno:\n\nh20 aperitivo\n\nh21 cena caserec
	cia 1\,50 euro\n\nh22 Fabio Bussonati "L'alternativa a portata di mano"\n\
	nDurante la serata ci saranno due postazioni di teatro in miniatura a cura
	 del\ncollettivo Lambe Lambe Italia
URL:https://lapunta.org/event/cena-e-serata-allassociazione-il-melograno
LOCATION:Associazione Il Melograno - Via Aretina 513
STATUS:CONFIRMED
CATEGORIES:Cena,aperitivo,cena,melograno,presentazione,serata,teatro
X-ALT-DESC;FMTTYPE=text/html:<p>Associazione il Melograno:</p><p>h20 aperit
	ivo</p><p>h21 cena casereccia 1,50 euro</p><p>h22 Fabio Bussonati "L'alter
	nativa a portata di mano"</p><p>Durante la serata ci saranno due postazion
	i di teatro in miniatura a cura del collettivo Lambe Lambe Italia</p>
END:VEVENT
END:VCALENDAR
