BEGIN:VCALENDAR
VERSION:2.0
CALSCALE:GREGORIAN
PRODID:adamgibbons/ics
METHOD:PUBLISH
X-PUBLISHED-TTL:PT1H
BEGIN:VEVENT
UID:4511@lapunta.org
SUMMARY:Cena benefit Saharawi - Palestra Popolare Sanpietrino
DTSTAMP:20260424T080616Z
DTSTART:20250127T193000Z
DTEND:20250127T220000Z
DESCRIPTION:Cena benefit per l'acquisto di materiale sportivo per le palest
	re dei campi\nprofughi saharawi\n\n19:00 allenamento in palestra\n\n20:30 
	cena benefit vegana\n\nper prenotazione scrivere al 3453771352\n\na seguir
	e interventi sul shara occidentale e proiezione documentario
URL:https://lapunta.org/event/cena-benefit-sharawi-palestra-popolare-sanpie
	trino
LOCATION:Csa Next-Emerson - Via di Bellagio 15
STATUS:CONFIRMED
CATEGORIES:cena benefit,nextemerson,palestra sanpietrino,sharawi
X-ALT-DESC;FMTTYPE=text/html:<p>Cena benefit per l'acquisto di materiale sp
	ortivo per le palestre dei campi profughi saharawi</p><p>19:00 allenamento
	 in palestra</p><p>20:30 cena benefit vegana</p><p>per prenotazione scrive
	re al 3453771352</p><p>a seguire interventi sul shara occidentale e proiez
	ione documentario</p>
END:VEVENT
END:VCALENDAR
