BEGIN:VCALENDAR
VERSION:2.0
CALSCALE:GREGORIAN
PRODID:adamgibbons/ics
METHOD:PUBLISH
X-PUBLISHED-TTL:PT1H
BEGIN:VEVENT
UID:3364@lapunta.org
SUMMARY:Associazione Il Melograno
DTSTAMP:20260421T081439Z
DTSTART:20240207T190000Z
DTEND:20240207T225500Z
DESCRIPTION:Cena + Le "SOVVER Ti AMO" con "Lo scambio"\n\na seguire talent 
	show
URL:https://lapunta.org/event/associazione-il-melograno
LOCATION:Associazione Il Melograno - Via Aretina 513
STATUS:CONFIRMED
CATEGORIES:Cena,cena,melograno,show,talent
X-ALT-DESC;FMTTYPE=text/html:<p>Cena + Le "SOVVER Ti AMO" con "Lo scambio"<
	/p><p>a seguire talent show</p>
END:VEVENT
END:VCALENDAR
