BEGIN:VCALENDAR
VERSION:2.0
CALSCALE:GREGORIAN
PRODID:adamgibbons/ics
METHOD:PUBLISH
X-PUBLISHED-TTL:PT1H
BEGIN:VEVENT
UID:6070@lapunta.org
SUMMARY:🇵🇸 Presidio a Empoli. Stop War fermiamo la guerra 🇱🇧
DTSTAMP:20260420T085922Z
DTSTART:20260410T163000Z
DTEND:20260410T183000Z
DESCRIPTION:🚩 È giunta l'ora di deporre i re e di fermare la guerra!\n\n#Em
	poli presidio Venerdì 10 Aprile ore 18.30\; piazza della Vittoria StopWar 
	🇵🇸\n🇨🇺 🇱🇧\n\nQui l'appello dell'@arciempolesevaldelsaaps\n\nLa furia imperial
	ista statunitense e israeliana stanno portando il mondo\nsull’orlo di una 
	nuova guerra mondiale. Il “pericolo scampato” nella notte tra\nmartedì e m
	ercoledì non è una garanzia di pace. Mentre a #Gaza prosegue il\ngenocidio
	 e la Cisgiordania è in fiamme\, Israele approva la pena di morte per i\np
	rigionieri palestinesi e continua a bombardare e a uccidere in #Libano. Ne
	l\nfrattempo gli Stati Uniti prima iniziano una guerra contro l’Iran senza
	 nemmeno\nbisogno di un pretesto e poi minacciano di spazzare via una inte
	ra civiltà o di\nriportarla all’età della pietra\, mentre portano milioni 
	di persone allo stremo\ninasprendo l’embargo criminale contro Cuba.\n\nSul
	lo sfondo le nostre istituzioni\, da quelle europee a quelle nazionali\,\n
	rimangono inerti e in silenzio.\n\nVenerdì 10 aprile scendiamo in piazza p
	er rivendicare lo stop agli attacchi\nisraeliani a Gaza\, nei Territori Oc
	cupati e in Libano e la liberazione di Cuba\ndal bloqueo. Chiediamo che l’
	Italia e l’Europa prendano le distanze dalle\ncontinue violazioni del diri
	tto da parte di Stati Uniti e Israele. Pretendiamo\ngiustizia e libertà pe
	r i popoli\, che sia garantita autodeterminazione e\ndemocrazia fuori da i
	mperialismo e colonialismo!\n\n@nokingsitaly
URL:https://lapunta.org/event/presidio-a-empoli-stop-war-fermiamo-la-guerra
LOCATION:Empoli piazza della Vittoria - Piazza della Vittoria
STATUS:CONFIRMED
CATEGORIES:Csa Intifada,Cuba,Empoli,FreePalestine,Iran,Libano,Nokings,Stopw
	ar,presidio,stopgenocidio,🇵🇸 PALESTINA
X-ALT-DESC;FMTTYPE=text/html:<p>🚩 È giunta l'ora di deporre i re e di ferma
	re la guerra!</p><p>#Empoli presidio Venerdì 10 Aprile ore 18.30; piazza d
	ella Vittoria StopWar 🇵🇸 🇨🇺 🇱🇧</p><p>Qui l'appello dell'@arciempolesevaldelsa
	aps</p><p>La furia imperialista statunitense e israeliana stanno portando 
	il mondo sull’orlo di una nuova guerra mondiale. Il “pericolo scampato” ne
	lla notte tra martedì e mercoledì non è una garanzia di pace. Mentre a #Ga
	za prosegue il genocidio e la Cisgiordania è in fiamme, Israele approva la
	 pena di morte per i prigionieri palestinesi e continua a bombardare e a u
	ccidere in #Libano. Nel frattempo gli Stati Uniti prima iniziano una guerr
	a contro l’Iran senza nemmeno bisogno di un pretesto e poi minacciano di s
	pazzare via una intera civiltà o di riportarla all’età della pietra, mentr
	e portano milioni di persone allo stremo inasprendo l’embargo criminale co
	ntro Cuba.</p><p>Sullo sfondo le nostre istituzioni, da quelle europee a q
	uelle nazionali, rimangono inerti e in silenzio.</p><p>Venerdì 10 aprile s
	cendiamo in piazza per rivendicare lo stop agli attacchi israeliani a Gaza
	, nei Territori Occupati e in Libano e la liberazione di Cuba dal bloqueo.
	 Chiediamo che l’Italia e l’Europa prendano le distanze dalle continue vio
	lazioni del diritto da parte di Stati Uniti e Israele. Pretendiamo giustiz
	ia e libertà per i popoli, che sia garantita autodeterminazione e democraz
	ia fuori da imperialismo e colonialismo!</p><p>@nokingsitaly</p>
END:VEVENT
BEGIN:VEVENT
UID:5491@lapunta.org
SUMMARY:🇵🇸  Presidio per Wafa e Mohamed 🇵🇸
DTSTAMP:20260420T085922Z
DTSTART:20251102T180000Z
DTEND:20251102T210000Z
DESCRIPTION:🇵🇸 COMUNICATO STAMPA – CSA INTIFADA EMPOLI\n\n#Empoli\, 29 ottob
	re 2025\n\nAl fianco di Wafa\, di Mohamed e del popolo palestinese:come Cs
	a Intifada\naderiamo al presidio indetto dal comitato Empoli per la pace p
	er domenica 2\nnovembre alle ore 19 in piazza della Vittoria a Empoli.\n\n
	La notizia dell’uccisione di nove familiari di Wafa\, donna palestinese ch
	e da\nanni vive a Empoli insieme al marito Mohamed e ai loro cinque figli\
	, ci colpisce\nduramente nel profondo\, quasi a toglierci il fiato.\n\nNel
	la notte tra il 28 e il 29 ottobre\, durante quella che avrebbe dovuto ess
	ere\nuna tregua\, l’esercito israeliano ha bombardato nuovamente la Strisc
	ia di #Gaza\,\nspezzando oltre cento vite in poche ore.\n\nCome CSA Intifa
	da esprimiamo le nostre più sentite condoglianze e la nostra\nsolidarietà 
	militante a Wafa\, Mohamed e alla loro famiglia.\n\nLa loro sofferenza è l
	a sofferenza di un intero popolo oppresso da più di\nquattro generazioni\,
	 privato della libertà\, delle loro terre\, annientato nel\npresente e pri
	vato del proprio futuro.\n\nAncora una volta\, Israele dimostra la sua com
	pleta inaffidabilità come\ninterlocutore politico: anche davanti a un prin
	cipio d’accordo che avrebbe\ndovuto fermare le armi\, continua a colpire c
	ivili\, donne e bambini\, violando\nogni norma del diritto internazionale 
	e ogni principio di umanità.\n\nNon è questa la pace. Questa è la prosecuz
	ione dell’occupazione\, la conferma di\nuna logica coloniale che punta all
	a cancellazione del popolo palestinese\,\nmagnifico esempio di Resistenza.
	\n\nDa sempre la nostra esperienza antifascista e internazionalista ricono
	sce nella\nlotta del popolo palestinese una battaglia di libertà e giustiz
	ia\, parte\nintegrante della più ampia lotta contro ogni forma di oppressi
	one\, razzismo\,\napartheid e imperialismo.\n\nPer questo continuiamo a no
	n restare in silenzio davanti all’ennesima strage e\nalla complicità dei g
	overni occidentali\, Italia in primis\, che continuano a\nsostenere Israel
	e politicamente\, militarmente ed economicamente.\n\nInvitiamo tuttə a par
	tecipare al presidio di solidarietà e protesta che si terrà\ndomenica 2 no
	vembre\, ore 19\, alla Tenda per la Pace in piazza della Vittoria\,\nEmpol
	i.\n\nSarà un momento di lutto\, denuncia e impegno collettivo.\n\nPer la 
	libertà della #Palestina e sanzionare duramente Israele.\n\nPer la giustiz
	ia.\n\nPerché nessuno debba più piangere i propri cari sotto le bombe.\n\n
	STOP AL GENOCIDIO\n\n🇵🇸 #FREEGAZA #FREEPALESTINE 🇵🇸\n\nCSA Intifada/Comunità
	 in Resistenza Empoli
URL:https://lapunta.org/event/presidio-per-waafa-e-mohamed
LOCATION:Empoli piazza della Vittoria - Piazza della Vittoria
STATUS:CONFIRMED
CATEGORIES:Csa Intifada,Empoli,FreePalestine,Gaza,Gaza Calling,freegaza,pre
	sidio,solidarietà,stopgenocidio,🇵🇸 PALESTINA
X-ALT-DESC;FMTTYPE=text/html:<p>🇵🇸 COMUNICATO STAMPA – CSA INTIFADA EMPOLI</
	p><p>#Empoli, 29 ottobre 2025</p><p>Al fianco di Wafa, di Mohamed e del po
	polo palestinese:come Csa Intifada aderiamo al presidio indetto dal comita
	to Empoli per la pace per domenica 2 novembre alle ore 19 in piazza della 
	Vittoria a Empoli.</p><p>La notizia dell’uccisione di nove familiari di Wa
	fa, donna palestinese che da anni vive a Empoli insieme al marito Mohamed 
	e ai loro cinque figli, ci colpisce duramente nel profondo, quasi a toglie
	rci il fiato.</p><p>Nella notte tra il 28 e il 29 ottobre, durante quella 
	che avrebbe dovuto essere una tregua, l’esercito israeliano ha bombardato 
	nuovamente la Striscia di #Gaza, spezzando oltre cento vite in poche ore. 
	</p><p>Come CSA Intifada esprimiamo le nostre più sentite condoglianze e l
	a nostra solidarietà militante a Wafa, Mohamed e alla loro famiglia. </p><
	p>La loro sofferenza è la sofferenza di un intero popolo oppresso da più d
	i quattro generazioni, privato della libertà, delle loro terre, annientato
	 nel presente e privato del proprio futuro.</p><p>Ancora una volta, Israel
	e dimostra la sua completa inaffidabilità come interlocutore politico: anc
	he davanti a un principio d’accordo che avrebbe dovuto fermare le armi, co
	ntinua a colpire civili, donne e bambini, violando ogni norma del diritto 
	internazionale e ogni principio di umanità.</p><p>Non è questa la pace. Qu
	esta è la prosecuzione dell’occupazione, la conferma di una logica colonia
	le che punta alla cancellazione del popolo palestinese, magnifico esempio 
	di Resistenza.</p><p>Da sempre la nostra esperienza antifascista e interna
	zionalista riconosce nella lotta del popolo palestinese una battaglia di l
	ibertà e giustizia, parte integrante della più ampia lotta contro ogni for
	ma di oppressione, razzismo, apartheid e imperialismo.</p><p>Per questo co
	ntinuiamo a non restare in silenzio davanti all’ennesima strage e alla com
	plicità dei governi occidentali, Italia in primis, che continuano a sosten
	ere Israele politicamente, militarmente ed economicamente.</p><p>Invitiamo
	 tuttə a partecipare al presidio di solidarietà e protesta che si terrà do
	menica 2 novembre, ore 19, alla Tenda per la Pace in piazza della Vittoria
	, Empoli.</p><p>Sarà un momento di lutto, denuncia e impegno collettivo.</
	p><p>Per la libertà della #Palestina e sanzionare duramente Israele.</p><p
	>Per la giustizia.</p><p>Perché nessuno debba più piangere i propri cari s
	otto le bombe.</p><p>STOP AL GENOCIDIO </p><p>🇵🇸 #FREEGAZA #FREEPALESTINE 🇵🇸
	</p><p>CSA Intifada/Comunità in Resistenza Empoli</p>
END:VEVENT
BEGIN:VEVENT
UID:5410@lapunta.org
SUMMARY:Decolonizziamo l'Università - con Mjriam Abu Samra - Dibattito e ce
	na
DTSTAMP:20260420T085922Z
DTSTART:20251012T180000Z
DTEND:20251012T210000Z
DESCRIPTION:Negli ultimi tempi\, la gravità dei crimini del regime sionista
	 ha portato\nsettori sempre più larghi a denunciare il genocidio invocando
	 il rispetto del\ndiritto internazionale. Ma è sufficiente\, oppure è nece
	ssario ripensare le\nstesse categorie con cui affrontiamo la solidarietà c
	on la lotta per la\nPalestina? Dibattere di questo tema è particolarmente 
	centrale nella lotta per\nil boicottaggio accademico di Israele.\n\nNe par
	liamo al plesso di Via Laura occupata con Mjriam Abu Samra\, ricercatrice\
	nitalo-palestinese e co-autrice del libro "Ritorno a Gaza".\n\nRendiamo l'
	università occupata un presidio di auto-formazione ed elaborazione\npoliti
	ca per rafforzare la mobilitazione contro il genocidio e l'apartheid\nsion
	ista\, sostenuto dalle politiche di tagli e riarmo del governo Meloni.\n\n
	Anche live sul canale youtube de La Voce delle Lotte!
URL:https://lapunta.org/event/decolonizziamo-luniversita-con-mjriam-abu-sam
	ra-dibattito-e-cena
LOCATION:Scuola di Studi Umanistici e della Formazione - Università degli S
	tudi di Firenze - Via Laura\, 48\, 50121 Firenze FI
STATUS:CONFIRMED
CATEGORIES:FreePalestine,Gaza,Palestina,anticapitalismo,anticolonialismo,an
	tiimperialismo,dirittointernazionale,freegaza,occupazione,palestinalibera,
	sciopero,stopgenocidio
X-ALT-DESC;FMTTYPE=text/html:<p>Negli ultimi tempi, la gravità dei crimini 
	del regime sionista ha portato settori sempre più larghi a denunciare il g
	enocidio invocando il rispetto del diritto internazionale. Ma è sufficient
	e, oppure è necessario ripensare le stesse categorie con cui affrontiamo l
	a solidarietà con la lotta per la Palestina? Dibattere di questo tema è pa
	rticolarmente centrale nella lotta per il boicottaggio accademico di Israe
	le.</p><p>Ne parliamo al plesso di Via Laura occupata con Mjriam Abu Samra
	, ricercatrice italo-palestinese e co-autrice del libro "Ritorno a Gaza".<
	/p><p>Rendiamo l'università occupata un presidio di auto-formazione ed ela
	borazione politica per rafforzare la mobilitazione contro il genocidio e l
	'apartheid sionista, sostenuto dalle politiche di tagli e riarmo del gover
	no Meloni.</p><p>Anche live sul canale youtube de La Voce delle Lotte!</p>
END:VEVENT
BEGIN:VEVENT
UID:5327@lapunta.org
SUMMARY:Corteo a sostegno della Global Sumud Flotilla e del popolo Palestin
	ese
DTSTAMP:20260420T085922Z
DTSTART:20250920T150000Z
DTEND:20250920T180000Z
DESCRIPTION:🇵🇸 NON POSSIAMO RESTARE INERMI DAVANTI A QUESTO GENOCIDIO.\nA SO
	STEGNO DELLA Global Sumud Flotilla e della popolazione palestinese  Global
	\nMovement to Gaza Italia\n\nIn Palestina stanno avvenendo i crimini più g
	ravi e impuniti del nostro tempo e\nchi tace è ormai palesemente complice 
	del governo assassino di Israele.\n\nPer questo continuiamo a restare soli
	dali con il popolo palestinese e la sua\neroica Resistenza e convochiamo u
	na manifestazione pubblica cittadina contro il\ngenocidio in corso nella S
	triscia di Gaza.\nCi troveremo tutte e tutti a Empoli sabato 20 settembre 
	alle ore 17\nconcentramento in Piazza della stazione a Empoli.\n\nDecine d
	i migliaia di civili uccisi\, soprattutto bambini\, infrastrutture\ndistru
	tte\, ospedali e scuole bombardati\, fame usata come disumana arma di\ngue
	rra.\nCi troviamo davanti a crimini disumani e intollerabili: eppure\, i g
	overni\noccidentali - Italia in primis - continuano a girarsi dall’altra p
	arte\, quando\naddirittura non sostengono attivamente Israele con armi\, a
	ccordi commerciali e\ndichiarazioni ambigue.\nUn silenzio e un’ipocrisia c
	he grida vendetta\, mentre si predicano diritti umani\nselettivi\, a secon
	da di chi li viola.\n\nIn questo contesto\, assume un valore straordinario
	 la missione della\n@globalsumudflotilla che cerca di rompere l’assedio il
	legale di Gaza portando\naiuti umanitari e\, soprattutto\, un messaggio di
	 solidarietà e resistenza.\n\nMentre i governi costruiscono muri e uccidon
	o la speranza di un mondo migliore\,\nla società civile costruisce ponti\,
	 affermando fraternità e giustizia sociale.\n\nSabato vogliamo dire NO al 
	genocidio in Palestina\, vogliamo denunciare la\ncomplicità del governo it
	aliano e degli altri governi occidentali\, vogliamo\nsostenere la missione
	 della  Global Sumud Flotilla\, esempio concreto di\nsolidarietà internazi
	onalista.\n\nE' ancora più urgente sostenere la Palestina in questa fase: 
	proprio in queste\nore Israele sta sferrando l'attacco risolutivo su Gaza 
	City\, obbligando oltre\n400 mila persone a disperdersi senza meta e indir
	izzandole verso la morte\,\npassando per le armi o colpiti dalla fame.\n\n
	Invitiamo tutte e tutti a partecipare\, a prendere parola\, a non restare\
	nindifferenti\, a sostenere azioni di protesta\, a “restare umani”.\n\nLa 
	storia non assolve le coscienze di chi resta in silenzio.\nDurante il cort
	eo ci sarà un collegamento telefonico con un partecipante alla\nGlobal Sum
	ud Flotilla.\nVi aspettiamo sabato 20 settembre alle ore 17 concentramento
	 in Piazza della\nstazione a Empoli.\n\n🇵🇸 Palestina Libera – Ora e Sempre!
	\nStop al genocidio del popolo palestinese\n🇵🇸 #FreeGaza #FreePalestine\n\n
	Csa intifada/Comunitàinresistenza Empoli \nEmpoli antifascista\nPalestra P
	opolare csa Intifada\n\nPer le adesioni\nEmail info@csaintifada.org [info@
	csaintifada.org]
URL:https://lapunta.org/event/corto-a-sostegno-della-global-sumud-flottilla
	-e-del-popolo-palestinese
LOCATION:Empoli - Piazza Don Minzoni Stazione
STATUS:CONFIRMED
CATEGORIES:Csa Intifada,Empoli,FreePalestine,Global Sumud Flotilla,corteo,s
	topgenocidio,🇵🇸 PALESTINA
X-ALT-DESC;FMTTYPE=text/html:<p>🇵🇸 NON POSSIAMO RESTARE INERMI DAVANTI A QUE
	STO GENOCIDIO.<br>A SOSTEGNO DELLA Global Sumud Flotilla e della popolazio
	ne palestinese&nbsp; Global Movement to Gaza Italia <br><br>In Palestina s
	tanno avvenendo i crimini più gravi e impuniti del nostro tempo e chi tace
	 è ormai palesemente complice del governo assassino di Israele. <br><br>Pe
	r questo continuiamo a restare solidali con il popolo palestinese e la sua
	 eroica Resistenza e convochiamo una manifestazione pubblica cittadina con
	tro il genocidio in corso nella Striscia di Gaza.<br>Ci troveremo tutte e 
	tutti a Empoli sabato 20 settembre alle ore 17 concentramento in Piazza de
	lla stazione a Empoli.<br><br>Decine di migliaia di civili uccisi, sopratt
	utto bambini, infrastrutture distrutte, ospedali e scuole bombardati, fame
	 usata come disumana arma di guerra. <br>Ci troviamo davanti a crimini dis
	umani e intollerabili: eppure, i governi occidentali - Italia in primis - 
	continuano a girarsi dall’altra parte, quando addirittura non sostengono a
	ttivamente Israele con armi, accordi commerciali e dichiarazioni ambigue. 
	<br>Un silenzio e un’ipocrisia che grida vendetta, mentre si predicano dir
	itti umani selettivi, a seconda di chi li viola.<br><br>In questo contesto
	, assume un valore straordinario la missione della @globalsumudflotilla ch
	e cerca di rompere l’assedio illegale di Gaza portando aiuti umanitari e, 
	soprattutto, un messaggio di solidarietà e resistenza.<br><br>Mentre i gov
	erni costruiscono muri e uccidono la speranza di un mondo migliore, la soc
	ietà civile costruisce ponti, affermando fraternità e giustizia sociale.<b
	r><br>Sabato vogliamo dire NO al genocidio in Palestina, vogliamo denuncia
	re la complicità del governo italiano e degli altri governi occidentali, v
	ogliamo sostenere la missione della&nbsp; Global Sumud Flotilla, esempio c
	oncreto di solidarietà internazionalista. <br><br>E' ancora più urgente so
	stenere la Palestina in questa fase: proprio in queste ore Israele sta sfe
	rrando l'attacco risolutivo su Gaza City, obbligando oltre 400 mila person
	e a disperdersi senza meta e indirizzandole verso la morte, passando per l
	e armi o colpiti dalla fame.<br><br>Invitiamo tutte e tutti a partecipare,
	 a prendere parola, a non restare indifferenti, a sostenere azioni di prot
	esta, a “restare umani”.<br><br>La storia non assolve le coscienze di chi 
	resta in silenzio.<br>Durante il corteo ci sarà un collegamento telefonico
	 con un partecipante alla Global Sumud Flotilla. <br>Vi aspettiamo sabato 
	20 settembre alle ore 17 concentramento in Piazza della stazione a Empoli.
	<br><br>🇵🇸 Palestina Libera – Ora e Sempre!<br>Stop al genocidio del popolo
	 palestinese<br>🇵🇸 #FreeGaza #FreePalestine <br><br>Csa intifada/Comunitàin
	resistenza Empoli&nbsp; <br>Empoli antifascista <br>Palestra Popolare csa 
	Intifada <br><br>Per le adesioni<br>Email <a href="mailto:info@csaintifada
	.org" target="_blank">info@csaintifada.org</a></p>
END:VEVENT
BEGIN:VEVENT
UID:3430@lapunta.org
SUMMARY:STOP GENOCIDE END APARTHEID
DTSTAMP:20260420T085922Z
DTSTART:20240210T140000Z
DTEND:20240210T170000Z
DESCRIPTION:Presidio contro lo sterminio in corso a Gaza e Cisgiordania. Pe
	r la liberta' di\ninformazione e solidarieta' a Julian Assange. Il presidi
	o confluira' nella\nManifestazione indetta da Firenze Antifascista. In sol
	idarieta' alla lotta del\npopolo palestinese. Concentramento ore 16:30 pia
	zza San Lorenzo.\n\nSanitari per Gaza Firenze - Health Workers 4 Palestine
URL:https://lapunta.org/event/stop-genocide-end-apartheid
LOCATION:Piazza dei Ciompi - piazza dei ciompi 
STATUS:CONFIRMED
CATEGORIES:Firenze,Gaza,Palestina,apartheid,assange,stopgenocidio
X-ALT-DESC;FMTTYPE=text/html:<p>Presidio contro lo sterminio in corso a Gaz
	a e Cisgiordania. Per la liberta' di informazione e solidarieta' a Julian 
	Assange. Il presidio confluira' nella Manifestazione indetta da Firenze An
	tifascista. In solidarieta' alla lotta del popolo palestinese. Concentrame
	nto ore 16:30 piazza San Lorenzo.</p><p>Sanitari per Gaza Firenze - Health
	 Workers 4 Palestine</p>
END:VEVENT
BEGIN:VEVENT
UID:3273@lapunta.org
SUMMARY:Stop al genocidio - Chiediamo un cessate il fuoco immediato e perma
	nente !
DTSTAMP:20260420T085922Z
DTSTART:20240113T143000Z
DESCRIPTION:Stop al genocidio a Gaza !\n\nChiediamo un cessate il fuoco imm
	ediato e permanente !\n\nIndossa la divisa e scendi in piazza per dare voc
	e all'appello dei colleghi\npalestinesi:\n\nDenunciamo la catastrofe sanit
	aria inflitta a Gaza !\n\nManifestazioe di sanitari e solidali\n\nAdsioe a
	 titolo individuale\n\nSabato 13 Gennaio Ore 15.30\n\nPiazza Santissima An
	nunziata
URL:https://lapunta.org/event/stop-al-genocidio-chiediamo-un-cessate-il-fuo
	co-immediato-e-permanente
LOCATION:piazza santissima annunziata - piazza Santissima Annunziata\, Fire
	nze
STATUS:CONFIRMED
CATEGORIES:FreePalestine,Gaza,Palestina,sanità,stopgenocidio
X-ALT-DESC;FMTTYPE=text/html:<p>Stop al genocidio a Gaza !</p><p>Chiediamo 
	un cessate il fuoco immediato e permanente !</p><p>Indossa la divisa e sce
	ndi in piazza per dare voce all'appello dei colleghi palestinesi:</p><p><s
	trong>Denunciamo la catastrofe sanitaria inflitta a Gaza !</strong></p><p>
	Manifestazioe di sanitari e solidali</p><p>Adsioe a titolo individuale</p>
	<p>Sabato 13 Gennaio Ore 15.30</p><p>Piazza Santissima Annunziata</p>
END:VEVENT
BEGIN:VEVENT
UID:3274@lapunta.org
SUMMARY:Stop al genocidio a Gaza ! Ceasefire now
DTSTAMP:20260420T085922Z
DTSTART:20240113T133000Z
DESCRIPTION:Stop al genocidio a Gaza !\n\nCeasefire now !\n\nSabato 13 Genn
	aio ore 14.30\n\nCorteo da Piazza dei Ciompi\n\nFirenze per la Palestina
URL:https://lapunta.org/event/stop-al-genocidio-a-gaza-ceasefire-now
LOCATION:Piazza dei Ciompi - piazza dei ciompi 
STATUS:CONFIRMED
CATEGORIES:Ceasefire now,FreePalestine,Gaza,Palestina,stopgenocidio
X-ALT-DESC;FMTTYPE=text/html:<p>Stop al genocidio a Gaza ! </p><p>Ceasefire
	 now !</p><p>Sabato 13 Gennaio ore 14.30</p><p>Corteo da Piazza dei Ciompi
	</p><p>Firenze per la Palestina</p>
END:VEVENT
END:VCALENDAR
