BEGIN:VCALENDAR
VERSION:2.0
CALSCALE:GREGORIAN
PRODID:adamgibbons/ics
METHOD:PUBLISH
X-PUBLISHED-TTL:PT1H
BEGIN:VEVENT
UID:552@lapunta.org
SUMMARY:Alfatec + Lacittàdolente + Bobson dugnut
DTSTAMP:20260424T122954Z
DTSTART:20220522T140000Z
DTEND:20220522T160000Z
DESCRIPTION:Lacittàdolente - math hc\, Milano\n\nBobson dugnut - thrashpunk
	 emilia/berlino\n\nAlfatec - punk n roll local heroes
URL:https://lapunta.org/event/concerto-punk-2
LOCATION:NextEmerson - Via di Bellagio 15\, zona Castello - Firenze
STATUS:CONFIRMED
CATEGORIES:concerti,emerson,hc,live,math,musica,nextemerson,punk,trashpunk
X-ALT-DESC;FMTTYPE=text/html:<p><strong>Lacittàdolente</strong> - math hc, 
	Milano</p><p><strong>Bobson dugnut</strong> - thrashpunk emilia/berlino</p
	><p><strong>Alfatec</strong> - punk n roll local heroes</p>
END:VEVENT
END:VCALENDAR
